Workbook

Sheet Hoja1
B1: 50 pips | C1: 40 pips | D1: 30 pips
A2: 1 | B2: =Hoja2!A2/100000 -> 1.34901 | C2: =Hoja2!D2/100000 -> 1.34697 | D2: =Hoja2!G2/100000 -> 1.34901
A3: 2 | B3: =Hoja2!A3/100000 -> 1.34387 | C3: =Hoja2!D3/100000 -> 1.34295 | D3: =Hoja2!G3/100000 -> 1.34603
A4: 3 | B4: =Hoja2!A4/100000 -> 1.34913 | C4: =Hoja2!D4/100000 -> 1.34697 | D4: =Hoja2!G4/100000 -> 1.34295
A5: 4 | B5: =Hoja2!A5/100000 -> 1.34397 | C5: =Hoja2!D5/100000 -> 1.34297 | D5: =Hoja2!G5/100000 -> 1.34583
A6: 5 | B6: =Hoja2!A6/100000 -> 1.33897 | C6: =Hoja2!D6/100000 -> 1.33897 | D6: =Hoja2!G6/100000 -> 1.34913
A7: 6 | B7: =Hoja2!A7/100000 -> 1.33387 | C7: =Hoja2!D7/100000 -> 1.33485 | D7: =Hoja2!G7/100000 -> 1.34597
A8: 7 | B8: =Hoja2!A8/100000 -> 1.33887 | C8: =Hoja2!D8/1000 -> 1.338 | D8: =Hoja2!G8/100000 -> 1.34299
A9: 8 | B9: =Hoja2!A9/100000 -> 1.34399 | C9: =Hoja2!D9/100000 -> 1.34298 | D9: =Hoja2!G9/10000 -> 1.3399
A10: 9 | B10: =Hoja2!A10/100000 -> 1.33898 | C10: =Hoja2!D10/100000 -> 1.33887 | D10: =Hoja2!G10/100000 -> 1.34297
A11: 10 | B11: =Hoja2!A11/100000 -> 1.33374 | C11: =Hoja2!D11/100000 -> 1.34317 | D11: 1.34
A12: 11 | B12: =Hoja2!A12/100000 -> 1.33808 | C12: =Hoja2!D12/100000 -> 1.33898 | D12: =Hoja2!G12/100000 -> 1.33688
A13: 12 | B13: =Hoja2!A13/100000 -> 1.34261 | C13: =Hoja2!D13/100000 -> 1.33504 | D13: =Hoja2!G13/100000 -> 1.33997
A14: 13 | B14: =Hoja2!A14/10000 -> 1.3486 | C14: =Hoja2!D14/100000 -> 1.33085 | D14: =Hoja2!G14/100000 -> 1.33703
A15: 14 | B15: =Hoja2!A15/100000 -> 1.35404 | C15: =Hoja2!D15/100000 -> 1.33439 | D15: =Hoja2!G15/100000 -> 1.33387
A16: 15 | B16: =Hoja2!A16/100000 -> 1.34873 | C16: =Hoja2!D16/100000 -> 1.33808 | D16: =Hoja2!G16/100000 -> 1.33691
A17: 16 | B17: =Hoja2!A17/100000 -> 1.35387 | C17: =Hoja2!D17/1000 -> 1.342 | D17: =Hoja2!G17/100000 -> 1.33997
A18: 17 | B18: =Hoja2!A18/100000 -> 1.35892 | C18: =Hoja2!D18/100000 -> 1.34608 | D18: =Hoja2!G18/100000 -> 1.33678
A19: 18 | B19: =Hoja2!A19/100000 -> 1.36392 | C19: =Hoja2!D19/100000 -> 1.35101 | D19: =Hoja2!G19/100000 -> 1.33817
A20: 19 | B20: =Hoja2!A20/100000 -> 1.36875 | C20: =Hoja2!D20/100000 -> 1.34692 | D20: =Hoja2!G20/100000 -> 1.34298
A21: 20 | B21: =Hoja2!A21/10000 -> 1.3738 | C21: =Hoja2!D21/100000 -> 1.35103 | D21: =Hoja2!G21/100000 -> 1.33977
A22: 21 | B22: =Hoja2!A22/100000 -> 1.37897 | C22: =Hoja2!D22/100000 -> 1.34668 | D22: =Hoja2!G22/100000 -> 1.34317
A23: 22 | B23: =Hoja2!A23/100000 -> 1.37434 | C23: =Hoja2!D23/100000 -> 1.35085 | D23: =Hoja2!G23/100000 -> 1.33999
A24: 23 | B24: =Hoja2!A24/100000 -> 1.36897 | C24: =Hoja2!D24/100000 -> 1.35487 | D24: =Hoja2!G24/100000 -> 1.33701
A25: 24 | B25: =Hoja2!A25/10000 -> 1.3641 | C25: =Hoja2!D25/100000 -> 1.35892 | D25: =Hoja2!G25/100000 -> 1.33397
A26: 25 | B26: =Hoja2!A26/100000 -> 1.35903 | C26: =Hoja2!D26/10000 -> 1.3628 | D26: =Hoja2!G26/100000 -> 1.33085
A27: 26 | B27: =Hoja2!A27/100000 -> 1.35399 | C27: =Hoja2!D27/100000 -> 1.36687 | D27: =Hoja2!G27/100000 -> 1.33374
A28: 27 | B28: =Hoja2!A28/100000 -> 1.34888 | C28: =Hoja2!D28/100000 -> 1.37072 | D28: =Hoja2!G28/100000 -> 1.33694
A29: 28 | B29: =Hoja2!A29/100000 -> 1.35406 | C29: =Hoja2!D29/100000 -> 1.37479 | D29: =Hoja2!G29/100000 -> 1.33998
A30: 29 | B30: =Hoja2!A30/100000 -> 1.34885 | C30: =Hoja2!D30/100000 -> 1.37884 | D30: =Hoja2!G30/100000 -> 1.33607
A31: 30 | B31: =Hoja2!A31/100000 -> 1.35387 | C31: =Hoja2!D31/100000 -> 1.38304 | D31: =Hoja2!G31/100000 -> 1.33869
A32: 31 | B32: =Hoja2!A32/100000 -> 1.35902 | C32: =Hoja2!D32/100000 -> 1.37898 | D32: =Hoja2!G32/10000 -> 1.3418
A33: 32 | B33: =Hoja2!A33/100000 -> 1.35402 | C33: =Hoja2!D33/100000 -> 1.37488 | D33: =Hoja2!G33/100000 -> 1.34455
A34: 33 | B34: =Hoja2!A34/100000 -> 1.34875 | C34: =Hoja2!D34/100000 -> 1.37897 | D34: =Hoja2!G34/10000 -> 1.3486
A35: 34 | B35: =Hoja2!A35/100000 -> 1.35382 | C35: =Hoja2!D35/1000 -> 1.375 | D35: =Hoja2!G35/100000 -> 1.35205
A36: 35 | B36: =Hoja2!A36/100000 -> 1.35907 | C36: =Hoja2!D36/10000 -> 1.3726 | D36: =Hoja2!G36/10000 -> 1.3488
A37: 36 | B37: =Hoja2!A37/10000 -> 1.3538 | C37: =Hoja2!D37/100000 -> 1.36721 | D37: =Hoja2!G37/100000 -> 1.35204
A38: 37 | B38: =Hoja2!A38/100000 -> 1.35892 | C38: =Hoja2!D38/100000 -> 1.36299 | D38: =Hoja2!G38/100000 -> 1.34906
A39: 38 | B39: =Hoja2!A39/100000 -> 1.36397 | C39: =Hoja2!D39/100000 -> 1.35903 | D39: =Hoja2!G39/100000 -> 1.34583
A40: 39 | B40: =Hoja2!A40/100000 -> 1.35901 | C40: =Hoja2!D40/100000 -> 1.35501 | D40: =Hoja2!G40/100000 -> 1.34886
A41: 40 | B41: =Hoja2!A41/10000 -> 1.3541 | C41: =Hoja2!D41/100000 -> 1.35086 | D41: =Hoja2!G41/100000 -> 1.35197
A42: 41 | B42: =Hoja2!A42/100000 -> 1.34872 | C42: =Hoja2!D42/100000 -> 1.35502 | D42: =Hoja2!G42/100000 -> 1.34901
A43: 42 | B43: =Hoja2!A43/1000 -> 1.354 | C43: =Hoja2!D43/100000 -> 1.35093 | D43: =Hoja2!G43/100000 -> 1.34577
A44: 43 | B44: =Hoja2!A44/100000 -> 1.34881 | C44: =Hoja2!D44/100000 -> 1.35475 | D44: =Hoja2!G44/100000 -> 1.34873
A45: 44 | B45: =Hoja2!A45/100000 -> 1.35401 | C45: =Hoja2!D45/100000 -> 1.35902 | D45: =Hoja2!G45/100000 -> 1.35175
A46: 45 | B46: =Hoja2!A46/100000 -> 1.34899 | C46: =Hoja2!D46/100000 -> 1.35508 | D46: =Hoja2!G46/100000 -> 1.35487
A47: 46 | B47: =Hoja2!A47/100000 -> 1.34405 | C47: =Hoja2!D47/100000 -> 1.35089 | D47: =Hoja2!G47/100000 -> 1.35793
A48: 47 | B48: =Hoja2!A48/100000 -> 1.33937 | C48: =Hoja2!D48/100000 -> 1.35494 | D48: =Hoja2!G48/100000 -> 1.36083
A49: 48 | B49: =Hoja2!A49/100000 -> 1.33528 | C49: =Hoja2!D49/1000 -> 1.359 | D49: =Hoja2!G49/100000 -> 1.36392
A50: 49 | B50: =Hoja2!A50/100000 -> 1.32901 | C50: =Hoja2!D50/100000 -> 1.35488 | D50: =Hoja2!G50/100000 -> 1.36687
A51: 50 | B51: =Hoja2!A51/100000 -> 1.32401 | C51: =Hoja2!D51/100000 -> 1.35907 | D51: =Hoja2!G51/100000 -> 1.36985
A52: 51 | B52: =Hoja2!A52/100000 -> 1.31903 | C52: =Hoja2!D52/100000 -> 1.35486 | D52: =Hoja2!G52/100000 -> 1.37304
A53: 52 | B53: =Hoja2!A53/10000 -> 1.3137 | C53: =Hoja2!D53/100000 -> 1.35892 | D53: =Hoja2!G53/100000 -> 1.36969
A54: 53 | B54: =Hoja2!A54/100000 -> 1.31898 | C54: =Hoja2!D54/100000 -> 1.36302 | D54: =Hoja2!G54/10000 -> 1.3727
A55: 54 | B55: =Hoja2!A55/100000 -> 1.31386 | C55: =Hoja2!D55/100000 -> 1.35901 | D55: =Hoja2!G55/100000 -> 1.37586
A56: 55 | B56: =Hoja2!A56/100000 -> 1.31885 | C56: =Hoja2!D56/100000 -> 1.35497 | D56: =Hoja2!G56/100000 -> 1.37897
A57: 56 | B57: =Hoja2!A57/10000 -> 1.3238 | C57: =Hoja2!D57/100000 -> 1.35085 | D57: =Hoja2!G57/100000 -> 1.37581
A58: 57 | B58: =Hoja2!A58/100000 -> 1.32874 | C58: =Hoja2!D58/100000 -> 1.35503 | D58: =Hoja2!G58/100000 -> 1.37884
A59: 58 | B59: =Hoja2!A59/100000 -> 1.33384 | C59: =Hoja2!D59/100000 -> 1.34923 | D59: =Hoja2!G59/100000 -> 1.38202
A60: 59 | B60: =Hoja2!A60/100000 -> 1.33901 | C60: =Hoja2!D60/100000 -> 1.35501 | D60: =Hoja2!G60/100000 -> 1.37886
A61: 60 | B61: =Hoja2!A61/100000 -> 1.33383 | C61: =Hoja2!D61/100000 -> 1.35098 | D61: =Hoja2!G61/100000 -> 1.38198
A62: 61 | B62: =Hoja2!A62/100000 -> 1.33905 | C62: =Hoja2!D62/100000 -> 1.34684 | D62: =Hoja2!G62/10000 -> 1.3786
A63: 62 | B63: =Hoja2!A63/100000 -> 1.33389 | C63: =Hoja2!D63/100000 -> 1.35096 | D63: =Hoja2!G63/100000 -> 1.38199
A64: 63 | B64: =Hoja2!A64/1000 -> 1.339 | C64: =Hoja2!D64/100000 -> 1.35499 | D64: =Hoja2!G64/100000 -> 1.37898
A65: 64 | B65: =Hoja2!A65/10000 -> 1.3337 | C65: =Hoja2!D65/1000 -> 1.351 | D65: =Hoja2!G65/100000 -> 1.37588
A66: 65 | B66: =Hoja2!A66/100000 -> 1.33888 | C66: =Hoja2!D66/100000 -> 1.34705 | D66: =Hoja2!G66/100000 -> 1.37897
A67: 66 | B67: =Hoja2!A67/100000 -> 1.34402 | C67: =Hoja2!D67/100000 -> 1.34309 | D67: =Hoja2!G67/100000 -> 1.37601
A68: 67 | B68: =Hoja2!A68/100000 -> 1.33902 | C68: =Hoja2!D68/100000 -> 1.33937 | D68: =Hoja2!G68/100000 -> 1.37339
A69: 68 | B69: =Hoja2!A69/1000 -> 1.334 | C69: =Hoja2!D69/10000 -> 1.3353 | D69: =Hoja2!G69/10000 -> 1.3726
A70: 69 | B70: =Hoja2!A70/100000 -> 1.32915 | C70: =Hoja2!D70/100000 -> 1.33528 | D70: =Hoja2!G70/100000 -> 1.36692
A71: 70 | B71: =Hoja2!A71/100000 -> 1.32374 | C71: =Hoja2!D71/100000 -> 1.32675 | D71: =Hoja2!G71/100000 -> 1.37001
A72: 71 | B72: =Hoja2!A72/100000 -> 1.32903 | C72: =Hoja2!D72/100000 -> 1.33107 | D72: =Hoja2!G72/100000 -> 1.36721
A73: 72 | B73: =Hoja2!A73/100000 -> 1.32365 | C73: =Hoja2!D73/10000 -> 1.3269 | D73: =Hoja2!G73/10000 -> 1.3641
A74: 73 | B74: =Hoja2!A74/100000 -> 1.32887 | C74: =Hoja2!D74/100000 -> 1.33111 | D74: =Hoja2!G74/100000 -> 1.36097
A75: 74 | B75: =Hoja2!A75/10000 -> 1.3338 | C75: =Hoja2!D75/100000 -> 1.32616 | D75: =Hoja2!G75/100000 -> 1.35798
A76: 75 | B76: =Hoja2!A76/100000 -> 1.33903 | C76: =Hoja2!D76/100000 -> 1.33099 | D76: =Hoja2!G76/100000 -> 1.35501
A77: 76 | B77: =Hoja2!A77/100000 -> 1.33403 | C77: =Hoja2!D77/100000 -> 1.32703 | D77: =Hoja2!G77/100000 -> 1.35199
A78: 77 | B78: =Hoja2!A78/100000 -> 1.32907 | C78: =Hoja2!D78/100000 -> 1.32311 | D78: =Hoja2!G78/100000 -> 1.34888
A79: 78 | B79: =Hoja2!A79/100000 -> 1.32382 | C79: =Hoja2!D79/100000 -> 1.31903 | D79: =Hoja2!G79/100000 -> 1.35189
A80: 79 | B80: =Hoja2!A80/100000 -> 1.32897 | C80: =Hoja2!D80/10000 -> 1.3151 | D80: =Hoja2!G80/100000 -> 1.35502
A81: 80 | B81: =Hoja2!A81/100000 -> 1.32383 | C81: =Hoja2!D81/100000 -> 1.31083 | D81: =Hoja2!G81/100000 -> 1.35203
A82: 81 | B82: =Hoja2!A82/100000 -> 1.32884 | C82: =Hoja2!D82/100000 -> 1.31492 | D82: =Hoja2!G82/100000 -> 1.34885
A83: 82 | B83: =Hoja2!A83/100000 -> 1.33401 | C83: =Hoja2!D83/100000 -> 1.31898 | D83: =Hoja2!G83/100000 -> 1.35193
A84: 83 | B84: =Hoja2!A84/100000 -> 1.32907 | C84: =Hoja2!D84/10000 -> 1.3149 | D84: =Hoja2!G84/100000 -> 1.35475
A85: 84 | B85: =Hoja2!A85/10000 -> 1.3234 | C85: =Hoja2!D85/100000 -> 1.31885 | D85: =Hoja2!G85/100000 -> 1.35805
A86: 85 | B86: =Hoja2!A86/100000 -> 1.32898 | C86: =Hoja2!D86/10000 -> 1.3229 | D86: =Hoja2!G86/100000 -> 1.35486
A87: 86 | B87: =Hoja2!A87/100000 -> 1.32379 | C87: =Hoja2!D87/100000 -> 1.32685 | D87: =Hoja2!G87/100000 -> 1.35807
A88: 87 | B88: =Hoja2!A88/100000 -> 1.32897 | C88: =Hoja2!D88/100000 -> 1.33078 | D88: =Hoja2!G88/100000 -> 1.35508
A89: 88 | B89: =Hoja2!A89/100000 -> 1.32402 | C89: =Hoja2!D89/100000 -> 1.33483 | D89: =Hoja2!G89/100000 -> 1.35198
A90: 89 | B90: =Hoja2!A90/100000 -> 1.31888 | C90: =Hoja2!D90/100000 -> 1.33901 | D90: =Hoja2!G90/10000 -> 1.3489
A91: 90 | B91: =Hoja2!A91/1000 -> 1.324 | C91: =Hoja2!D91/100000 -> 1.33478 | D91: =Hoja2!G91/100000 -> 1.35208
A92: 91 | B92: =Hoja2!A92/100000 -> 1.31901 | C92: =Hoja2!D92/100000 -> 1.33905 | D92: =Hoja2!G92/100000 -> 1.34875
A93: 92 | B93: =Hoja2!A93/100000 -> 1.31405 | C93: =Hoja2!D93/100000 -> 1.33502 | D93: =Hoja2!G93/10000 -> 1.3519
A94: 93 | B94: =Hoja2!A94/10000 -> 1.3088 | C94: =Hoja2!D94/100000 -> 1.33088 | D94: =Hoja2!G94/100000 -> 1.35494
A95: 94 | B95: =Hoja2!A95/100000 -> 1.31402 | C95: =Hoja2!D95/100000 -> 1.33491 | D95: =Hoja2!G95/100000 -> 1.35805
A96: 95 | B96: =Hoja2!A96/100000 -> 1.30872 | C96: =Hoja2!D96/1000 -> 1.339 | D96: =Hoja2!G96/100000 -> 1.35488
A97: 96 | B97: =Hoja2!A97/100000 -> 1.31403 | C97: =Hoja2!D97/100000 -> 1.33429 | D97: =Hoja2!G97/100000 -> 1.35797
A98: 97 | B98: =Hoja2!A98/100000 -> 1.30903 | C98: =Hoja2!D98/100000 -> 1.33888 | D98: =Hoja2!G98/100000 -> 1.35486
A99: 98 | B99: =Hoja2!A99/100000 -> 1.30375 | C99: =Hoja2!D99/100000 -> 1.34301 | D99: =Hoja2!G99/100000 -> 1.35781
A100: 99 | B100: =Hoja2!A100/100000 -> 1.30901 | C100: =Hoja2!D100/100000 -> 1.33902 | D100: =Hoja2!G100/100000 -> 1.36092
...

Sheet Hoja2
A1: BID | D1: BID | G1: BID
A2: 134901 | D2: 134697 | G2: 134901
A3: 134387 | D3: 134295 | G3: 134603
A4: 134913 | D4: 134697 | G4: 134295
A5: 134397 | D5: 134297 | G5: 134583
A6: 133897 | D6: 133897 | G6: 134913
A7: 133387 | D7: 133485 | G7: 134597
A8: 133887 | D8: 1338 | G8: 134299
A9: 134399 | D9: 134298 | G9: 13399
A10: 133898 | D10: 133887 | G10: 134297
A11: 133374 | D11: 134317 | G11: 1.34
A12: 133808 | D12: 133898 | G12: 133688
A13: 134261 | D13: 133504 | G13: 133997
A14: 13486 | D14: 133085 | G14: 133703
A15: 135404 | D15: 133439 | G15: 133387
A16: 134873 | D16: 133808 | G16: 133691
A17: 135387 | D17: 1342 | G17: 133997
A18: 135892 | D18: 134608 | G18: 133678
A19: 136392 | D19: 135101 | G19: 133817
A20: 136875 | D20: 134692 | G20: 134298
A21: 13738 | D21: 135103 | G21: 133977
A22: 137897 | D22: 134668 | G22: 134317
A23: 137434 | D23: 135085 | G23: 133999
... A280: 131885 | D280: 130628 | G280: 130694
A281: 13238 | D281: 131102 | G281: 1.31
A282: 132902 | D282: 130683 | G282: 130706
A283: 132402 | D283: 13106 | G283: 130402
A284: 131862 | D284: 131473 | G284: 130091
A285: 132401 | D285: 131904 | G285: 130393
A286: 131875 | D286: 13149 | G286: 130702
A287: 13238 | D287: 13189 | G287: 130383
A288: 132878 | D288: 132298 | G288: 130686
A289: 13338 | D289: 131906 | G289: 130992
A290: 133907 | D290: 131507 | G290: 131299
A291: 133389 | D291: 131103 | G291: 131002
A292: 1339 | D292: 130685 | G292: 130689
A293: 13338 | D293: 131109 | G293: 130986
... A312: 135899 | D312: 13149 | G312: 128312
A313: 1354 | D313: 131902 | G313: 1.28
A314: 134901 | D314: 131511 | G314: 12769
A315: 134405 | D315: 1311 | G315: 127989
A316: 133906 | D316: 1307 | G316: 12828
A317: 133404 | D317: 130283 | G317: 128587
A318: 132881 | D318: 130703 | G318: 128911
A319: 133399 | D319: 13029 | G319: 1286
A320: 132883 | D320: 130685 | G320: 128281
A321: 133397 | D321: 131101 | G321: 12856
A322: 132892 | D322: 13068 | G322: 128893
A323: 133398 | D323: 131099 | G323: 129201
A324: 132885 | D324: 130682 | G324: 128879
A325: 133402 | D325: 131101 | G325: 129179
... A346: 131873 | D346: 12828 | G346: 130685
A347: 132379 | D347: 1287 | G347: 1.31
A348: 132904 | D348: 128278 | G348: 130679
A349: 132401 | D349: 128673 | G349: 130983
D350: 129082 | G350: 131301
D351: 129483 | G351: 131001
D352: 12989 | G352: 130693
D353: 1303 | G353: 130998
D354: 129901 | G354: 13068
D355: 129426 | G355: 130896
D356: 129922 | G356: 131303
D357: 129501 | G357: 130985
D358: 12895 | G358: 13129
D359: 129506 | G359: 131583
D360: 1291 | G360: 131882
D361: 128676 | G361: 132182
... D520: 132308 | G520: 130628
G521: 130805
G522: 131338
G523: 130989
G524: 131304
G525: 131001
G526: 130702
G527: 130372
G528: 130683
G529: 13098
G530: 131265
G531: 131593
G532: 131904
... G632: 127678
G633: 1.28
G634: 127681
G635: 127991
G636: 12828
G637: 1286
G638: 128278
G639: 128582
G640: 128891
G641: 129183
G642: 129483
G643: 129791
G644: 130089
G645: 130399
... G684: 130689
G685: 1.31
G686: 130703
G687: 130406
G688: 130103
G689: 129805
...

Sheet Hoja3
