Workbook

Sheet Hoja1
B1: 50 pips | C1: 40 pips | D1: 30 pips
A2: 1 | B2: =Hoja2!A2/100000 -> 1.34901 | C2: =Hoja2!D2/100000 -> 1.34697 | D2: =Hoja2!G2/100000 -> 1.34901
A3: 2 | B3: =Hoja2!A3/100000 -> 1.34387 | C3: =Hoja2!D3/100000 -> 1.34295 | D3: =Hoja2!G3/100000 -> 1.34603
A4: 3 | B4: =Hoja2!A4/100000 -> 1.34913 | C4: =Hoja2!D4/100000 -> 1.34697 | D4: =Hoja2!G4/100000 -> 1.34295
A5: 4 | B5: =Hoja2!A5/100000 -> 1.34397 | C5: =Hoja2!D5/100000 -> 1.34297 | D5: =Hoja2!G5/100000 -> 1.34583
A6: 5 | B6: =Hoja2!A6/100000 -> 1.33897 | C6: =Hoja2!D6/100000 -> 1.33897 | D6: =Hoja2!G6/100000 -> 1.34913
A7: 6 | B7: =Hoja2!A7/100000 -> 1.33387 | C7: =Hoja2!D7/100000 -> 1.33485 | D7: =Hoja2!G7/100000 -> 1.34597
A8: 7 | B8: =Hoja2!A8/100000 -> 1.33887 | C8: =Hoja2!D8/1000 -> 1.338 | D8: =Hoja2!G8/100000 -> 1.34299
A9: 8 | B9: =Hoja2!A9/100000 -> 1.34399 | C9: =Hoja2!D9/100000 -> 1.34298 | D9: =Hoja2!G9/10000 -> 1.3399
A10: 9 | B10: =Hoja2!A10/100000 -> 1.33898 | C10: =Hoja2!D10/100000 -> 1.33887 | D10: =Hoja2!G10/100000 -> 1.34297
A11: 10 | B11: =Hoja2!A11/100000 -> 1.33374 | C11: =Hoja2!D11/100000 -> 1.34317 | D11: 1.34
A12: 11 | B12: =Hoja2!A12/100000 -> 1.33808 | C12: =Hoja2!D12/100000 -> 1.33898 | D12: =Hoja2!G12/100000 -> 1.33688
A13: 12 | B13: =Hoja2!A13/100000 -> 1.34261 | C13: =Hoja2!D13/100000 -> 1.33504 | D13: =Hoja2!G13/100000 -> 1.33997
A14: 13 | B14: =Hoja2!A14/10000 -> 1.3486 | C14: =Hoja2!D14/100000 -> 1.33085 | D14: =Hoja2!G14/100000 -> 1.33703
A15: 14 | B15: =Hoja2!A15/100000 -> 1.35404 | C15: =Hoja2!D15/100000 -> 1.33439 | D15: =Hoja2!G15/100000 -> 1.33387
A16: 15 | B16: =Hoja2!A16/100000 -> 1.34873 | C16: =Hoja2!D16/100000 -> 1.33808 | D16: =Hoja2!G16/100000 -> 1.33691
A17: 16 | B17: =Hoja2!A17/100000 -> 1.35387 | C17: =Hoja2!D17/1000 -> 1.342 | D17: =Hoja2!G17/100000 -> 1.33997
A18: 17 | B18: =Hoja2!A18/100000 -> 1.35892 | C18: =Hoja2!D18/100000 -> 1.34608 | D18: =Hoja2!G18/100000 -> 1.33678
A19: 18 | B19: =Hoja2!A19/100000 -> 1.36392 | C19: =Hoja2!D19/100000 -> 1.35101 | D19: =Hoja2!G19/100000 -> 1.33817
A20: 19 | B20: =Hoja2!A20/100000 -> 1.36875 | C20: =Hoja2!D20/100000 -> 1.34692 | D20: =Hoja2!G20/100000 -> 1.34298
A21: 20 | B21: =Hoja2!A21/10000 -> 1.3738 | C21: =Hoja2!D21/100000 -> 1.35103 | D21: =Hoja2!G21/100000 -> 1.33977
A22: 21 | B22: =Hoja2!A22/100000 -> 1.37897 | C22: =Hoja2!D22/100000 -> 1.34668 | D22: =Hoja2!G22/100000 -> 1.34317
A23: 22 | B23: =Hoja2!A23/100000 -> 1.37434 | C23: =Hoja2!D23/100000 -> 1.35085 | D23: =Hoja2!G23/100000 -> 1.33999
A24: 23 | B24: =Hoja2!A24/100000 -> 1.36897 | C24: =Hoja2!D24/100000 -> 1.35487 | D24: =Hoja2!G24/100000 -> 1.33701
A25: 24 | B25: =Hoja2!A25/10000 -> 1.3641 | C25: =Hoja2!D25/100000 -> 1.35892 | D25: =Hoja2!G25/100000 -> 1.33397
A26: 25 | B26: =Hoja2!A26/100000 -> 1.35903 | C26: =Hoja2!D26/10000 -> 1.3628 | D26: =Hoja2!G26/100000 -> 1.33085
A27: 26 | B27: =Hoja2!A27/100000 -> 1.35399 | C27: =Hoja2!D27/100000 -> 1.36687 | D27: =Hoja2!G27/100000 -> 1.33374
A28: 27 | B28: =Hoja2!A28/100000 -> 1.34888 | C28: =Hoja2!D28/100000 -> 1.37072 | D28: =Hoja2!G28/100000 -> 1.33694
A29: 28 | B29: =Hoja2!A29/100000 -> 1.35406 | C29: =Hoja2!D29/100000 -> 1.37479 | D29: =Hoja2!G29/100000 -> 1.33998
A30: 29 | B30: =Hoja2!A30/100000 -> 1.34885 | C30: =Hoja2!D30/100000 -> 1.37884 | D30: =Hoja2!G30/100000 -> 1.33607
A31: 30 | B31: =Hoja2!A31/100000 -> 1.35387 | C31: =Hoja2!D31/100000 -> 1.38304 | D31: =Hoja2!G31/100000 -> 1.33869
A32: 31 | B32: =Hoja2!A32/100000 -> 1.35902 | C32: =Hoja2!D32/100000 -> 1.37898 | D32: =Hoja2!G32/10000 -> 1.3418
A33: 32 | B33: =Hoja2!A33/100000 -> 1.35402 | C33: =Hoja2!D33/100000 -> 1.37488 | D33: =Hoja2!G33/100000 -> 1.34455
A34: 33 | B34: =Hoja2!A34/100000 -> 1.34875 | C34: =Hoja2!D34/100000 -> 1.37897 | D34: =Hoja2!G34/10000 -> 1.3486
A35: 34 | B35: =Hoja2!A35/100000 -> 1.35382 | C35: =Hoja2!D35/1000 -> 1.375 | D35: =Hoja2!G35/100000 -> 1.35205
A36: 35 | B36: =Hoja2!A36/100000 -> 1.35907 | C36: =Hoja2!D36/10000 -> 1.3726 | D36: =Hoja2!G36/10000 -> 1.3488
A37: 36 | B37: =Hoja2!A37/10000 -> 1.3538 | C37: =Hoja2!D37/100000 -> 1.36721 | D37: =Hoja2!G37/100000 -> 1.35204
A38: 37 | B38: =Hoja2!A38/100000 -> 1.35892 | C38: =Hoja2!D38/100000 -> 1.36299 | D38: =Hoja2!G38/100000 -> 1.34906
A39: 38 | B39: =Hoja2!A39/100000 -> 1.36397 | C39: =Hoja2!D39/100000 -> 1.35903 | D39: =Hoja2!G39/100000 -> 1.34583
A40: 39 | B40: =Hoja2!A40/100000 -> 1.35901 | C40: =Hoja2!D40/100000 -> 1.35501 | D40: =Hoja2!G40/100000 -> 1.34886
...

Sheet Hoja2
A1: BID | D1: BID | G1: BID
A2: 134901 | D2: 134697 | G2: 134901
A3: 134387 | D3: 134295 | G3: 134603
A4: 134913 | D4: 134697 | G4: 134295
A5: 134397 | D5: 134297 | G5: 134583
A6: 133897 | D6: 133897 | G6: 134913
A7: 133387 | D7: 133485 | G7: 134597
A8: 133887 | D8: 1338 | G8: 134299
A9: 134399 | D9: 134298 | G9: 13399
A10: 133898 | D10: 133887 | G10: 134297
A11: 133374 | D11: 134317 | G11: 1.34
A12: 133808 | D12: 133898 | G12: 133688
A13: 134261 | D13: 133504 | G13: 133997
A14: 13486 | D14: 133085 | G14: 133703
A15: 135404 | D15: 133439 | G15: 133387
A16: 134873 | D16: 133808 | G16: 133691
A17: 135387 | D17: 1342 | G17: 133997
A18: 135892 | D18: 134608 | G18: 133678
A19: 136392 | D19: 135101 | G19: 133817
A20: 136875 | D20: 134692 | G20: 134298
A21: 13738 | D21: 135103 | G21: 133977
A22: 137897 | D22: 134668 | G22: 134317
A23: 137434 | D23: 135085 | G23: 133999
... A280: 131885 | D280: 130628 | G280: 130694
A281: 13238 | D281: 131102 | G281: 1.31
A282: 132902 | D282: 130683 | G282: 130706
A283: 132402 | D283: 13106 | G283: 130402
A284: 131862 | D284: 131473 | G284: 130091
A285: 132401 | D285: 131904 | G285: 130393
A286: 131875 | D286: 13149 | G286: 130702
A287: 13238 | D287: 13189 | G287: 130383
A288: 132878 | D288: 132298 | G288: 130686
A289: 13338 | D289: 131906 | G289: 130992
A290: 133907 | D290: 131507 | G290: 131299
A291: 133389 | D291: 131103 | G291: 131002
A292: 1339 | D292: 130685 | G292: 130689
A293: 13338 | D293: 131109 | G293: 130986
... A312: 135899 | D312: 13149 | G312: 128312
A313: 1354 | D313: 131902 | G313: 1.28
A314: 134901 | D314: 131511 | G314: 12769
...

Sheet Hoja3
