Workbook

Sheet Crecimiento aritmético
A1: Operación | B1: Aleatorio | C1: Inversión_A | D1: Resultado_A | E1: Capital_A | F1: Inversión_B | G1: Resultado_B | H1: Capital_B | I1: Capital_A-Capital_B
E2: 1000 | H2: 1000 | I2: =E103-H1002 -> -383
A3: =A2+1 -> 1 | B3: =RAND() -> 0.58103922 | C3: 1 | D3: =IF(B3>0.4,C3,-C3) -> 1 | E3: =E2+D3 -> 1001 | F3: 1 | G3: =IF(B3>0.4,2*F3,-2*F3) -> 2 | H3: =H2+G3 -> 1002 | I3: SQN_A
A4: =A3+1 -> 2 | B4: =RAND() -> 0.32186014 | C4: 1 | D4: =IF(B4>0.4,C4,-C4) -> -1 | E4: =E3+D4 -> 1000 | F4: 1 | G4: =IF(B4>0.4,2*F4,-2*F4) -> -2 | H4: =H3+G4 -> 1000 | I4: =SQRT(COUNT(D3:D1002))*STDEV(D3:D1002)/AVERAGE(D3:D1002) -> 156.62737
A5: =A4+1 -> 3 | B5: =RAND() -> 0.18920079 | C5: 1 | D5: =IF(B5>0.4,C5,-C5) -> -1 | E5: =E4+D5 -> 999 | F5: 1 | G5: =IF(B5>0.4,2*F5,-2*F5) -> -2 | H5: =H4+G5 -> 998
A6: =A5+1 -> 4 | B6: =RAND() -> 0.84783247 | C6: 1 | D6: =IF(B6>0.4,C6,-C6) -> 1 | E6: =E5+D6 -> 1000 | F6: 1 | G6: =IF(B6>0.4,2*F6,-2*F6) -> 2 | H6: =H5+G6 -> 1000 | I6: SQN_B
A7: =A6+1 -> 5 | B7: =RAND() -> 0.10002278 | C7: 1 | D7: =IF(B7>0.4,C7,-C7) -> -1 | E7: =E6+D7 -> 999 | F7: 1 | G7: =IF(B7>0.4,2*F7,-2*F7) -> -2 | H7: =H6+G7 -> 998 | I7: =SQRT(COUNT(G6:G1002))*STDEV(G6:G106)/AVERAGE(G6:G1002) -> 156.71466
A8: =A7+1 -> 6 | B8: =RAND() -> 0.29436198 | C8: 1 | D8: =IF(B8>0.4,C8,-C8) -> -1 | E8: =E7+D8 -> 998 | F8: 1 | G8: =IF(B8>0.4,2*F8,-2*F8) -> -2 | H8: =H7+G8 -> 996
A9: =A8+1 -> 7 | B9: =RAND() -> 0.51636512 | C9: 1 | D9: =IF(B9>0.4,C9,-C9) -> 1 | E9: =E8+D9 -> 999 | F9: 1 | G9: =IF(B9>0.4,2*F9,-2*F9) -> 2 | H9: =H8+G9 -> 998
A10: =A9+1 -> 8 | B10: =RAND() -> 0.26340884 | C10: 1 | D10: =IF(B10>0.4,C10,-C10) -> -1 | E10: =E9+D10 -> 998 | F10: 1 | G10: =IF(B10>0.4,2*F10,-2*F10) -> -2 | H10: =H9+G10 -> 996
A11: =A10+1 -> 9 | B11: =RAND() -> 0.43283928 | C11: 1 | D11: =IF(B11>0.4,C11,-C11) -> 1 | E11: =E10+D11 -> 999 | F11: 1 | G11: =IF(B11>0.4,2*F11,-2*F11) -> 2 | H11: =H10+G11 -> 998
A12: =A11+1 -> 10 | B12: =RAND() -> 0.17277132 | C12: 1 | D12: =IF(B12>0.4,C12,-C12) -> -1 | E12: =E11+D12 -> 998 | F12: 1 | G12: =IF(B12>0.4,2*F12,-2*F12) -> -2 | H12: =H11+G12 -> 996
A13: =A12+1 -> 11 | B13: =RAND() -> 0.29475959 | C13: 1 | D13: =IF(B13>0.4,C13,-C13) -> -1 | E13: =E12+D13 -> 997 | F13: 1 | G13: =IF(B13>0.4,2*F13,-2*F13) -> -2 | H13: =H12+G13 -> 994
A14: =A13+1 -> 12 | B14: =RAND() -> 0.4859125 | C14: 1 | D14: =IF(B14>0.4,C14,-C14) -> 1 | E14: =E13+D14 -> 998 | F14: 1 | G14: =IF(B14>0.4,2*F14,-2*F14) -> 2 | H14: =H13+G14 -> 996
A15: =A14+1 -> 13 | B15: =RAND() -> 0.61363616 | C15: 1 | D15: =IF(B15>0.4,C15,-C15) -> 1 | E15: =E14+D15 -> 999 | F15: 1 | G15: =IF(B15>0.4,2*F15,-2*F15) -> 2 | H15: =H14+G15 -> 998
A16: =A15+1 -> 14 | B16: =RAND() -> 0.61670843 | C16: 1 | D16: =IF(B16>0.4,C16,-C16) -> 1 | E16: =E15+D16 -> 1000 | F16: 1 | G16: =IF(B16>0.4,2*F16,-2*F16) -> 2 | H16: =H15+G16 -> 1000
A17: =A16+1 -> 15 | B17: =RAND() -> 0.8489074 | C17: 1 | D17: =IF(B17>0.4,C17,-C17) -> 1 | E17: =E16+D17 -> 1001 | F17: 1 | G17: =IF(B17>0.4,2*F17,-2*F17) -> 2 | H17: =H16+G17 -> 1002
A18: =A17+1 -> 16 | B18: =RAND() -> 0.76603506 | C18: 1 | D18: =IF(B18>0.4,C18,-C18) -> 1 | E18: =E17+D18 -> 1002 | F18: 1 | G18: =IF(B18>0.4,2*F18,-2*F18) -> 2 | H18: =H17+G18 -> 1004
A19: =A18+1 -> 17 | B19: =RAND() -> 0.58232578 | C19: 1 | D19: =IF(B19>0.4,C19,-C19) -> 1 | E19: =E18+D19 -> 1003 | F19: 1 | G19: =IF(B19>0.4,2*F19,-2*F19) -> 2 | H19: =H18+G19 -> 1006
... A1002: =A1001+1 -> 1000 | B1002: =RAND() -> 0.96442757 | C1002: 1 | D1002: =IF(B1002>0.4,C1002,-C1002) -> 1 | E1002: =E1001+D1002 -> 1198 | F1002: 1 | G1002: =IF(B1002>0.4,2*F1002,-2*F1002) -> 2 | H1002: =H1001+G1002 -> 1396

Sheet Crecimiento geométrico
A1: Operación | B1: Aleatorio | C1: Inversión_A | D1: Resultado_A | E1: Capital_A | F1: Inversión_B | G1: Resultado_B | H1: Capital_B | I1: Capital_A-Capital_B
E2: 1000 | H2: 1000 | I2: =E102-H1002 -> -39587
A3: =A2+1 -> 1 | B3: ='Crecimiento aritmético'!B3 -> 0.58103922 | C3: =IF(E2>1,MAX(ROUNDDOWN(E2*0.02/1,0),1),0) -> 20 | D3: =IF(B3>0.4,C3,-C3) -> 20 | E3: =E2+D3 -> 1020 | F3: =IF(H2>1,MAX(ROUNDDOWN(H2*0.02/2,0),1),0) -> 10 | G3: =IF(B3>0.4,2*F3,-2*F3) -> 20 | H3: =H2+G3 -> 1020 | I3: SQN_A
A4: =A3+1 -> 2 | B4: ='Crecimiento aritmético'!B4 -> 0.32186014 | C4: =IF(E3>1,MAX(ROUNDDOWN(E3*0.02/1,0),1),0) -> 20 | D4: =IF(B4>0.4,C4,-C4) -> -20 | E4: =E3+D4 -> 1000 | F4: =IF(H3>1,MAX(ROUNDDOWN(H3*0.02/2,0),1),0) -> 10 | G4: =IF(B4>0.4,2*F4,-2*F4) -> -20 | H4: =H3+G4 -> 1000 | I4: =SQRT(COUNT(D3:D1002))*STDEV(D3:D1002)/AVERAGE(D3:D1002) -> 227.9243
A5: =A4+1 -> 3 | B5: ='Crecimiento aritmético'!B5 -> 0.18920079 | C5: =IF(E4>1,MAX(ROUNDDOWN(E4*0.02/1,0),1),0) -> 20 | D5: =IF(B5>0.4,C5,-C5) -> -20 | E5: =E4+D5 -> 980 | F5: =IF(H4>1,MAX(ROUNDDOWN(H4*0.02/2,0),1),0) -> 10 | G5: =IF(B5>0.4,2*F5,-2*F5) -> -20 | H5: =H4+G5 -> 980
A6: =A5+1 -> 4 | B6: ='Crecimiento aritmético'!B6 -> 0.84783247 | C6: =IF(E5>1,MAX(ROUNDDOWN(E5*0.02/1,0),1),0) -> 19 | D6: =IF(B6>0.4,C6,-C6) -> 19 | E6: =E5+D6 -> 999 | F6: =IF(H5>1,MAX(ROUNDDOWN(H5*0.02/2,0),1),0) -> 9 | G6: =IF(B6>0.4,2*F6,-2*F6) -> 18 | H6: =H5+G6 -> 998 | I6: SQN_B
A7: =A6+1 -> 5 | B7: ='Crecimiento aritmético'!B7 -> 0.10002278 | C7: =IF(E6>1,MAX(ROUNDDOWN(E6*0.02/1,0),1),0) -> 19 | D7: =IF(B7>0.4,C7,-C7) -> -19 | E7: =E6+D7 -> 980 | F7: =IF(H6>1,MAX(ROUNDDOWN(H6*0.02/2,0),1),0) -> 9 | G7: =IF(B7>0.4,2*F7,-2*F7) -> -18 | H7: =H6+G7 -> 980 | I7: =SQRT(COUNT(G6:G1002))*STDEV(G6:G1002)/AVERAGE(G6:G1002) -> 227.12395
A8: =A7+1 -> 6 | B8: ='Crecimiento aritmético'!B8 -> 0.29436198 | C8: =IF(E7>1,MAX(ROUNDDOWN(E7*0.02/1,0),1),0) -> 19 | D8: =IF(B8>0.4,C8,-C8) -> -19 | E8: =E7+D8 -> 961 | F8: =IF(H7>1,MAX(ROUNDDOWN(H7*0.02/2,0),1),0) -> 9 | G8: =IF(B8>0.4,2*F8,-2*F8) -> -18 | H8: =H7+G8 -> 962
A9: =A8+1 -> 7 | B9: ='Crecimiento aritmético'!B9 -> 0.51636512 | C9: =IF(E8>1,MAX(ROUNDDOWN(E8*0.02/1,0),1),0) -> 19 | D9: =IF(B9>0.4,C9,-C9) -> 19 | E9: =E8+D9 -> 980 | F9: =IF(H8>1,MAX(ROUNDDOWN(H8*0.02/2,0),1),0) -> 9 | G9: =IF(B9>0.4,2*F9,-2*F9) -> 18 | H9: =H8+G9 -> 980
A10: =A9+1 -> 8 | B10: ='Crecimiento aritmético'!B10 -> 0.26340884 | C10: =IF(E9>1,MAX(ROUNDDOWN(E9*0.02/1,0),1),0) -> 19 | D10: =IF(B10>0.4,C10,-C10) -> -19 | E10: =E9+D10 -> 961 | F10: =IF(H9>1,MAX(ROUNDDOWN(H9*0.02/2,0),1),0) -> 9 | G10: =IF(B10>0.4,2*F10,-2*F10) -> -18 | H10: =H9+G10 -> 962
A11: =A10+1 -> 9 | B11: ='Crecimiento aritmético'!B11 -> 0.43283928 | C11: =IF(E10>1,MAX(ROUNDDOWN(E10*0.02/1,0),1),0) -> 19 | D11: =IF(B11>0.4,C11,-C11) -> 19 | E11: =E10+D11 -> 980 | F11: =IF(H10>1,MAX(ROUNDDOWN(H10*0.02/2,0),1),0) -> 9 | G11: =IF(B11>0.4,2*F11,-2*F11) -> 18 | H11: =H10+G11 -> 980
A12: =A11+1 -> 10 | B12: ='Crecimiento aritmético'!B12 -> 0.17277132 | C12: =IF(E11>1,MAX(ROUNDDOWN(E11*0.02/1,0),1),0) -> 19 | D12: =IF(B12>0.4,C12,-C12) -> -19 | E12: =E11+D12 -> 961 | F12: =IF(H11>1,MAX(ROUNDDOWN(H11*0.02/2,0),1),0) -> 9 | G12: =IF(B12>0.4,2*F12,-2*F12) -> -18 | H12: =H11+G12 -> 962
A13: =A12+1 -> 11 | B13: ='Crecimiento aritmético'!B13 -> 0.29475959 | C13: =IF(E12>1,MAX(ROUNDDOWN(E12*0.02/1,0),1),0) -> 19 | D13: =IF(B13>0.4,C13,-C13) -> -19 | E13: =E12+D13 -> 942 | F13: =IF(H12>1,MAX(ROUNDDOWN(H12*0.02/2,0),1),0) -> 9 | G13: =IF(B13>0.4,2*F13,-2*F13) -> -18 | H13: =H12+G13 -> 944
A14: =A13+1 -> 12 | B14: ='Crecimiento aritmético'!B14 -> 0.4859125 | C14: =IF(E13>1,MAX(ROUNDDOWN(E13*0.02/1,0),1),0) -> 18 | D14: =IF(B14>0.4,C14,-C14) -> 18 | E14: =E13+D14 -> 960 | F14: =IF(H13>1,MAX(ROUNDDOWN(H13*0.02/2,0),1),0) -> 9 | G14: =IF(B14>0.4,2*F14,-2*F14) -> 18 | H14: =H13+G14 -> 962
A15: =A14+1 -> 13 | B15: ='Crecimiento aritmético'!B15 -> 0.61363616 | C15: =IF(E14>1,MAX(ROUNDDOWN(E14*0.02/1,0),1),0) -> 19 | D15: =IF(B15>0.4,C15,-C15) -> 19 | E15: =E14+D15 -> 979 | F15: =IF(H14>1,MAX(ROUNDDOWN(H14*0.02/2,0),1),0) -> 9 | G15: =IF(B15>0.4,2*F15,-2*F15) -> 18 | H15: =H14+G15 -> 980
A16: =A15+1 -> 14 | B16: ='Crecimiento aritmético'!B16 -> 0.61670843 | C16: =IF(E15>1,MAX(ROUNDDOWN(E15*0.02/1,0),1),0) -> 19 | D16: =IF(B16>0.4,C16,-C16) -> 19 | E16: =E15+D16 -> 998 | F16: =IF(H15>1,MAX(ROUNDDOWN(H15*0.02/2,0),1),0) -> 9 | G16: =IF(B16>0.4,2*F16,-2*F16) -> 18 | H16: =H15+G16 -> 998
A17: =A16+1 -> 15 | B17: ='Crecimiento aritmético'!B17 -> 0.8489074 | C17: =IF(E16>1,MAX(ROUNDDOWN(E16*0.02/1,0),1),0) -> 19 | D17: =IF(B17>0.4,C17,-C17) -> 19 | E17: =E16+D17 -> 1017 | F17: =IF(H16>1,MAX(ROUNDDOWN(H16*0.02/2,0),1),0) -> 9 | G17: =IF(B17>0.4,2*F17,-2*F17) -> 18 | H17: =H16+G17 -> 1016
A18: =A17+1 -> 16 | B18: ='Crecimiento aritmético'!B18 -> 0.76603506 | C18: =IF(E17>1,MAX(ROUNDDOWN(E17*0.02/1,0),1),0) -> 20 | D18: =IF(B18>0.4,C18,-C18) -> 20 | E18: =E17+D18 -> 1037 | F18: =IF(H17>1,MAX(ROUNDDOWN(H17*0.02/2,0),1),0) -> 10 | G18: =IF(B18>0.4,2*F18,-2*F18) -> 20 | H18: =H17+G18 -> 1036
A19: =A18+1 -> 17 | B19: ='Crecimiento aritmético'!B19 -> 0.58232578 | C19: =IF(E18>1,MAX(ROUNDDOWN(E18*0.02/1,0),1),0) -> 20 | D19: =IF(B19>0.4,C19,-C19) -> 20 | E19: =E18+D19 -> 1057 | F19: =IF(H18>1,MAX(ROUNDDOWN(H18*0.02/2,0),1),0) -> 10 | G19: =IF(B19>0.4,2*F19,-2*F19) -> 20 | H19: =H18+G19 -> 1056
... A1002: =A1001+1 -> 1000 | B1002: ='Crecimiento aritmético'!B1002 -> 0.96442757 | C1002: =IF(E1001>1,MAX(ROUNDDOWN(E1001*0.02/1,0),1),0) -> 820 | D1002: =IF(B1002>0.4,C1002,-C1002) -> 820 | E1002: =E1001+D1002 -> 41859 | F1002: =IF(H1001>1,MAX(ROUNDDOWN(H1001*0.02/2,0),1),0) -> 400 | G1002: =IF(B1002>0.4,2*F1002,-2*F1002) -> 800 | H1002: =H1001+G1002 -> 40828
