Workbook

Sheet Calculations
B2: Please Change the Numbers in Yellow Only
B4: Symbol | D4: Description | F4: $ per tick | G4: Contracts | H4: Price | I4: Notional Amount | L4: IV | O4: Expected Range
G5: (or shares) | O5: (with a 68% prob., we would expect P/L to be between) | Q5: Price Move | Z5: converts to caps
B6: /ES | C6: =IF(ISNA(VLOOKUP(Z6,_lookup!A:H,1,FALSE)),"Stock",Z6) -> /ES | D6: =VLOOKUP(C6,_lookup!A:H,2,FALSE) -> E-mini S&P 500 Futures | E6: =VLOOKUP(C6,_lookup!A:H,4,FALSE) -> 0.25 | F6: =VLOOKUP(C6,_lookup!A:H,6,FALSE) -> 12.5 | G6: 1 | H6: =RTD("tos.rtd",,"MARK",Z6) -> #N/A | I6: =G6*Z20/E6*F6 -> #N/A | J6: =L6/100*I6 -> #N/A | L6: =RTD("tos.rtd",,"vol_index",Z6)/100*10000 -> #N/A | N6: 1 Day Range | O6: =_calc!A1 -> #N/A | P6: =_calc!B1 -> #N/A | Q6: =_calc!C1 -> #N/A | Z6: =UPPER(B6) -> /ES
B7: =IF(L6>1000,"Note: There might currently be a problem with the datafeed (e.g. the IV is super high)","") -> #N/A | N7: 2 Day Range | O7: =_calc!A2 -> #N/A | P7: =_calc!B2 -> #N/A | Q7: =_calc!C2 -> #N/A
B8: =IF(ISTEXT(VLOOKUP(Z6,_lookup!A:I,9,FALSE)),CONCATENATE("You might also be interested in trading ",VLOOKUP(Z6,_lookup!A:I,9,FALSE)),"") -> You might also be interested in trading SPY or SPX | N8: 3 Day Range | O8: =_calc!A3 -> #N/A | P8: =_calc!B3 -> #N/A | Q8: =_calc!C3 -> #N/A
N9: 7 Day Range | O9: =_calc!A4 -> #N/A | P9: =_calc!B4 -> #N/A | Q9: =_calc!C4 -> #N/A | Z9: =H6 -> #N/A
L12: % Move | M12: Price Move | N12: Price | O12: Implied Prob. Of Closing Above | S12: P/L on Long | T12: P/L on Short | Z12: not bond
O13: 1 Day | P13: 2 Day | Q13: 3 Day | R13: 7 Day | Z13: =IF(ISERROR(SEARCH("'",Z9)),1,0) -> 1
L14: 0.05 | M14: =Z$20*L14 -> #N/A | N14: =$Z$20*(L14+100%) -> #N/A | O14: =IF(ROUND(V14,2)=0%,CONCATENATE("Near ",ROUND(V14,2),"%"),IF(ROUND(V14,2)=100%,CONCATENATE("Near ",ROUND(V14,1),"00%"),ROUND(V14,2))) -> #N/A | P14: =IF(ROUND(W14,2)=0%,CONCATENATE("Near ",ROUND(W14,2),"%"),IF(ROUND(W14,2)=100%,CONCATENATE("Near ",ROUND(W14,1),"00%"),ROUND(W14,2))) -> #N/A | Q14: =IF(ROUND(X14,2)=0%,CONCATENATE("Near ",ROUND(X14,2),"%"),IF(ROUND(X14,2)=100%,CONCATENATE("Near ",ROUND(X14,1),"00%"),ROUND(X14,2))) -> #N/A | R14: =IF(ROUND(Y14,2)=0%,CONCATENATE("Near ",ROUND(Y14,2),"%"),IF(ROUND(Y14,2)=100%,CONCATENATE("Near ",ROUND(Y14,1),"00%"),ROUND(Y14,2))) -> #N/A | S14: =(N14-$Z$20)/$E$6*$F$6*$G$6 -> #N/A | T14: =S14*-1 -> #N/A | V14: =1-NORMSDIST(LN($N14/$Z$20)/($L$6/100*SQRT(1/365))) -> #N/A | W14: =1-NORMSDIST(LN($N14/$Z$20)/($L$6/100*SQRT(2/365))) -> #N/A | X14: =1-NORMSDIST(LN($N14/$Z$20)/($L$6/100*SQRT(3/365))) -> #N/A | Y14: =1-NORMSDIST(LN($N14/$Z$20)/($L$6/100*SQRT(7/365))) -> #N/A
L15: 0.03 | M15: =Z$20*L15 -> #N/A | N15: =$Z$20*(L15+100%) -> #N/A | O15: =IF(ROUND(V15,2)=0%,CONCATENATE("Near ",ROUND(V15,2),"%"),IF(ROUND(V15,2)=100%,CONCATENATE("Near ",ROUND(V15,1),"00%"),ROUND(V15,2))) -> #N/A | P15: =IF(ROUND(W15,2)=0%,CONCATENATE("Near ",ROUND(W15,2),"%"),IF(ROUND(W15,2)=100%,CONCATENATE("Near ",ROUND(W15,1),"00%"),ROUND(W15,2))) -> #N/A | Q15: =IF(ROUND(X15,2)=0%,CONCATENATE("Near ",ROUND(X15,2),"%"),IF(ROUND(X15,2)=100%,CONCATENATE("Near ",ROUND(X15,1),"00%"),ROUND(X15,2))) -> #N/A | R15: =IF(ROUND(Y15,2)=0%,CONCATENATE("Near ",ROUND(Y15,2),"%"),IF(ROUND(Y15,2)=100%,CONCATENATE("Near ",ROUND(Y15,1),"00%"),ROUND(Y15,2))) -> #N/A | S15: =(N15-$Z$20)/$E$6*$F$6*$G$6 -> #N/A | T15: =S15*-1 -> #N/A | V15: =1-NORMSDIST(LN($N15/$Z$20)/($L$6/100*SQRT(1/365))) -> #N/A | W15: =1-NORMSDIST(LN($N15/$Z$20)/($L$6/100*SQRT(2/365))) -> #N/A | X15: =1-NORMSDIST(LN($N15/$Z$20)/($L$6/100*SQRT(3/365))) -> #N/A | Y15: =1-NORMSDIST(LN($N15/$Z$20)/($L$6/100*SQRT(7/365))) -> #N/A
L16: 0.02 | M16: =Z$20*L16 -> #N/A | N16: =$Z$20*(L16+100%) -> #N/A | O16: =IF(ROUND(V16,2)=0%,CONCATENATE("Near ",ROUND(V16,2),"%"),IF(ROUND(V16,2)=100%,CONCATENATE("Near ",ROUND(V16,1),"00%"),ROUND(V16,2))) -> #N/A | P16: =IF(ROUND(W16,2)=0%,CONCATENATE("Near ",ROUND(W16,2),"%"),IF(ROUND(W16,2)=100%,CONCATENATE("Near ",ROUND(W16,1),"00%"),ROUND(W16,2))) -> #N/A | Q16: =IF(ROUND(X16,2)=0%,CONCATENATE("Near ",ROUND(X16,2),"%"),IF(ROUND(X16,2)=100%,CONCATENATE("Near ",ROUND(X16,1),"00%"),ROUND(X16,2))) -> #N/A | R16: =IF(ROUND(Y16,2)=0%,CONCATENATE("Near ",ROUND(Y16,2),"%"),IF(ROUND(Y16,2)=100%,CONCATENATE("Near ",ROUND(Y16,1),"00%"),ROUND(Y16,2))) -> #N/A | S16: =(N16-$Z$20)/$E$6*$F$6*$G$6 -> #N/A | T16: =S16*-1 -> #N/A | V16: =1-NORMSDIST(LN($N16/$Z$20)/($L$6/100*SQRT(1/365))) -> #N/A | W16: =1-NORMSDIST(LN($N16/$Z$20)/($L$6/100*SQRT(2/365))) -> #N/A | X16: =1-NORMSDIST(LN($N16/$Z$20)/($L$6/100*SQRT(3/365))) -> #N/A | Y16: =1-NORMSDIST(LN($N16/$Z$20)/($L$6/100*SQRT(7/365))) -> #N/A | Z16: convert if true
L17: 0.01 | M17: =Z$20*L17 -> #N/A | N17: =$Z$20*(L17+100%) -> #N/A | O17: =IF(ROUND(V17,2)=0%,CONCATENATE("Near ",ROUND(V17,2),"%"),IF(ROUND(V17,2)=100%,CONCATENATE("Near ",ROUND(V17,1),"00%"),ROUND(V17,2))) -> #N/A | P17: =IF(ROUND(W17,2)=0%,CONCATENATE("Near ",ROUND(W17,2),"%"),IF(ROUND(W17,2)=100%,CONCATENATE("Near ",ROUND(W17,1),"00%"),ROUND(W17,2))) -> #N/A | Q17: =IF(ROUND(X17,2)=0%,CONCATENATE("Near ",ROUND(X17,2),"%"),IF(ROUND(X17,2)=100%,CONCATENATE("Near ",ROUND(X17,1),"00%"),ROUND(X17,2))) -> #N/A | R17: =IF(ROUND(Y17,2)=0%,CONCATENATE("Near ",ROUND(Y17,2),"%"),IF(ROUND(Y17,2)=100%,CONCATENATE("Near ",ROUND(Y17,1),"00%"),ROUND(Y17,2))) -> #N/A | S17: =(N17-$Z$20)/$E$6*$F$6*$G$6 -> #N/A | T17: =S17*-1 -> #N/A | V17: =1-NORMSDIST(LN($N17/$Z$20)/($L$6/100*SQRT(1/365))) -> #N/A | W17: =1-NORMSDIST(LN($N17/$Z$20)/($L$6/100*SQRT(2/365))) -> #N/A | X17: =1-NORMSDIST(LN($N17/$Z$20)/($L$6/100*SQRT(3/365))) -> #N/A | Y17: =1-NORMSDIST(LN($N17/$Z$20)/($L$6/100*SQRT(7/365))) -> #N/A | Z17: =LEFT(Z9,FIND("'",Z9)-1) -> #N/A | AA17: =MID(Z9,FIND("'",Z9)+1,LEN(Z9)) -> #N/A
L18: 0 | M18: =Z$20*L18 -> #N/A | N18: =$Z$20*(L18+100%) -> #N/A | O18: =IF(ROUND(V18,2)=0%,CONCATENATE("Near ",ROUND(V18,2),"%"),IF(ROUND(V18,2)=100%,CONCATENATE("Near ",ROUND(V18,1),"00%"),ROUND(V18,2))) -> #N/A | P18: =IF(ROUND(W18,2)=0%,CONCATENATE("Near ",ROUND(W18,2),"%"),IF(ROUND(W18,2)=100%,CONCATENATE("Near ",ROUND(W18,1),"00%"),ROUND(W18,2))) -> #N/A | Q18: =IF(ROUND(X18,2)=0%,CONCATENATE("Near ",ROUND(X18,2),"%"),IF(ROUND(X18,2)=100%,CONCATENATE("Near ",ROUND(X18,1),"00%"),ROUND(X18,2))) -> #N/A | R18: =IF(ROUND(Y18,2)=0%,CONCATENATE("Near ",ROUND(Y18,2),"%"),IF(ROUND(Y18,2)=100%,CONCATENATE("Near ",ROUND(Y18,1),"00%"),ROUND(Y18,2))) -> #N/A | S18: =(N18-$Z$20)/$E$6*$F$6*$G$6 -> #N/A | T18: 0 | V18: =1-NORMSDIST(LN($N18/$Z$20)/($L$6/100*SQRT(1/365))) -> #N/A | W18: =1-NORMSDIST(LN($N18/$Z$20)/($L$6/100*SQRT(2/365))) -> #N/A | X18: =1-NORMSDIST(LN($N18/$Z$20)/($L$6/100*SQRT(3/365))) -> #N/A | Y18: =1-NORMSDIST(LN($N18/$Z$20)/($L$6/100*SQRT(7/365))) -> #N/A | Z18: =Z17 -> #N/A | AA18: =INT(LEFT(AA17,2)) -> #N/A
L19: -0.01 | M19: =Z$20*L19 -> #N/A | N19: =$Z$20*(L19+100%) -> #N/A | O19: =IF(ROUND(V19,2)=0%,CONCATENATE("Near ",ROUND(V19,2),"%"),IF(ROUND(V19,2)=100%,CONCATENATE("Near ",ROUND(V19,1),"00%"),ROUND(V19,2))) -> #N/A | P19: =IF(ROUND(W19,2)=0%,CONCATENATE("Near ",ROUND(W19,2),"%"),IF(ROUND(W19,2)=100%,CONCATENATE("Near ",ROUND(W19,1),"00%"),ROUND(W19,2))) -> #N/A | Q19: =IF(ROUND(X19,2)=0%,CONCATENATE("Near ",ROUND(X19,2),"%"),IF(ROUND(X19,2)=100%,CONCATENATE("Near ",ROUND(X19,1),"00%"),ROUND(X19,2))) -> #N/A | R19: =IF(ROUND(Y19,2)=0%,CONCATENATE("Near ",ROUND(Y19,2),"%"),IF(ROUND(Y19,2)=100%,CONCATENATE("Near ",ROUND(Y19,1),"00%"),ROUND(Y19,2))) -> #N/A | S19: =(N19-$Z$20)/$E$6*$F$6*$G$6 -> #N/A | T19: =S19*-1 -> #N/A | V19: =1-NORMSDIST(LN($N19/$Z$20)/($L$6/100*SQRT(1/365))) -> #N/A | W19: =1-NORMSDIST(LN($N19/$Z$20)/($L$6/100*SQRT(2/365))) -> #N/A | X19: =1-NORMSDIST(LN($N19/$Z$20)/($L$6/100*SQRT(3/365))) -> #N/A | Y19: =1-NORMSDIST(LN($N19/$Z$20)/($L$6/100*SQRT(7/365))) -> #N/A
L20: -0.02 | M20: =Z$20*L20 -> #N/A | N20: =$Z$20*(L20+100%) -> #N/A | O20: =IF(ROUND(V20,2)=0%,CONCATENATE("Near ",ROUND(V20,2),"%"),IF(ROUND(V20,2)=100%,CONCATENATE("Near ",ROUND(V20,1),"00%"),ROUND(V20,2))) -> #N/A | P20: =IF(ROUND(W20,2)=0%,CONCATENATE("Near ",ROUND(W20,2),"%"),IF(ROUND(W20,2)=100%,CONCATENATE("Near ",ROUND(W20,1),"00%"),ROUND(W20,2))) -> #N/A | Q20: =IF(ROUND(X20,2)=0%,CONCATENATE("Near ",ROUND(X20,2),"%"),IF(ROUND(X20,2)=100%,CONCATENATE("Near ",ROUND(X20,1),"00%"),ROUND(X20,2))) -> #N/A | R20: =IF(ROUND(Y20,2)=0%,CONCATENATE("Near ",ROUND(Y20,2),"%"),IF(ROUND(Y20,2)=100%,CONCATENATE("Near ",ROUND(Y20,1),"00%"),ROUND(Y20,2))) -> #N/A | S20: =(N20-$Z$20)/$E$6*$F$6*$G$6 -> #N/A | T20: =S20*-1 -> #N/A | V20: =1-NORMSDIST(LN($N20/$Z$20)/($L$6/100*SQRT(1/365))) -> #N/A | W20: =1-NORMSDIST(LN($N20/$Z$20)/($L$6/100*SQRT(2/365))) -> #N/A | X20: =1-NORMSDIST(LN($N20/$Z$20)/($L$6/100*SQRT(3/365))) -> #N/A | Y20: =1-NORMSDIST(LN($N20/$Z$20)/($L$6/100*SQRT(7/365))) -> #N/A | Z20: =IF(Z13=1,H6,Z18+AA18/32) -> #N/A
L21: -0.03 | M21: =Z$20*L21 -> #N/A | N21: =$Z$20*(L21+100%) -> #N/A | O21: =IF(ROUND(V21,2)=0%,CONCATENATE("Near ",ROUND(V21,2),"%"),IF(ROUND(V21,2)=100%,CONCATENATE("Near ",ROUND(V21,1),"00%"),ROUND(V21,2))) -> #N/A | P21: =IF(ROUND(W21,2)=0%,CONCATENATE("Near ",ROUND(W21,2),"%"),IF(ROUND(W21,2)=100%,CONCATENATE("Near ",ROUND(W21,1),"00%"),ROUND(W21,2))) -> #N/A | Q21: =IF(ROUND(X21,2)=0%,CONCATENATE("Near ",ROUND(X21,2),"%"),IF(ROUND(X21,2)=100%,CONCATENATE("Near ",ROUND(X21,1),"00%"),ROUND(X21,2))) -> #N/A | R21: =IF(ROUND(Y21,2)=0%,CONCATENATE("Near ",ROUND(Y21,2),"%"),IF(ROUND(Y21,2)=100%,CONCATENATE("Near ",ROUND(Y21,1),"00%"),ROUND(Y21,2))) -> #N/A | S21: =(N21-$Z$20)/$E$6*$F$6*$G$6 -> #N/A | T21: =S21*-1 -> #N/A | V21: =1-NORMSDIST(LN($N21/$Z$20)/($L$6/100*SQRT(1/365))) -> #N/A | W21: =1-NORMSDIST(LN($N21/$Z$20)/($L$6/100*SQRT(2/365))) -> #N/A | X21: =1-NORMSDIST(LN($N21/$Z$20)/($L$6/100*SQRT(3/365))) -> #N/A | Y21: =1-NORMSDIST(LN($N21/$Z$20)/($L$6/100*SQRT(7/365))) -> #N/A
L22: -0.05 | M22: =Z$20*L22 -> #N/A | N22: =$Z$20*(L22+100%) -> #N/A | O22: =IF(ROUND(V22,2)=0%,CONCATENATE("Near ",ROUND(V22,2),"%"),IF(ROUND(V22,2)=100%,CONCATENATE("Near ",ROUND(V22,1),"00%"),ROUND(V22,2))) -> #N/A | P22: =IF(ROUND(W22,2)=0%,CONCATENATE("Near ",ROUND(W22,2),"%"),IF(ROUND(W22,2)=100%,CONCATENATE("Near ",ROUND(W22,1),"00%"),ROUND(W22,2))) -> #N/A | Q22: =IF(ROUND(X22,2)=0%,CONCATENATE("Near ",ROUND(X22,2),"%"),IF(ROUND(X22,2)=100%,CONCATENATE("Near ",ROUND(X22,1),"00%"),ROUND(X22,2))) -> #N/A | R22: =IF(ROUND(Y22,2)=0%,CONCATENATE("Near ",ROUND(Y22,2),"%"),IF(ROUND(Y22,2)=100%,CONCATENATE("Near ",ROUND(Y22,1),"00%"),ROUND(Y22,2))) -> #N/A | S22: =(N22-$Z$20)/$E$6*$F$6*$G$6 -> #N/A | T22: =S22*-1 -> #N/A | V22: =1-NORMSDIST(LN($N22/$Z$20)/($L$6/100*SQRT(1/365))) -> #N/A | W22: =1-NORMSDIST(LN($N22/$Z$20)/($L$6/100*SQRT(2/365))) -> #N/A | X22: =1-NORMSDIST(LN($N22/$Z$20)/($L$6/100*SQRT(3/365))) -> #N/A | Y22: =1-NORMSDIST(LN($N22/$Z$20)/($L$6/100*SQRT(7/365))) -> #N/A
L24: % Move | M24: Price Move | N24: Price | O24: Implied Prob. Of Closing Below | S24: P/L on Long | T24: P/L on Short
O25: 1 Day | P25: 2 Day | Q25: 3 Day | R25: 7 Day
L26: =L14 -> 0.05 | M26: =M14 -> #N/A | N26: =N14 -> #N/A | O26: =IF(ROUND(V26,2)=0%,CONCATENATE("Near ",ROUND(V26,2),"%"),IF(ROUND(V26,2)=100%,CONCATENATE("Near ",ROUND(V26,2),"00%"),ROUND(V26,2))) -> #N/A | P26: =IF(ROUND(W26,2)=0%,CONCATENATE("Near ",ROUND(W26,2),"%"),IF(ROUND(W26,2)=100%,CONCATENATE("Near ",ROUND(W26,2),"00%"),ROUND(W26,2))) -> #N/A | Q26: =IF(ROUND(X26,2)=0%,CONCATENATE("Near ",ROUND(X26,2),"%"),IF(ROUND(X26,2)=100%,CONCATENATE("Near ",ROUND(X26,2),"00%"),ROUND(X26,2))) -> #N/A | R26: =IF(ROUND(Y26,2)=0%,CONCATENATE("Near ",ROUND(Y26,2),"%"),IF(ROUND(Y26,2)=100%,CONCATENATE("Near ",ROUND(Y26,2),"00%"),ROUND(Y26,2))) -> #N/A | S26: =S14 -> #N/A | T26: =T14 -> #N/A | V26: =1-V14 -> #N/A | W26: =1-W14 -> #N/A | X26: =1-X14 -> #N/A | Y26: =1-Y14 -> #N/A
L27: =L15 -> 0.03 | M27: =M15 -> #N/A | N27: =N15 -> #N/A | O27: =IF(ROUND(V27,2)=0%,CONCATENATE("Near ",ROUND(V27,2),"%"),IF(ROUND(V27,2)=100%,CONCATENATE("Near ",ROUND(V27,2),"00%"),ROUND(V27,2))) -> #N/A | P27: =IF(ROUND(W27,2)=0%,CONCATENATE("Near ",ROUND(W27,2),"%"),IF(ROUND(W27,2)=100%,CONCATENATE("Near ",ROUND(W27,2),"00%"),ROUND(W27,2))) -> #N/A | Q27: =IF(ROUND(X27,2)=0%,CONCATENATE("Near ",ROUND(X27,2),"%"),IF(ROUND(X27,2)=100%,CONCATENATE("Near ",ROUND(X27,2),"00%"),ROUND(X27,2))) -> #N/A | R27: =IF(ROUND(Y27,2)=0%,CONCATENATE("Near ",ROUND(Y27,2),"%"),IF(ROUND(Y27,2)=100%,CONCATENATE("Near ",ROUND(Y27,2),"00%"),ROUND(Y27,2))) -> #N/A | S27: =S15 -> #N/A | T27: =T15 -> #N/A | V27: =1-V15 -> #N/A | W27: =1-W15 -> #N/A | X27: =1-X15 -> #N/A | Y27: =1-Y15 -> #N/A
L28: =L16 -> 0.02 | M28: =M16 -> #N/A | N28: =N16 -> #N/A | O28: =IF(ROUND(V28,2)=0%,CONCATENATE("Near ",ROUND(V28,2),"%"),IF(ROUND(V28,2)=100%,CONCATENATE("Near ",ROUND(V28,2),"00%"),ROUND(V28,2))) -> #N/A | P28: =IF(ROUND(W28,2)=0%,CONCATENATE("Near ",ROUND(W28,2),"%"),IF(ROUND(W28,2)=100%,CONCATENATE("Near ",ROUND(W28,2),"00%"),ROUND(W28,2))) -> #N/A | Q28: =IF(ROUND(X28,2)=0%,CONCATENATE("Near ",ROUND(X28,2),"%"),IF(ROUND(X28,2)=100%,CONCATENATE("Near ",ROUND(X28,2),"00%"),ROUND(X28,2))) -> #N/A | R28: =IF(ROUND(Y28,2)=0%,CONCATENATE("Near ",ROUND(Y28,2),"%"),IF(ROUND(Y28,2)=100%,CONCATENATE("Near ",ROUND(Y28,2),"00%"),ROUND(Y28,2))) -> #N/A | S28: =S16 -> #N/A | T28: =T16 -> #N/A | V28: =1-V16 -> #N/A | W28: =1-W16 -> #N/A | X28: =1-X16 -> #N/A | Y28: =1-Y16 -> #N/A
L29: =L17 -> 0.01 | M29: =M17 -> #N/A | N29: =N17 -> #N/A | O29: =IF(ROUND(V29,2)=0%,CONCATENATE("Near ",ROUND(V29,2),"%"),IF(ROUND(V29,2)=100%,CONCATENATE("Near ",ROUND(V29,2),"00%"),ROUND(V29,2))) -> #N/A | P29: =IF(ROUND(W29,2)=0%,CONCATENATE("Near ",ROUND(W29,2),"%"),IF(ROUND(W29,2)=100%,CONCATENATE("Near ",ROUND(W29,2),"00%"),ROUND(W29,2))) -> #N/A | Q29: =IF(ROUND(X29,2)=0%,CONCATENATE("Near ",ROUND(X29,2),"%"),IF(ROUND(X29,2)=100%,CONCATENATE("Near ",ROUND(X29,2),"00%"),ROUND(X29,2))) -> #N/A | R29: =IF(ROUND(Y29,2)=0%,CONCATENATE("Near ",ROUND(Y29,2),"%"),IF(ROUND(Y29,2)=100%,CONCATENATE("Near ",ROUND(Y29,2),"00%"),ROUND(Y29,2))) -> #N/A | S29: =S17 -> #N/A | T29: =T17 -> #N/A | V29: =1-V17 -> #N/A | W29: =1-W17 -> #N/A | X29: =1-X17 -> #N/A | Y29: =1-Y17 -> #N/A
B30: Note | L30: =L18 -> 0 | M30: =M18 -> #N/A | N30: =N18 -> #N/A | O30: =IF(ROUND(V30,2)=0%,CONCATENATE("Near ",ROUND(V30,2),"%"),IF(ROUND(V30,2)=100%,CONCATENATE("Near ",ROUND(V30,2),"00%"),ROUND(V30,2))) -> #N/A | P30: =IF(ROUND(W30,2)=0%,CONCATENATE("Near ",ROUND(W30,2),"%"),IF(ROUND(W30,2)=100%,CONCATENATE("Near ",ROUND(W30,2),"00%"),ROUND(W30,2))) -> #N/A | Q30: =IF(ROUND(X30,2)=0%,CONCATENATE("Near ",ROUND(X30,2),"%"),IF(ROUND(X30,2)=100%,CONCATENATE("Near ",ROUND(X30,2),"00%"),ROUND(X30,2))) -> #N/A | R30: =IF(ROUND(Y30,2)=0%,CONCATENATE("Near ",ROUND(Y30,2),"%"),IF(ROUND(Y30,2)=100%,CONCATENATE("Near ",ROUND(Y30,2),"00%"),ROUND(Y30,2))) -> #N/A | S30: =S18 -> #N/A | T30: =T18 -> 0 | V30: =1-V18 -> #N/A | W30: =1-W18 -> #N/A | X30: =1-X18 -> #N/A | Y30: =1-Y18 -> #N/A
B31: Michael Rechenthin, PhD via tastytrade.com, © 2016 | L31: =L19 -> -0.01 | M31: =M19 -> #N/A | N31: =N19 -> #N/A | O31: =IF(ROUND(V31,2)=0%,CONCATENATE("Near ",ROUND(V31,2),"%"),IF(ROUND(V31,2)=100%,CONCATENATE("Near ",ROUND(V31,2),"00%"),ROUND(V31,2))) -> #N/A | P31: =IF(ROUND(W31,2)=0%,CONCATENATE("Near ",ROUND(W31,2),"%"),IF(ROUND(W31,2)=100%,CONCATENATE("Near ",ROUND(W31,2),"00%"),ROUND(W31,2))) -> #N/A | Q31: =IF(ROUND(X31,2)=0%,CONCATENATE("Near ",ROUND(X31,2),"%"),IF(ROUND(X31,2)=100%,CONCATENATE("Near ",ROUND(X31,2),"00%"),ROUND(X31,2))) -> #N/A | R31: =IF(ROUND(Y31,2)=0%,CONCATENATE("Near ",ROUND(Y31,2),"%"),IF(ROUND(Y31,2)=100%,CONCATENATE("Near ",ROUND(Y31,2),"00%"),ROUND(Y31,2))) -> #N/A | S31: =S19 -> #N/A | T31: =T19 -> #N/A | V31: =1-V19 -> #N/A | W31: =1-W19 -> #N/A | X31: =1-X19 -> #N/A | Y31: =1-Y19 -> #N/A
B32: Please follow me on twitter at @mrechenthin | L32: =L20 -> -0.02 | M32: =M20 -> #N/A | N32: =N20 -> #N/A | O32: =IF(ROUND(V32,2)=0%,CONCATENATE("Near ",ROUND(V32,2),"%"),IF(ROUND(V32,2)=100%,CONCATENATE("Near ",ROUND(V32,2),"00%"),ROUND(V32,2))) -> #N/A | P32: =IF(ROUND(W32,2)=0%,CONCATENATE("Near ",ROUND(W32,2),"%"),IF(ROUND(W32,2)=100%,CONCATENATE("Near ",ROUND(W32,2),"00%"),ROUND(W32,2))) -> #N/A | Q32: =IF(ROUND(X32,2)=0%,CONCATENATE("Near ",ROUND(X32,2),"%"),IF(ROUND(X32,2)=100%,CONCATENATE("Near ",ROUND(X32,2),"00%"),ROUND(X32,2))) -> #N/A | R32: =IF(ROUND(Y32,2)=0%,CONCATENATE("Near ",ROUND(Y32,2),"%"),IF(ROUND(Y32,2)=100%,CONCATENATE("Near ",ROUND(Y32,2),"00%"),ROUND(Y32,2))) -> #N/A | S32: =S20 -> #N/A | T32: =T20 -> #N/A | V32: =1-V20 -> #N/A | W32: =1-W20 -> #N/A | X32: =1-X20 -> #N/A | Y32: =1-Y20 -> #N/A
B33: Or watch "The Skinny on Options Data Science" on tastytrade.com | L33: =L21 -> -0.03 | M33: =M21 -> #N/A | N33: =N21 -> #N/A | O33: =IF(ROUND(V33,2)=0%,CONCATENATE("Near ",ROUND(V33,2),"%"),IF(ROUND(V33,2)=100%,CONCATENATE("Near ",ROUND(V33,2),"00%"),ROUND(V33,2))) -> #N/A | P33: =IF(ROUND(W33,2)=0%,CONCATENATE("Near ",ROUND(W33,2),"%"),IF(ROUND(W33,2)=100%,CONCATENATE("Near ",ROUND(W33,2),"00%"),ROUND(W33,2))) -> #N/A | Q33: =IF(ROUND(X33,2)=0%,CONCATENATE("Near ",ROUND(X33,2),"%"),IF(ROUND(X33,2)=100%,CONCATENATE("Near ",ROUND(X33,2),"00%"),ROUND(X33,2))) -> #N/A | R33: =IF(ROUND(Y33,2)=0%,CONCATENATE("Near ",ROUND(Y33,2),"%"),IF(ROUND(Y33,2)=100%,CONCATENATE("Near ",ROUND(Y33,2),"00%"),ROUND(Y33,2))) -> #N/A | S33: =S21 -> #N/A | T33: =T21 -> #N/A | V33: =1-V21 -> #N/A | W33: =1-W21 -> #N/A | X33: =1-X21 -> #N/A | Y33: =1-Y21 -> #N/A
B34: I am not responsible for the accuracy of the information on this page | L34: =L22 -> -0.05 | M34: =M22 -> #N/A | N34: =N22 -> #N/A | O34: =IF(ROUND(V34,2)=0%,CONCATENATE("Near ",ROUND(V34,2),"%"),IF(ROUND(V34,2)=100%,CONCATENATE("Near ",ROUND(V34,2),"00%"),ROUND(V34,2))) -> #N/A | P34: =IF(ROUND(W34,2)=0%,CONCATENATE("Near ",ROUND(W34,2),"%"),IF(ROUND(W34,2)=100%,CONCATENATE("Near ",ROUND(W34,2),"00%"),ROUND(W34,2))) -> #N/A | Q34: =IF(ROUND(X34,2)=0%,CONCATENATE("Near ",ROUND(X34,2),"%"),IF(ROUND(X34,2)=100%,CONCATENATE("Near ",ROUND(X34,2),"00%"),ROUND(X34,2))) -> #N/A | R34: =IF(ROUND(Y34,2)=0%,CONCATENATE("Near ",ROUND(Y34,2),"%"),IF(ROUND(Y34,2)=100%,CONCATENATE("Near ",ROUND(Y34,2),"00%"),ROUND(Y34,2))) -> #N/A | S34: =S22 -> #N/A | T34: =T22 -> #N/A | V34: =1-V22 -> #N/A | W34: =1-W22 -> #N/A | X34: =1-X22 -> #N/A | Y34: =1-Y22 -> #N/A
B35: The numbers may be diff. from misc. platforms due to how IV is calculated
B36: ver. 1.9

Sheet _lookup
A1: Symbol | B1: Description | D1: Tick in dollars | E1: Tick in cents | F1: move per tick | G1: move per penny | H1: move per dollar | I1: Alternatives | J1: In 32nds? | K1: In 64ths?
A2: /6A | B2: Australian Dollar Futures | C2: 100000 | D2: 0.0001 | E2: =100*D2 -> 0.01 | F2: 10 | G2: =0.01*F2/D2 -> 1000 | H2: =F2/D2 -> 100000 | I2: /M6A
A3: /6B | B3: British Pound Futures | C3: 62500 | D3: 0.0001 | E3: =100*D3 -> 0.01 | F3: 6.25 | G3: =0.01*F3/D3 -> 625 | H3: =F3/D3 -> 62500 | I3: /M6B
A4: /6C | B4: Canadian Dollar Futures | C4: 100000 | D4: 0.0001 | E4: =100*D4 -> 0.01 | F4: 10 | G4: =0.01*F4/D4 -> 1000 | H4: =F4/D4 -> 100000
A5: /6E | B5: Euro FX Futures | C5: 125000 | D5: 5e-05 | E5: =100*D5 -> 0.005 | F5: 6.25 | G5: =0.01*F5/D5 -> 1250 | H5: =F5/D5 -> 125000 | I5: /E7
A6: /6J | B6: Japanese Yen Futures | C6: 12500000 | D6: 5e-07 | E6: =100*D6 -> 5e-05 | F6: 6.25 | G6: =0.01*F6/D6 -> 125000 | H6: =F6/D6 -> 12500000 | I6: /J7
A7: /6M | B7: Mexican Peso Futures | C7: 50000 | D7: 1e-05 | E7: =100*D7 -> 0.001 | F7: 5 | G7: =0.01*F7/D7 -> 5000 | H7: =F7/D7 -> 500000
A8: /6N | B8: New Zealand Dollar Futures | C8: 100000 | D8: 0.0001 | E8: =100*D8 -> 0.01 | F8: 10 | G8: =0.01*F8/D8 -> 1000 | H8: =F8/D8 -> 100000
A9: /6S | B9: Swiss Franc Futures | C9: 125000 | D9: 0.0001 | E9: =100*D9 -> 0.01 | F9: 12.5 | G9: =0.01*F9/D9 -> 1250 | H9: =F9/D9 -> 125000
A10: /DX | B10: US Dollar Index Futures | C10: 1000 | D10: 0.005 | E10: =100*D10 -> 0.5 | F10: 5 | G10: =0.01*F10/D10 -> 10 | H10: =F10/D10 -> 1000
A11: /M6A | B11: E-Micro AUD/USD Future | C11: 10000 | D11: 0.0001 | E11: =100*D11 -> 0.01 | F11: 1 | G11: =0.01*F11/D11 -> 100 | H11: =F11/D11 -> 10000 | I11: /6A
A12: /M6B | B12: E-Micro GBP/USD Future | C12: 6300 | D12: 0.0001 | E12: =100*D12 -> 0.01 | F12: 0.63 | G12: =0.01*F12/D12 -> 63 | H12: =F12/D12 -> 6300 | I12: /6B
A13: /M6E | B13: E-Micro EUR/USD Future | C13: 12500 | D13: 0.0001 | E13: =100*D13 -> 0.01 | F13: 1.25 | G13: =0.01*F13/D13 -> 125 | H13: =F13/D13 -> 12500 | I13: /6E
A14: /E7 | B14: E-mini Euro FX futures | C14: 62500 | D14: 0.0001 | E14: =100*D14 -> 0.01 | F14: 6.25 | G14: =0.01*F14/D14 -> 625 | H14: =F14/D14 -> 62500 | I14: /6E
A15: /J7 | B15: E-mini Japanese Yen FX Futures | C15: 6250000 | D15: 1e-06 | E15: 0.0001 | F15: 6.25 | G15: =0.01*F15/D15 -> 62500 | H15: =F15/D15 -> 6250000 | I15: /6J
A16: /BZ | B16: Brent Crude Oil | C16: 1000 | D16: 0.01 | E16: =100*D16 -> 1 | F16: 10 | G16: =0.01*F16/D16 -> 10 | H16: =F16/D16 -> 1000
A17: /CL | B17: Light Sweet Crude Oil | C17: 1000 | D17: 0.01 | E17: =100*D17 -> 1 | F17: 10 | G17: =0.01*F17/D17 -> 10 | H17: =F17/D17 -> 1000 | I17: USO
A18: /HO | B18: Heating Oil Futures | C18: 42000 | D18: 0.001 | E18: =100*D18 -> 0.1 | F18: 10 | G18: =0.01*F18/D18 -> 100 | H18: =F18/D18 -> 10000
A19: /NG | B19: Natural Gas Futures | C19: 10000 | D19: 0.001 | E19: =100*D19 -> 0.1 | F19: 10 | G19: =0.01*F19/D19 -> 100 | H19: =F19/D19 -> 10000
A20: /QG | B20: miNY Natural Gas Futures | C20: 2500 | D20: 0.005 | E20: =100*D20 -> 0.5 | F20: 12.5 | G20: =0.01*F20/D20 -> 25 | H20: =F20/D20 -> 2500
A21: /QM | B21: miNY Crude Oil Futures | C21: 500 | D21: 0.025 | E21: =100*D21 -> 2.5 | F21: 12.5 | G21: =0.01*F21/D21 -> 5 | H21: =F21/D21 -> 500
A22: /RB | B22: RBOB Gasoline Futures | C22: 42000 | D22: 0.0001 | E22: 10 | F22: 5 | G22: =0.01*F22/D22 -> 500 | H22: =F22/D22 -> 50000
A23: /ES | B23: E-mini S&P 500 Futures | C23: 50 | D23: 0.25 | E23: =100*D23 -> 25 | F23: 12.5 | G23: =0.01*F23/D23 -> 0.5 | H23: =F23/D23 -> 50 | I23: SPY or SPX
A24: /NQ | B24: E-mini Nasdaq Futures | C24: 20 | D24: 0.25 | E24: =100*D24 -> 25 | F24: 5 | G24: =0.01*F24/D24 -> 0.2 | H24: =F24/D24 -> 20
A25: /TF | B25: Russel 2000 Index Mini Futures | C25: 100 | D25: 0.1 | E25: 10 | F25: 10 | G25: =0.01*F25/D25 -> 1 | H25: =F25/D25 -> 100 | I25: IWM or RUT
A26: /YM | B26: Mini Dow Jones Futures | C26: 5 | D26: 1 | E26: 100 | F26: 5 | G26: =0.01*F26/D26 -> 0.05 | H26: =F26/D26 -> 5 | I26: DIA
A27: /VX | B27: CBOE Volatility Index (VIX) Futures | C27: 1000 | D27: 0.05 | E27: 5 | F27: 50 | G27: =0.01*F27/D27 -> 10 | H27: =F27/D27 -> 1000
A28: VIX | B28: CBOE Volatility Index
A29: /NKD | B29: Nikkei 225 Futures | C29: 5 | D29: 5 | F29: 25
A30: SPX | B30: S&P 500 cash | D30: 0.25 | F30: 25 | I30: SPY or /ES
A31: RUT | B31: Russell 2000 cash | D31: 1 | F31: 100 | I31: IWM or /TF
A32: /GF | B32: Feeder Cattle | C32: 500 | D32: 0.025 | E32: =100*D32 -> 2.5 | F32: 12.5 | G32: =0.01*F32/D32 -> 5 | H32: =F32/D32 -> 500
A33: /HE | B33: Lean Hog Futures | C33: 400 | D33: 0.025 | E33: =100*D33 -> 2.5 | F33: 10 | G33: =0.01*F33/D33 -> 4 | H33: =F33/D33 -> 400
A34: /LE | B34: Live Cattle Futures | C34: 400 | D34: 0.025 | E34: =100*D34 -> 2.5 | F34: 10 | G34: =0.01*F34/D34 -> 4 | H34: =F34/D34 -> 400
A35: /GC | B35: Gold Futures | C35: 100 | D35: 0.1 | E35: =100*D35 -> 10 | F35: 10 | G35: =0.01*F35/D35 -> 1 | H35: =F35/D35 -> 100 | I35: /YG or GLD
A36: /HG | B36: Copper Futures | C36: 25000 | D36: 0.0005 | E36: =100*D36 -> 0.05 | F36: 12.5 | G36: =0.01*F36/D36 -> 250 | H36: =F36/D36 -> 25000
A37: /SI | B37: Silver Futures | C37: 5000 | D37: 0.005 | E37: =100*D37 -> 0.5 | F37: 25 | G37: =0.01*F37/D37 -> 50 | H37: =F37/D37 -> 5000 | I37: /YI or SLV
A38: /PA | B38: Palladium Futures | C38: 100 | D38: 0.1 | E38: 5 | F38: 5 | G38: =0.01*F38/D38 -> 0.5 | H38: =F38/D38 -> 50
A39: /PL | B39: Platinum Futures | C39: 50 | D39: 0.1 | E39: 10 | F39: 5 | G39: =0.01*F39/D39 -> 0.5 | H39: =F39/D39 -> 50
A40: /YG | B40: Mini Gold Futures | C40: 32.2 | D40: 0.1 | E40: 10 | F40: 3.22 | G40: =0.01*F40/D40 -> 0.322 | H40: =F40/D40 -> 32.2 | I40: /GC or GLD
A41: /YI | B41: Mini Silver Futures | C41: 1000 | D41: 0.001 | E41: 0.1 | F41: 1 | G41: =0.01*F41/D41 -> 10 | H41: =F41/D41 -> 1000 | I41: /SI or SLV
A42: /CC | B42: Cocoa Futures NYCC | C42: 10 | D42: 1 | E42: 100 | F42: 10 | G42: =0.01*F42/D42 -> 0.1 | H42: =F42/D42 -> 10
A43: /CT | B43: COTTON No2 Futures NYCC | C43: 500 | D43: 0.01 | E43: 1 | F43: 5 | G43: =0.01*F43/D43 -> 5 | H43: =F43/D43 -> 500
A44: /KC | B44: Coffee "C" Futures | C44: 375 | D44: 0.05 | E44: =100*D44 -> 5 | F44: 18.75 | G44: =0.01*F44/D44 -> 3.75 | H44: =F44/D44 -> 375
A45: /LBS | B45: Random Length Lumber Futures | C45: 110 | D45: 0.1 | E45: 10 | F45: 11 | G45: =0.01*F45/D45 -> 1.1 | H45: =F45/D45 -> 110
A46: /OJ | B46: Orange Juice Futures FCOJ-A | C46: 150 | D46: 0.05 | E46: 5 | F46: 11 | G46: =0.01*F46/D46 -> 2.2 | H46: =F46/D46 -> 220
A47: /SB | B47: Sugar No. 11 Futures | C47: 1120 | D47: 0.01 | E47: 10 | F47: 5 | G47: =0.01*F47/D47 -> 5 | H47: =F47/D47 -> 500
A48: /KE | B48: KC Hard Red Wheat Futures | C48: 50 | D48: 0.25 | E48: 25 | F48: 12.5 | G48: =0.01*F48/D48 -> 0.5 | H48: =F48/D48 -> 50
A49: /ZC | B49: Corn Futures | C49: 500 | D49: 0.25 | E49: 25 | F49: 12.5 | G49: =0.01*F49/D49 -> 0.5 | H49: =F49/D49 -> 50 | I49: /XC
A50: /ZL | B50: Soybean Oil Futures | C50: 600 | D50: 0.01 | E50: 1 | F50: 6 | G50: =0.01*F50/D50 -> 6 | H50: =F50/D50 -> 600 | I50: /XK
A51: /ZM | B51: Soybean Meal Futures | C51: 100 | D51: 0.1 | E51: 10 | F51: 10 | G51: =0.01*F51/D51 -> 1 | H51: =F51/D51 -> 100
A52: /ZO | B52: Oats Futures | C52: 50 | D52: 0.25 | E52: 25 | F52: 12.5 | G52: =0.01*F52/D52 -> 0.5 | H52: =F52/D52 -> 50
A53: /ZS | B53: Soybean Futures | C53: 50 | D53: 0.25 | E53: 25 | F53: 12.5 | G53: =0.01*F53/D53 -> 0.5 | H53: =F53/D53 -> 50
A54: /ZW | B54: Wheat Futures | C54: 50 | D54: 0.25 | E54: 25 | F54: 12.5 | G54: =0.01*F54/D54 -> 0.5 | H54: =F54/D54 -> 50 | I54: /XW
A55: /XC | B55: E-Mini Corn Futures | C55: 10 | D55: 0.125 | E55: 12.5 | F55: 1.25 | G55: =0.01*F55/D55 -> 0.1 | H55: =F55/D55 -> 10
A56: /XK | B56: E-Mini Soybean Futures | C56: 10 | D56: 0.125 | E56: 12.5 | F56: 1.25 | G56: =0.01*F56/D56 -> 0.1 | H56: =F56/D56 -> 10
A57: /XW | B57: E-Mini Wheat Futures | C57: 10 | D57: 0.125 | E57: 12.5 | F57: 1.25 | G57: =0.01*F57/D57 -> 0.1 | H57: =F57/D57 -> 10
A58: /UB | B58: Ultra T-Bond Futures | C58: 1000 | D58: 0.03125 | E58: =100/32 -> 3.125 | F58: =C58/32 -> 31.25 | G58: n/a | H58: =C58 -> 1000
A59: /ZB | B59: 30-Year US Treasury Bond Futures | C59: 1000 | D59: 0.03125 | E59: =100/32 -> 3.125 | F59: =C59/32 -> 31.25 | G59: n/a | H59: =C59 -> 1000 | I59: TLT | J59: 1
A60: /ZF | B60: 5-Year US Treasury Note Futures | C60: 1000 | D60: 0.0078125 | E60: =100/128 -> 0.78125 | F60: =C60/128 -> 7.8125 | G60: n/a | H60: =C60 -> 1000 | J60: 1
A61: /ZN | B61: 10-Year US Treasury Note Futures | C61: 1000 | D61: 0.015625 | E61: =100/64 -> 1.5625 | F61: =C61/64 -> 15.625 | G61: n/a | H61: =C61 -> 1000 | J61: 1
A62: /ZT | B62: 2-Year US Treasury Note Futures | C62: 2000 | D62: 0.0078125 | E62: =100/128 -> 0.78125 | F62: =C62/128 -> 15.625 | G62: n/a | H62: =C62 -> 2000 | J62: 1
A63: /GE | B63: Eurodollar Futures | C63: 2500 | D63: 0.005 | E63: =100*D63 -> 0.5 | F63: 12.5 | G63: =0.01*F63/D63 -> 25 | H63: =F63/D63 -> 2500
A64: /ZQ | B64: Thirty-Day Fed Funds Futures | C64: 4168 | D64: 0.005 | E64: =100*D64 -> 0.5 | F64: 20.84 | G64: =0.01*F64/D64 -> 41.68 | H64: =F64/D64 -> 4168
A65: SPY | B65: S&P 500 ETF | D65: 0.01 | F65: 0.01 | I65: /ES or SPX
A66: IWM | B66: Russell 2000 ETF | D66: 0.01 | F66: 0.01 | I66: /TF or RUT
A67: DIA | B67: Dow Jones ETF | D67: 0.01 | F67: 0.01 | I67: /YM
A68: QQQ | B68: Nasdaq 100 ETF | D68: 0.01 | F68: 0.01 | I68: /NQ
A69: Stock | B69: Misc. Stock | D69: 0.01 | F69: 0.01

Sheet _histogram data2
A3: Avg. | B3: =Calculations!Z20 -> #N/A | D3: Prob | E3: Z-score | G3: 7-days out | I3: 45-days out
A4: IV | B4: =Calculations!L6 -> #N/A | D4: 0.95 | E4: =NORMSINV(D4) -> 1.6448536 | F4: =LN($B$3)+E4*($B$4/100*SQRT(7/365)) -> #N/A | G4: =EXP(F4) -> #N/A | H4: =LN($B$3)+E4*($B$4/100*SQRT(45/365)) -> #N/A | I4: =EXP(H4) -> #N/A
D5: 0.9 | E5: =NORMSINV(D5) -> 1.2815516 | F5: =LN($B$3)+E5*($B$4/100*SQRT(7/365)) -> #N/A | G5: =EXP(F5) -> #N/A | H5: =LN($B$3)+E5*($B$4/100*SQRT(45/365)) -> #N/A | I5: =EXP(H5) -> #N/A
D6: 0.85 | E6: =NORMSINV(D6) -> 1.0364334 | F6: =LN($B$3)+E6*($B$4/100*SQRT(7/365)) -> #N/A | G6: =EXP(F6) -> #N/A | H6: =LN($B$3)+E6*($B$4/100*SQRT(45/365)) -> #N/A | I6: =EXP(H6) -> #N/A
D7: 0.8 | E7: =NORMSINV(D7) -> 0.84162123 | F7: =LN($B$3)+E7*($B$4/100*SQRT(7/365)) -> #N/A | G7: =EXP(F7) -> #N/A | H7: =LN($B$3)+E7*($B$4/100*SQRT(45/365)) -> #N/A | I7: =EXP(H7) -> #N/A
D8: 0.75 | E8: =NORMSINV(D8) -> 0.67448975 | F8: =LN($B$3)+E8*($B$4/100*SQRT(7/365)) -> #N/A | G8: =EXP(F8) -> #N/A | H8: =LN($B$3)+E8*($B$4/100*SQRT(45/365)) -> #N/A | I8: =EXP(H8) -> #N/A
D9: 0.7 | E9: =NORMSINV(D9) -> 0.52440051 | F9: =LN($B$3)+E9*($B$4/100*SQRT(7/365)) -> #N/A | G9: =EXP(F9) -> #N/A | H9: =LN($B$3)+E9*($B$4/100*SQRT(45/365)) -> #N/A | I9: =EXP(H9) -> #N/A
D10: 0.65 | E10: =NORMSINV(D10) -> 0.38532047 | F10: =LN($B$3)+E10*($B$4/100*SQRT(7/365)) -> #N/A | G10: =EXP(F10) -> #N/A | H10: =LN($B$3)+E10*($B$4/100*SQRT(45/365)) -> #N/A | I10: =EXP(H10) -> #N/A
D11: 0.6 | E11: =NORMSINV(D11) -> 0.2533471 | F11: =LN($B$3)+E11*($B$4/100*SQRT(7/365)) -> #N/A | G11: =EXP(F11) -> #N/A | H11: =LN($B$3)+E11*($B$4/100*SQRT(45/365)) -> #N/A | I11: =EXP(H11) -> #N/A
D12: 0.55 | E12: =NORMSINV(D12) -> 0.12566135 | F12: =LN($B$3)+E12*($B$4/100*SQRT(7/365)) -> #N/A | G12: =EXP(F12) -> #N/A | H12: =LN($B$3)+E12*($B$4/100*SQRT(45/365)) -> #N/A | I12: =EXP(H12) -> #N/A
D13: 0.5 | E13: =NORMSINV(D13) -> 0 | F13: =LN($B$3)+E13*($B$4/100*SQRT(7/365)) -> #N/A | G13: =EXP(F13) -> #N/A | H13: =LN($B$3)+E13*($B$4/100*SQRT(45/365)) -> #N/A | I13: =EXP(H13) -> #N/A
D14: 0.45 | E14: =NORMSINV(D14) -> -0.12566135 | F14: =LN($B$3)+E14*($B$4/100*SQRT(7/365)) -> #N/A | G14: =EXP(F14) -> #N/A | H14: =LN($B$3)+E14*($B$4/100*SQRT(45/365)) -> #N/A | I14: =EXP(H14) -> #N/A
D15: 0.4 | E15: =NORMSINV(D15) -> -0.2533471 | F15: =LN($B$3)+E15*($B$4/100*SQRT(7/365)) -> #N/A | G15: =EXP(F15) -> #N/A | H15: =LN($B$3)+E15*($B$4/100*SQRT(45/365)) -> #N/A | I15: =EXP(H15) -> #N/A
D16: 0.35 | E16: =NORMSINV(D16) -> -0.38532047 | F16: =LN($B$3)+E16*($B$4/100*SQRT(7/365)) -> #N/A | G16: =EXP(F16) -> #N/A | H16: =LN($B$3)+E16*($B$4/100*SQRT(45/365)) -> #N/A | I16: =EXP(H16) -> #N/A
... D23: 0 | E23: =NORMSINV(D23) -> #NUM! | F23: =LN($B$3)+E23*($B$4/100*SQRT(7/365)) -> #N/A | G23: =EXP(F23) -> #N/A | H23: =LN($B$3)+E23*($B$4/100*SQRT(45/365)) -> #N/A | I23: =EXP(H23) -> #N/A

Sheet _calc
A1: =Calculations!I6*Calculations!L6/100*SQRT(1/365)*-1 -> #N/A | B1: =Calculations!I6*Calculations!L6/100*SQRT(1/365) -> #N/A | C1: =CONCATENATE(CHAR(177),ROUND(Calculations!Z20*Calculations!L6/100*SQRT(1/365),2)) -> #N/A
A2: =Calculations!I6*Calculations!L6/100*SQRT(2/365)*-1 -> #N/A | B2: =Calculations!I6*Calculations!L6/100*SQRT(2/365) -> #N/A | C2: =CONCATENATE(CHAR(177),ROUND(Calculations!Z20*Calculations!L6/100*SQRT(2/365),2)) -> #N/A
A3: =Calculations!I6*Calculations!L6/100*SQRT(3/365)*-1 -> #N/A | B3: =Calculations!I6*Calculations!L6/100*SQRT(3/365) -> #N/A | C3: =CONCATENATE(CHAR(177),ROUND(Calculations!Z20*Calculations!L6/100*SQRT(3/365),2)) -> #N/A
A4: =Calculations!I6*Calculations!L6/100*SQRT(7/365)*-1 -> #N/A | B4: =Calculations!I6*Calculations!L6/100*SQRT(7/365) -> #N/A | C4: =CONCATENATE(CHAR(177),ROUND(Calculations!Z20*Calculations!L6/100*SQRT(7/365),2)) -> #N/A
