Workbook

Sheet vtad
A1: Legend | E1: ="Sample Size = "&COUNT(C11:C1048576)&" days - Morning Session" -> Sample Size = 89 days - Morning Session | P1: ="Sample Size = "&COUNT(C11:C1048576)&" days - Setup1" -> Sample Size = 89 days - Setup1 | X1: ="Sample Size = "&COUNT(C11:C1048576)&" days - Setup 2, Setup 3 and Setup 4" -> Sample Size = 89 days - Setup 2, Setup 3 and Setup 4 | AH1: =+E1 -> Sample Size = 89 days - Morning Session | AP1: =+P1 -> Sample Size = 89 days - Setup1 | AX1: =+X1 -> Sample Size = 89 days - Setup 2, Setup 3 and Setup 4
A2: 0 | B2: Level reached without reversion | C2: L1 = Long Level 1 | F2: L1 | G2: L2 | H2: S1 | I2: S2 | J2: Double GAP | K2: Wide GAP | Q2: L1 | R2: L2 | S2: S1 | T2: S2 | U2: Setup1 | Y2: Setup 2 | Z2: Setup 3 | AA2: Setup 4 | AH2: Trade | AI2: Num. of cases | AJ2: Profits | AK2: Breakevens | AL2: Losses | AM2: Exceptions | AN2: Win ratio | AP2: Trade | AQ2: Num. of cases | AR2: Profits | AS2: Breakevens | AT2: Losses | AU2: Exceptions | AV2: Win ratio | AX2: Trade | AY2: Num. of cases | AZ2: Profits | BA2: Breakevens | BB2: Losses | BC2: Exceptions | BD2: Win ratio
A3: 1 | B3: Profit | C3: L2 = Long Level 2 | E3: Num. of cases | F3: =+COUNT(H$11:H$1048576) -> 37 | G3: =+COUNT(I$11:I$1048576) -> 16 | H3: =+COUNT(K$11:K$1048576) -> 33 | I3: =+COUNT(L$11:L$1048576) -> 12 | J3: =+COUNT(E$11:E$1048576) -> 15 | K3: =+COUNT(F$11:F$1048576) -> 13 | P3: Num. of cases | Q3: =+COUNT(O$11:O$1048576) -> 1 | R3: =+COUNT(P$11:P$1048576) -> 7 | S3: =+COUNT(R$11:R$1048576) -> 5 | T3: =+COUNT(S$11:S$1048576) -> 6 | U3: =+SUM(Tabla22[[#This Row],[L1]:[S2]]) -> 19 | X3: Num. of cases | Y3: =+COUNT(U$11:U$1048576) -> 5 | Z3: =+COUNT(V$11:V$1048576) -> 18 | AA3: =+COUNT(W$11:W$1048576) -> 46 | AH3: S2 | AI3: {=+SUMPRODUCT(($E$3:$E$8 = AI$2)*($F$2:$K$2=$AH3)*($F$3:$K$8))} -> 12 | AJ3: {=+SUMPRODUCT(($E$3:$E$8 = AJ$2)*($F$2:$K$2=$AH3)*($F$3:$K$8))} -> 10 | AK3: {=+SUMPRODUCT(($E$3:$E$8 = AK$2)*($F$2:$K$2=$AH3)*($F$3:$K$8))} -> 0 | AL3: {=+SUMPRODUCT(($E$3:$E$8 = AL$2)*($F$2:$K$2=$AH3)*($F$3:$K$8))} -> 1 | AM3: {=+SUMPRODUCT(($E$3:$E$8 = AM$2)*($F$2:$K$2=$AH3)*($F$3:$K$8))} -> 1 | AN3: {=+SUMPRODUCT(($E$3:$E$8 = AN$2)*($F$2:$K$2=$AH3)*($F$3:$K$8))} -> 0.90909091 | AP3: S2 | AQ3: {=+SUMPRODUCT(($P$3:$P$8 = AQ$2)*($Q$2:$V$2=$AP3)*($Q$3:$V$8))} -> 6 | AR3: {=+SUMPRODUCT(($P$3:$P$8 = AR$2)*($Q$2:$V$2=$AP3)*($Q$3:$V$8))} -> 4 | AS3: {=+SUMPRODUCT(($P$3:$P$8 = AS$2)*($Q$2:$V$2=$AP3)*($Q$3:$V$8))} -> 0 | AT3: {=+SUMPRODUCT(($P$3:$P$8 = AT$2)*($Q$2:$V$2=$AP3)*($Q$3:$V$8))} -> 2 | AU3: {=+SUMPRODUCT(($P$3:$P$8 = AU$2)*($Q$2:$V$2=$AP3)*($Q$3:$V$8))} -> 0 | AV3: {=+SUMPRODUCT(($P$3:$P$8 = AV$2)*($Q$2:$V$2=$AP3)*($Q$3:$V$8))} -> 0.66666667 | AX3: Setup 2 | AY3: {=+SUMPRODUCT(($X$3:$X$8 = AY$2)*($Y$2:$AB$2=$AX3)*($Y$3:$AB$8))} -> 5 | AZ3: {=+SUMPRODUCT(($X$3:$X$8 = AZ$2)*($Y$2:$AB$2=$AX3)*($Y$3:$AB$8))} -> 5 | BA3: {=+SUMPRODUCT(($X$3:$X$8 = BA$2)*($Y$2:$AB$2=$AX3)*($Y$3:$AB$8))} -> 0 | BB3: {=+SUMPRODUCT(($X$3:$X$8 = BB$2)*($Y$2:$AB$2=$AX3)*($Y$3:$AB$8))} -> 0 | BC3: {=+SUMPRODUCT(($X$3:$X$8 = BC$2)*($Y$2:$AB$2=$AX3)*($Y$3:$AB$8))} -> 0 | BD3: {=+SUMPRODUCT(($X$3:$X$8 = BD$2)*($Y$2:$AB$2=$AX3)*($Y$3:$AB$8))} -> 1
A4: 2 | B4: Breakeven | C4: S1 = Short Level 1 | E4: Profits | F4: =COUNTIF(H$11:H$1048576,1) -> 26 | G4: =COUNTIF(I$11:I$1048576,1) -> 12 | H4: =COUNTIF(K$11:K$1048576,1) -> 23 | I4: =COUNTIF(L$11:L$1048576,1) -> 10 | J4: =COUNTIF(E$11:E$1048576,1) -> 15 | K4: =COUNTIF(F$11:F$1048576,1) -> 3 | P4: Profits | Q4: =COUNTIF(O$11:O$1048576,1) -> 1 | R4: =COUNTIF(P$11:P$1048576,1) -> 5 | S4: =COUNTIF(R$11:R$1048576,1) -> 4 | T4: =COUNTIF(S$11:S$1048576,1) -> 4 | U4: =+SUM(Tabla22[[#This Row],[L1]:[S2]]) -> 14 | X4: Profits | Y4: =COUNTIF(U$11:U$1048576,1) -> 5 | Z4: =COUNTIF(V$11:V$1048576,1) -> 15 | AA4: =COUNTIF(W$11:W$1048576,1) -> 38 | AH4: S1 | AI4: {=+SUMPRODUCT(($E$3:$E$8 = AI$2)*($F$2:$K$2=$AH4)*($F$3:$K$8))} -> 33 | AJ4: {=+SUMPRODUCT(($E$3:$E$8 = AJ$2)*($F$2:$K$2=$AH4)*($F$3:$K$8))} -> 23 | AK4: {=+SUMPRODUCT(($E$3:$E$8 = AK$2)*($F$2:$K$2=$AH4)*($F$3:$K$8))} -> 3 | AL4: {=+SUMPRODUCT(($E$3:$E$8 = AL$2)*($F$2:$K$2=$AH4)*($F$3:$K$8))} -> 5 | AM4: {=+SUMPRODUCT(($E$3:$E$8 = AM$2)*($F$2:$K$2=$AH4)*($F$3:$K$8))} -> 2 | AN4: {=+SUMPRODUCT(($E$3:$E$8 = AN$2)*($F$2:$K$2=$AH4)*($F$3:$K$8))} -> 0.74193548 | AP4: S1 | AQ4: {=+SUMPRODUCT(($P$3:$P$8 = AQ$2)*($Q$2:$V$2=$AP4)*($Q$3:$V$8))} -> 5 | AR4: {=+SUMPRODUCT(($P$3:$P$8 = AR$2)*($Q$2:$V$2=$AP4)*($Q$3:$V$8))} -> 4 | AS4: {=+SUMPRODUCT(($P$3:$P$8 = AS$2)*($Q$2:$V$2=$AP4)*($Q$3:$V$8))} -> 0 | AT4: {=+SUMPRODUCT(($P$3:$P$8 = AT$2)*($Q$2:$V$2=$AP4)*($Q$3:$V$8))} -> 1 | AU4: {=+SUMPRODUCT(($P$3:$P$8 = AU$2)*($Q$2:$V$2=$AP4)*($Q$3:$V$8))} -> 0 | AV4: {=+SUMPRODUCT(($P$3:$P$8 = AV$2)*($Q$2:$V$2=$AP4)*($Q$3:$V$8))} -> 0.8 | AX4: Setup 3 | AY4: {=+SUMPRODUCT(($X$3:$X$8 = AY$2)*($Y$2:$AB$2=$AX4)*($Y$3:$AB$8))} -> 18 | AZ4: {=+SUMPRODUCT(($X$3:$X$8 = AZ$2)*($Y$2:$AB$2=$AX4)*($Y$3:$AB$8))} -> 15 | BA4: {=+SUMPRODUCT(($X$3:$X$8 = BA$2)*($Y$2:$AB$2=$AX4)*($Y$3:$AB$8))} -> 1 | BB4: {=+SUMPRODUCT(($X$3:$X$8 = BB$2)*($Y$2:$AB$2=$AX4)*($Y$3:$AB$8))} -> 2 | BC4: {=+SUMPRODUCT(($X$3:$X$8 = BC$2)*($Y$2:$AB$2=$AX4)*($Y$3:$AB$8))} -> 0 | BD4: {=+SUMPRODUCT(($X$3:$X$8 = BD$2)*($Y$2:$AB$2=$AX4)*($Y$3:$AB$8))} -> 0.83333333
A5: 3 | B5: loss | C5: S2 = Short Level 2 | E5: Breakevens | F5: =COUNTIF(H$11:H$1048576,2) -> 3 | G5: =COUNTIF(I$11:I$1048576,2) -> 2 | H5: =COUNTIF(K$11:K$1048576,2) -> 3 | I5: =COUNTIF(L$11:L$1048576,2) -> 0 | J5: =COUNTIF(E$11:E$1048576,2) -> 0 | K5: =COUNTIF(F$11:F$1048576,2) -> 1 | P5: Breakevens | Q5: =COUNTIF(O$11:O$1048576,2) -> 0 | R5: =COUNTIF(P$11:P$1048576,2) -> 0 | S5: =COUNTIF(R$11:R$1048576,2) -> 0 | T5: =COUNTIF(S$11:S$1048576,2) -> 0 | U5: =+SUM(Tabla22[[#This Row],[L1]:[S2]]) -> 0 | X5: Breakevens | Y5: =COUNTIF(U$11:U$1048576,2) -> 0 | Z5: =COUNTIF(V$11:V$1048576,2) -> 1 | AA5: =COUNTIF(W$11:W$1048576,2) -> 0 | AH5: L1 | AI5: {=+SUMPRODUCT(($E$3:$E$8 = AI$2)*($F$2:$K$2=$AH5)*($F$3:$K$8))} -> 37 | AJ5: {=+SUMPRODUCT(($E$3:$E$8 = AJ$2)*($F$2:$K$2=$AH5)*($F$3:$K$8))} -> 26 | AK5: {=+SUMPRODUCT(($E$3:$E$8 = AK$2)*($F$2:$K$2=$AH5)*($F$3:$K$8))} -> 3 | AL5: {=+SUMPRODUCT(($E$3:$E$8 = AL$2)*($F$2:$K$2=$AH5)*($F$3:$K$8))} -> 8 | AM5: {=+SUMPRODUCT(($E$3:$E$8 = AM$2)*($F$2:$K$2=$AH5)*($F$3:$K$8))} -> 0 | AN5: {=+SUMPRODUCT(($E$3:$E$8 = AN$2)*($F$2:$K$2=$AH5)*($F$3:$K$8))} -> 0.7027027 | AP5: L1 | AQ5: {=+SUMPRODUCT(($P$3:$P$8 = AQ$2)*($Q$2:$V$2=$AP5)*($Q$3:$V$8))} -> 1 | AR5: {=+SUMPRODUCT(($P$3:$P$8 = AR$2)*($Q$2:$V$2=$AP5)*($Q$3:$V$8))} -> 1 | AS5: {=+SUMPRODUCT(($P$3:$P$8 = AS$2)*($Q$2:$V$2=$AP5)*($Q$3:$V$8))} -> 0 | AT5: {=+SUMPRODUCT(($P$3:$P$8 = AT$2)*($Q$2:$V$2=$AP5)*($Q$3:$V$8))} -> 0 | AU5: {=+SUMPRODUCT(($P$3:$P$8 = AU$2)*($Q$2:$V$2=$AP5)*($Q$3:$V$8))} -> 0 | AV5: {=+SUMPRODUCT(($P$3:$P$8 = AV$2)*($Q$2:$V$2=$AP5)*($Q$3:$V$8))} -> 1 | AX5: Setup 4 | AY5: {=+SUMPRODUCT(($X$3:$X$8 = AY$2)*($Y$2:$AB$2=$AX5)*($Y$3:$AB$8))} -> 46 | AZ5: {=+SUMPRODUCT(($X$3:$X$8 = AZ$2)*($Y$2:$AB$2=$AX5)*($Y$3:$AB$8))} -> 38 | BA5: {=+SUMPRODUCT(($X$3:$X$8 = BA$2)*($Y$2:$AB$2=$AX5)*($Y$3:$AB$8))} -> 0 | BB5: {=+SUMPRODUCT(($X$3:$X$8 = BB$2)*($Y$2:$AB$2=$AX5)*($Y$3:$AB$8))} -> 2 | BC5: {=+SUMPRODUCT(($X$3:$X$8 = BC$2)*($Y$2:$AB$2=$AX5)*($Y$3:$AB$8))} -> 5 | BD5: {=+SUMPRODUCT(($X$3:$X$8 = BD$2)*($Y$2:$AB$2=$AX5)*($Y$3:$AB$8))} -> 0.92682927
B6: ="Sample Size = "&COUNT(C11:C1048576) -> Sample Size = 89 | E6: Losses | F6: =COUNTIF(H$11:H$1048576,3) -> 8 | G6: =COUNTIF(I$11:I$1048576,3) -> 2 | H6: =COUNTIF(K$11:K$1048576,3) -> 5 | I6: =COUNTIF(L$11:L$1048576,3) -> 1 | J6: =COUNTIF(E$11:E$1048576,3) -> 0 | K6: =COUNTIF(F$11:F$1048576,3) -> 1 | P6: Losses | Q6: =COUNTIF(O$11:O$1048576,3) -> 0 | R6: =COUNTIF(P$11:P$1048576,3) -> 1 | S6: =COUNTIF(R$11:R$1048576,3) -> 1 | T6: =COUNTIF(S$11:S$1048576,3) -> 2 | U6: =+SUM(Tabla22[[#This Row],[L1]:[S2]]) -> 4 | X6: Losses | Y6: =COUNTIF(U$11:U$1048576,3) -> 0 | Z6: =COUNTIF(V$11:V$1048576,3) -> 2 | AA6: =COUNTIF(W$11:W$1048576,3) -> 2 | AH6: L2 | AI6: {=+SUMPRODUCT(($E$3:$E$8 = AI$2)*($F$2:$K$2=$AH6)*($F$3:$K$8))} -> 16 | AJ6: {=+SUMPRODUCT(($E$3:$E$8 = AJ$2)*($F$2:$K$2=$AH6)*($F$3:$K$8))} -> 12 | AK6: {=+SUMPRODUCT(($E$3:$E$8 = AK$2)*($F$2:$K$2=$AH6)*($F$3:$K$8))} -> 2 | AL6: {=+SUMPRODUCT(($E$3:$E$8 = AL$2)*($F$2:$K$2=$AH6)*($F$3:$K$8))} -> 2 | AM6: {=+SUMPRODUCT(($E$3:$E$8 = AM$2)*($F$2:$K$2=$AH6)*($F$3:$K$8))} -> 0 | AN6: {=+SUMPRODUCT(($E$3:$E$8 = AN$2)*($F$2:$K$2=$AH6)*($F$3:$K$8))} -> 0.75 | AP6: L2 | AQ6: {=+SUMPRODUCT(($P$3:$P$8 = AQ$2)*($Q$2:$V$2=$AP6)*($Q$3:$V$8))} -> 7 | AR6: {=+SUMPRODUCT(($P$3:$P$8 = AR$2)*($Q$2:$V$2=$AP6)*($Q$3:$V$8))} -> 5 | AS6: {=+SUMPRODUCT(($P$3:$P$8 = AS$2)*($Q$2:$V$2=$AP6)*($Q$3:$V$8))} -> 0 | AT6: {=+SUMPRODUCT(($P$3:$P$8 = AT$2)*($Q$2:$V$2=$AP6)*($Q$3:$V$8))} -> 1 | AU6: {=+SUMPRODUCT(($P$3:$P$8 = AU$2)*($Q$2:$V$2=$AP6)*($Q$3:$V$8))} -> 1 | AV6: {=+SUMPRODUCT(($P$3:$P$8 = AV$2)*($Q$2:$V$2=$AP6)*($Q$3:$V$8))} -> 0.83333333
E7: Exceptions | F7: =COUNTIF(H$11:H$1048576,0) -> 0 | G7: =COUNTIF(I$11:I$1048576,0) -> 0 | H7: =COUNTIF(K$11:K$1048576,0) -> 2 | I7: =COUNTIF(L$11:L$1048576,0) -> 1 | J7: =COUNTIF(E$11:E$1048576,0) -> 0 | K7: =COUNTIF(F$11:F$1048576,0) -> 8 | P7: Exceptions | Q7: =COUNTIF(O$11:O$1048576,0) -> 0 | R7: =COUNTIF(P$11:P$1048576,0) -> 1 | S7: =COUNTIF(R$11:R$1048576,0) -> 0 | T7: =COUNTIF(S$11:S$1048576,0) -> 0 | U7: =+SUM(Tabla22[[#This Row],[L1]:[S2]]) -> 1 | X7: Exceptions | Y7: =COUNTIF(U$11:U$1048576,0) -> 0 | Z7: =COUNTIF(V$11:V$1048576,0) -> 0 | AA7: =COUNTIF(W$11:W$1048576,0) -> 5 | AH7: Double GAP | AI7: {=+SUMPRODUCT(($E$3:$E$8 = AI$2)*($F$2:$K$2=$AH7)*($F$3:$K$8))} -> 15 | AJ7: {=+SUMPRODUCT(($E$3:$E$8 = AJ$2)*($F$2:$K$2=$AH7)*($F$3:$K$8))} -> 15 | AK7: {=+SUMPRODUCT(($E$3:$E$8 = AK$2)*($F$2:$K$2=$AH7)*($F$3:$K$8))} -> 0 | AL7: {=+SUMPRODUCT(($E$3:$E$8 = AL$2)*($F$2:$K$2=$AH7)*($F$3:$K$8))} -> 0 | AM7: {=+SUMPRODUCT(($E$3:$E$8 = AM$2)*($F$2:$K$2=$AH7)*($F$3:$K$8))} -> 0 | AN7: {=+SUMPRODUCT(($E$3:$E$8 = AN$2)*($F$2:$K$2=$AH7)*($F$3:$K$8))} -> 1 | AP7: Setup1 | AQ7: {=+SUMPRODUCT(($P$3:$P$8 = AQ$2)*($Q$2:$V$2=$AP7)*($Q$3:$V$8))} -> 19 | AR7: {=+SUMPRODUCT(($P$3:$P$8 = AR$2)*($Q$2:$V$2=$AP7)*($Q$3:$V$8))} -> 14 | AS7: {=+SUMPRODUCT(($P$3:$P$8 = AS$2)*($Q$2:$V$2=$AP7)*($Q$3:$V$8))} -> 0 | AT7: {=+SUMPRODUCT(($P$3:$P$8 = AT$2)*($Q$2:$V$2=$AP7)*($Q$3:$V$8))} -> 4 | AU7: {=+SUMPRODUCT(($P$3:$P$8 = AU$2)*($Q$2:$V$2=$AP7)*($Q$3:$V$8))} -> 1 | AV7: {=+SUMPRODUCT(($P$3:$P$8 = AV$2)*($Q$2:$V$2=$AP7)*($Q$3:$V$8))} -> 0.77777778
E8: Win ratio | F8: =+F4/(F3-F7) -> 0.7027027 | G8: =+G4/(G3-G7) -> 0.75 | H8: =+H4/(H3-H7) -> 0.74193548 | I8: =+I4/(I3-I7) -> 0.90909091 | J8: =+J4/(J3-J7) -> 1 | K8: =+K4/(K3-K7) -> 0.6 | P8: Win ratio | Q8: =+Q4/(Q3-Q7) -> 1 | R8: =+R4/(R3-R7) -> 0.83333333 | S8: =+S4/(S3-S7) -> 0.8 | T8: =+T4/(T3-T7) -> 0.66666667 | U8: =+U4/(U3-U7) -> 0.77777778 | X8: Win ratio | Y8: =+Y4/(Y3-Y7) -> 1 | Z8: =+Z4/(Z3-Z7) -> 0.83333333 | AA8: =+AA4/(AA3-AA7) -> 0.92682927 | AH8: Wide GAP | AI8: {=+SUMPRODUCT(($E$3:$E$8 = AI$2)*($F$2:$K$2=$AH8)*($F$3:$K$8))} -> 13 | AJ8: {=+SUMPRODUCT(($E$3:$E$8 = AJ$2)*($F$2:$K$2=$AH8)*($F$3:$K$8))} -> 3 | AK8: {=+SUMPRODUCT(($E$3:$E$8 = AK$2)*($F$2:$K$2=$AH8)*($F$3:$K$8))} -> 1 | AL8: {=+SUMPRODUCT(($E$3:$E$8 = AL$2)*($F$2:$K$2=$AH8)*($F$3:$K$8))} -> 1 | AM8: {=+SUMPRODUCT(($E$3:$E$8 = AM$2)*($F$2:$K$2=$AH8)*($F$3:$K$8))} -> 8 | AN8: {=+SUMPRODUCT(($E$3:$E$8 = AN$2)*($F$2:$K$2=$AH8)*($F$3:$K$8))} -> 0.6
O9: SETUP1
B10: Round VDAX-new | C10: date | D10: vdax-new (day before) | E10: Doble GAP | F10: Wide GAP | G10: Monster GAP | H10: L1 | I10: L2 | J10: LS | K10: S1 | L10: S2 | M10: SS | O10: L1 | P10: L2 | Q10: LS | R10: S1 | S10: S2 | T10: SS | U10: SETUP2 | V10: SETUP3 | W10: SETUP4 | X10: SETUP5 | Y10: Comments
A11: =+COUNTIF(E11:X11,3) -> 0 | B11: =VLOOKUP(INT(D11),$AE$14:$AE$30,1,1) -> 20 | C11: 44774 | D11: 23.81 | F11: 1 | W11: 1
A12: =+COUNTIF(E12:X12,3) -> 0 | B12: =VLOOKUP(INT(D12),$AE$14:$AE$30,1,1) -> 20 | C12: 44775 | D12: 24.64 | F12: 0 | H12: 1 | S12: 1 | W12: 1
A13: =+COUNTIF(E13:X13,3) -> 0 | B13: =VLOOKUP(INT(D13),$AE$14:$AE$30,1,1) -> 25 | C13: 44776 | D13: 25.35 | W13: 0 | Y13: Setup 4 was not triggered because the dow was trading above 1% | AE13: Range VDAX-new | AF13: ="Sample Size = "&COUNT(C11:C1048576) -> Sample Size = 89
A14: =+COUNTIF(E14:X14,3) -> 1 | B14: =VLOOKUP(INT(D14),$AE$14:$AE$30,1,1) -> 20 | C14: 44777 | D14: 23.99 | K14: 3 | L14: 1 | M14: 1 | V14: 1 | AE14: 5 | AF14: =+COUNTIF($B$11:$B$1048576,AE14) -> 0
A15: =+COUNTIF(E15:X15,3) -> 0 | B15: =VLOOKUP(INT(D15),$AE$14:$AE$30,1,1) -> 20 | C15: 44778 | D15: 23.85 | I15: 1 | W15: 1 | Y15: Unemployment EEUU Rate | AE15: 10 | AF15: =+COUNTIF($B$11:$B$1048576,AE15) -> 0
A16: =+COUNTIF(E16:X16,3) -> 0 | B16: =VLOOKUP(INT(D16),$AE$14:$AE$30,1,1) -> 20 | C16: 44781 | D16: 24.37 | K16: 1 | W16: 1 | AE16: 15 | AF16: =+COUNTIF($B$11:$B$1048576,AE16) -> 0
A17: =+COUNTIF(E17:X17,3) -> 1 | B17: =VLOOKUP(INT(D17),$AE$14:$AE$30,1,1) -> 20 | C17: 44782 | D17: 23.83 | H17: 3 | W17: 1 | AE17: 20 | AF17: =+COUNTIF($B$11:$B$1048576,AE17) -> 36
A18: =+COUNTIF(E18:X18,3) -> 0 | B18: =VLOOKUP(INT(D18),$AE$14:$AE$30,1,1) -> 20 | C18: 44783 | D18: 24.48 | H18: 1 | K18: 2 | W18: 0 | Y18: Setup 4 was not triggered because the dow was trading above 1% | AE18: 25 | AF18: =+COUNTIF($B$11:$B$1048576,AE18) -> 43
A19: =+COUNTIF(E19:X19,3) -> 1 | B19: =VLOOKUP(INT(D19),$AE$14:$AE$30,1,1) -> 20 | C19: 44784 | D19: 23.14 | H19: 1 | V19: 3 | W19: 1 | AE19: 30 | AF19: =+COUNTIF($B$11:$B$1048576,AE19) -> 10
A20: =+COUNTIF(E20:X20,3) -> 1 | B20: =VLOOKUP(INT(D20),$AE$14:$AE$30,1,1) -> 20 | C20: 44785 | D20: 23.04 | K20: 3 | L20: 1 | AE20: 35 | AF20: =+COUNTIF($B$11:$B$1048576,AE20) -> 0
A21: =+COUNTIF(E21:X21,3) -> 1 | B21: =VLOOKUP(INT(D21),$AE$14:$AE$30,1,1) -> 20 | C21: 44788 | D21: 22.2 | H21: 3 | W21: 1 | AE21: 40 | AF21: =+COUNTIF($B$11:$B$1048576,AE21) -> 0
A22: =+COUNTIF(E22:X22,3) -> 0 | B22: =VLOOKUP(INT(D22),$AE$14:$AE$30,1,1) -> 20 | C22: 44789 | D22: 22.58 | K22: 1 | W22: 1 | AE22: 45 | AF22: =+COUNTIF($B$11:$B$1048576,AE22) -> 0
A23: =+COUNTIF(E23:X23,3) -> 2 | B23: =VLOOKUP(INT(D23),$AE$14:$AE$30,1,1) -> 20 | C23: 44790 | D23: 22.03 | H23: 3 | I23: 3 | J23: 1 | AE23: 50 | AF23: =+COUNTIF($B$11:$B$1048576,AE23) -> 0
A24: =+COUNTIF(E24:X24,3) -> 0 | B24: =VLOOKUP(INT(D24),$AE$14:$AE$30,1,1) -> 20 | C24: 44791 | D24: 24.38 | K24: 2 | L24: 1 | V24: 1 | AE24: 55 | AF24: =+COUNTIF($B$11:$B$1048576,AE24) -> 0
A25: =+COUNTIF(E25:X25,3) -> 0 | B25: =VLOOKUP(INT(D25),$AE$14:$AE$30,1,1) -> 20 | C25: 44792 | D25: 24.56 | H25: 1 | AE25: 60 | AF25: =+COUNTIF($B$11:$B$1048576,AE25) -> 0
A26: =+COUNTIF(E26:X26,3) -> 0 | B26: =VLOOKUP(INT(D26),$AE$14:$AE$30,1,1) -> 25 | C26: 44795 | D26: 26.19 | H26: 1 | I26: 1 | J26: 1 | P26: 0 | W26: 0 | Y26: Setup 1 and 4 were not triggered because the dow was trading above 1% | AE26: 65 | AF26: =+COUNTIF($B$11:$B$1048576,AE26) -> 0
A27: =+COUNTIF(E27:X27,3) -> 0 | B27: =VLOOKUP(INT(D27),$AE$14:$AE$30,1,1) -> 25 | C27: 44796 | D27: 29.57 | H27: 1 | K27: 1 | V27: 1 | AE27: 70 | AF27: =+COUNTIF($B$11:$B$1048576,AE27) -> 0
A28: =+COUNTIF(E28:X28,3) -> 0 | B28: =VLOOKUP(INT(D28),$AE$14:$AE$30,1,1) -> 25 | C28: 44797 | D28: 28.82 | H28: 1 | K28: 1 | W28: 1 | AE28: 75 | AF28: =+COUNTIF($B$11:$B$1048576,AE28) -> 0
A29: =+COUNTIF(E29:X29,3) -> 0 | B29: =VLOOKUP(INT(D29),$AE$14:$AE$30,1,1) -> 25 | C29: 44798 | D29: 27.32 | F29: 0 | K29: 1 | L29: 1 | W29: 1 | AE29: 80 | AF29: =+COUNTIF($B$11:$B$1048576,AE29) -> 0
A30: =+COUNTIF(E30:X30,3) -> 1 | B30: =VLOOKUP(INT(D30),$AE$14:$AE$30,1,1) -> 25 | C30: 44799 | D30: 26.09 | H30: 3 | I30: 1 | AE30: 85 | AF30: =+COUNTIF($B$11:$B$1048576,AE30) -> 0
A31: =+COUNTIF(E31:X31,3) -> 0 | B31: =VLOOKUP(INT(D31),$AE$14:$AE$30,1,1) -> 25 | C31: 44802 | D31: 27.82 | E31: 1 | AH31: VDAX-new | AI31: L1 | AJ31: L2 | AK31: Long STOP | AL31: S1 | AM31: S2 | AN31: Short STOP
A32: =+COUNTIF(E32:X32,3) -> 1 | B32: =VLOOKUP(INT(D32),$AE$14:$AE$30,1,1) -> 25 | C32: 44803 | D32: 29.39 | E32: 1 | H32: 1 | L32: 3 | M32: 1 | U32: 1 | AH32: <20 | AI32: -40 | AJ32: -80 | AK32: -115 | AL32: 40 | AM32: 80 | AN32: 115
A33: =+COUNTIF(E33:X33,3) -> 3 | B33: =VLOOKUP(INT(D33),$AE$14:$AE$30,1,1) -> 25 | C33: 44804 | D33: 28.9 | F33: 3 | I33: 1 | J33: 1 | P33: 3 | Q33: 1 | V33: 3 | AH33: 20-25 | AI33: -50 | AJ33: -100 | AK33: -135 | AL33: 50 | AM33: 100 | AN33: 135
A34: =+COUNTIF(E34:X34,3) -> 0 | B34: =VLOOKUP(INT(D34),$AE$14:$AE$30,1,1) -> 25 | C34: 44805 | D34: 28.65 | H34: 1 | W34: 1 | AH34: 25-30 | AI34: -55 | AJ34: -110 | AK34: -145 | AL34: 55 | AM34: 110 | AN34: 145
A35: =+COUNTIF(E35:X35,3) -> 0 | B35: =VLOOKUP(INT(D35),$AE$14:$AE$30,1,1) -> 25 | C35: 44806 | D35: 29.22 | AH35: 30-35 | AI35: -100 | AJ35: -165 | AK35: -200 | AL35: 65 | AM35: 130 | AN35: 165
A36: =+COUNTIF(E36:X36,3) -> 0 | B36: =VLOOKUP(INT(D36),$AE$14:$AE$30,1,1) -> 25 | C36: 44809 | D36: 26.26 | G36: 1 | W36: 1
A37: =+COUNTIF(E37:X37,3) -> 0 | B37: =VLOOKUP(INT(D37),$AE$14:$AE$30,1,1) -> 25 | C37: 44810 | D37: 28.66 | K37: 1 | M37: 1 | U37: 1
A38: =+COUNTIF(E38:X38,3) -> 0 | B38: =VLOOKUP(INT(D38),$AE$14:$AE$30,1,1) -> 25 | C38: 44811 | D38: 28.11 | E38: 1 | V38: 1
A39: =+COUNTIF(E39:X39,3) -> 0 | B39: =VLOOKUP(INT(D39),$AE$14:$AE$30,1,1) -> 25 | C39: 44812 | D39: 27.92 | E39: 1 | V39: 1
A40: =+COUNTIF(E40:X40,3) -> 1 | B40: =VLOOKUP(INT(D40),$AE$14:$AE$30,1,1) -> 25 | C40: 44813 | D40: 26.86 | K40: 3 | L40: 1 | M40: 1 | W40: 1
...

Sheet Reglas
B2: Inputs | I2: Morning Session Levels (08:00 - 14:30) | S2: GAP`s type (08:00 - 14:30)
B4: DAX (Closing 17:35) | E4: VDAX-new (Volatilidad) | I4: VDAX-new | J4: L1 | K4: L2 | L4: Long STOP | M4: S1 | N4: S2 | O4: Short STOP | S4: Double GAP Condiciones
B5: 14490.3 | E5: 21.06 | I5: 0 | J5: -40 | K5: -40 | L5: -35 | M5: 40 | N5: 40 | O5: 35 | S5: 1) VDAX-new > 30?
I6: 20 | J6: -50 | K6: -50 | L6: -35 | M6: 50 | N6: 50 | O6: 35 | S6: 2) DAX Closing < FDAX Closing < FDAX Opening o bien DAX Closing > FDAX Closing > FDAX Opening
B7: FDAX (Closing 22:00 previous day) | E7: FDAX (Opening 08:00) | I7: 25 | J7: -55 | K7: -55 | L7: -35 | M7: 55 | N7: 55 | O7: 35 | S7: 3) Valor absoluto ( FDAX Closing - DAX Closing) >= 10 y además Valor Absoluto (FDAX Opening - DAX Closing) >= 70
B8: 14488.5 | E8: 14450.65 | I8: 30 | J8: -100 | K8: -65 | L8: -35 | M8: 65 | N8: 65 | O8: 35 | S8: 2) + 3) En total debe haber una distancia de 70 puntos
S9: Nota 1: Obtener ganancias parciales con profit de 30 puntos
S10: Nota 2: Esperar al cierre de las velas 15m de las 9:00
S11: Nota 3: Recordar que puede ser GAP de reversión o continuación, una pista la ofrece overnight
S12: Nota 4: El punto de entrada se convierte en el primer nivel, el segundo nivel y STOP se establecen a partir del punto de entrada
S14: Wide GAP Condiciones
S15: 1) VDAX-new > 30?
S16: 2) No se cumple las condiciones 1) y 2) del Doble GAP
S17: 3) Valor absoluto ( FDAX Closing - FDAX Opening )>= 40 puntos si VDAX-new <20, 70 puntos si el VDAX-new>20
S19: *Excepciones:
S20: a) Si el Cierre del día anterior se encuentra en máximos o mínimos absolutos y overnight
S21: mantiene la tendencia en la misma dirección prodría haber continuación y no reversión.
S22: b) Si Valor absoluto ( FDAX Closing - FDAX Opening )>= 300 puntos, entonces se trata de un Monster GAP y no debe operarse
B40: Cálculos de las ZONAS
B42: L1 | C42: =IF(B66=B42,B64,MIN($E$8,$B$8)+F44) -> 14400.65
B43: L2 | C43: =C42+G44 -> 14350.65 | E43: VDAX-new | F43: L1 | G43: L2 | H43: Long STOP | I43: S1 | J43: S2 | K43: Short STOP
B44: LS | C44: =C43+H44 -> 14315.65 | E44: =+VLOOKUP(E5,$I$5:$I$8,1,1) -> 20 | F44: =+VLOOKUP($E44,$I$5:$O$8,MATCH(F43,$I$4:$O$4,),) -> -50 | G44: =+VLOOKUP($E44,$I$5:$O$8,MATCH(G43,$I$4:$O$4,),) -> -50 | H44: =+VLOOKUP($E44,$I$5:$O$8,MATCH(H43,$I$4:$O$4,),) -> -35 | I44: =+VLOOKUP($E44,$I$5:$O$8,MATCH(I43,$I$4:$O$4,),) -> 50 | J44: =+VLOOKUP($E44,$I$5:$O$8,MATCH(J43,$I$4:$O$4,),) -> 50 | K44: =+VLOOKUP($E44,$I$5:$O$8,MATCH(K43,$I$4:$O$4,),) -> 35
B46: S1 | C46: =IF(B66=B46,B64,MAX($E$8,$B$8)+I44) -> 14538.5
B47: S2 | C47: =C46+J44 -> 14588.5
B48: SS | C48: =C47+K44 -> 14623.5
B50: Cálculos GAPs
B52: Double? | C52: =+IF(AND(C53=1,C54=1,C55=1),1,0) -> 0 | D52: =+IF(C52=1,IF(E8>B8,"S1","L1"),"") | E52: =+IF(D52="","",E8)
B53: 1) ? | C53: =+IF(E5<=30,1,0) -> 1
B54: 2) ? | C54: =+IF(OR(AND(B5<B8,B8<E8),AND(B5>B8,B8>E8)),1,0) -> 1
B55: 3) ? | C55: =+IF(AND(ABS(B8-B5)>=10,ABS(E8-B5)>=70,ABS(E8-B8)<300),1,0) -> 0
B56: Wide? | C56: =+IF(AND(C57=1,C58=1,C59=1),1,0) -> 0 | D56: =+IF(C56=1,IF(E8<B8,"S1","L1"),"") | E56: =+IF(D56="","",B8)
B57: 1) ? | C57: =+C53 -> 1
B58: 2) ? | C58: =+IF(OR(C54=0,C55=0),1,0) -> 1
B59: 3) ? | C59: =+IF(OR(AND(E5<20,ABS(E8-B8)>=40,ABS(E8-B8)<300),AND(E5>=20,ABS(E8-B8)>=70,ABS(E8-B8)<300)),1,0) -> 0
B61: Existe GAP? | D61: Cuantos puntos?
B62: =+IF(C52=1,"Double GAP",IF(C56=1,"Wide GAP",IF(ABS(E8-B8)>=300,"Monster GAP","No GAP"))) -> No GAP | D62: =IF(B62="No GAP",I44,ABS(E8-B8)) -> 50 | F62: =+B62&" - Punto de Entrada: "&B66&" "&B64&" Objetivo: "&INT(D62)&" puntos" -> No GAP - Punto de Entrada: Objetivo: 50 puntos
B63: Si se produce el GAP, la primera zona la marcará el GAP
B64: =IF(N(E52)+N(E56)=0,"",N(E52)+N(E56))
B65: En qué posición se situa la primera zona del GAP, L o S?
B66: =+D52&D56
...

Sheet Data
B1: Origen: Investing | J1: Origen: Investing | R1: Origen: Investing | T1: 23.81
B2: DAX | C2: DE30 | J2: FDAX | K2: DE30 - Futures | R2: VDAX-new | S2: V1XI | Z2: VDAX-new | AA2: FDAX | AB2: FDAX | AC2: FDAX | AD2: FDAX | AE2: FDAX | AF2: FDAX
B3: Date | C3: close | D3: open | E3: higher | F3: lower | G3: volume | H3: %var. | J3: Date | K3: close | L3: open | M3: higher | N3: lower | O3: volume | P3: %var. | R3: Date | S3: close | T3: open | U3: higher | V3: lower | W3: volume | X3: %var. | Z3: Volatility Range | AA3: Range | AB3: % Distancia al Maximo diario | AC3: % Distancia al Minimo diario | AD3: Maximo nº de puntos de subida diaria | AE3: Maximo número de puntos de bajada diaria | AF3: Número de puntos mínimos de reversión
B4: 44774 | C4: 13479.63 | D4: 13471.2 | E4: 13570.22 | F4: 13464.9 | G4: 57.23M | H4: -0.0003 | J4: 44774 | K4: 13495 | L4: 13478 | M4: 13566 | N4: 13414 | O4: 46.93K | P4: 0.0017 | R4: 44774 | S4: 24.64 | T4: 24.77 | U4: 24.97 | V4: 23.99 | X4: 0.0347 | Z4: =+VLOOKUP(T1,Tablas!$C$5:$C$11,1,1) -> 20 | AA4: =+M4-N4 -> 152 | AB4: =+C4/E4-1 -> -0.0066756471 | AC4: =+K4/N4-1 -> 0.0060384673 | AD4: =+M4-L4 -> 88 | AE4: =+L4-N4 -> 64 | AF4: =+IF(AD4>=AE4,M4-K4,K4-N4) -> 71
B5: 44775 | C5: 13449.2 | D5: 13419.19 | E5: 13484.55 | F5: 13335.39 | G5: 56.68M | H5: -0.0023 | J5: 44775 | K5: 13446 | L5: 13449 | M5: 13501 | N5: 13324 | O5: 52.14K | P5: -0.0036 | R5: 44775 | S5: 25.35 | T5: 25.85 | U5: 26.2 | V5: 25.07 | X5: 0.029 | Z5: =+VLOOKUP(S4,Tablas!$C$5:$C$11,1,1) -> 20 | AA5: =+M5-N5 -> 177 | AB5: =+C5/E5-1 -> -0.0026215187 | AC5: =+K5/N5-1 -> 0.0091564095 | AD5: =+M5-L5 -> 52 | AE5: =+L5-N5 -> 125 | AF5: =+IF(AD5>=AE5,M5-K5,K5-N5) -> 122
B6: 44776 | C6: 13587.56 | D6: 13398.7 | E6: 13595.07 | F6: 13388.34 | G6: 63.64M | H6: 0.0103 | J6: 44776 | K6: 13578 | L6: 13408 | M6: 13640 | N6: 13377 | O6: 45.97K | P6: 0.0098 | R6: 44776 | S6: 23.99 | T6: 25.41 | U6: 25.5 | V6: 23.94 | X6: -0.0538 | Z6: =+VLOOKUP(S5,Tablas!$C$5:$C$11,1,1) -> 25 | AA6: =+M6-N6 -> 263 | AB6: =+C6/E6-1 -> -0.00055240613 | AC6: =+K6/N6-1 -> 0.015025791 | AD6: =+M6-L6 -> 232 | AE6: =+L6-N6 -> 31 | AF6: =+IF(AD6>=AE6,M6-K6,K6-N6) -> 62
B7: 44777 | C7: 13662.68 | D7: 13629.7 | E7: 13792.88 | F7: 13628.57 | G7: 64.72M | H7: 0.0055 | J7: 44777 | K7: 13640 | L7: 13624 | M7: 13790 | N7: 13605 | O7: 51.63K | P7: 0.0046 | R7: 44777 | S7: 23.85 | T7: 23.82 | U7: 24.32 | V7: 23.14 | X7: -0.0056 | Z7: =+VLOOKUP(S6,Tablas!$C$5:$C$11,1,1) -> 20 | AA7: =+M7-N7 -> 185 | AB7: =+C7/E7-1 -> -0.0094396529 | AC7: =+K7/N7-1 -> 0.0025725836 | AD7: =+M7-L7 -> 166 | AE7: =+L7-N7 -> 19 | AF7: =+IF(AD7>=AE7,M7-K7,K7-N7) -> 150
B8: 44778 | C8: 13573.93 | D8: 13642.91 | E8: 13693.34 | F8: 13562.62 | G8: 62.48M | H8: -0.0065 | J8: 44778 | K8: 13556 | L8: 13646 | M8: 13688 | N8: 13550 | O8: 44.27K | P8: -0.0062 | R8: 44778 | S8: 24.37 | T8: 23.6 | U8: 24.73 | V8: 23.35 | X8: 0.0216 | Z8: =+VLOOKUP(S7,Tablas!$C$5:$C$11,1,1) -> 20 | AA8: =+M8-N8 -> 138 | AB8: =+C8/E8-1 -> -0.0087202976 | AC8: =+K8/N8-1 -> 0.00044280443 | AD8: =+M8-L8 -> 42 | AE8: =+L8-N8 -> 96 | AF8: =+IF(AD8>=AE8,M8-K8,K8-N8) -> 6
B9: 44781 | C9: 13687.69 | D9: 13703.38 | E9: 13745.59 | F9: 13604.55 | G9: 51.64M | H9: 0.0084 | J9: 44781 | K9: 13681 | L9: 13605 | M9: 13742 | N9: 13596 | O9: 45.33K | P9: 0.0092 | R9: 44781 | S9: 23.83 | T9: 24.7 | U9: 24.86 | V9: 23.78 | X9: -0.022 | Z9: =+VLOOKUP(S8,Tablas!$C$5:$C$11,1,1) -> 20 | AA9: =+M9-N9 -> 146 | AB9: =+C9/E9-1 -> -0.0042122601 | AC9: =+K9/N9-1 -> 0.0062518388 | AD9: =+M9-L9 -> 137 | AE9: =+L9-N9 -> 9 | AF9: =+IF(AD9>=AE9,M9-K9,K9-N9) -> 61
B10: 44782 | C10: 13534.97 | D10: 13703.38 | E10: 13745.59 | F10: 13514.71 | G10: 51.02M | H10: -0.0112 | J10: 44782 | K10: 13544 | L10: 13678 | M10: 13680 | N10: 13505 | O10: 42.44K | P10: -0.01 | R10: 44782 | S10: 24.48 | T10: 23.72 | U10: 24.72 | V10: 23.71 | X10: 0.0271 | Z10: =+VLOOKUP(S9,Tablas!$C$5:$C$11,1,1) -> 20 | AA10: =+M10-N10 -> 175 | AB10: =+C10/E10-1 -> -0.015322733 | AC10: =+K10/N10-1 -> 0.0028878193 | AD10: =+M10-L10 -> 2 | AE10: =+L10-N10 -> 173 | AF10: =+IF(AD10>=AE10,M10-K10,K10-N10) -> 39
B11: 44783 | C11: 13700.93 | D11: 13482.63 | E11: 13715.56 | F11: 13455.7 | G11: 56.49M | H11: 0.0123 | J11: 44783 | K11: 13708 | L11: 13521 | M11: 13722 | N11: 13447 | O11: 50.77K | P11: 0.0121 | R11: 44783 | S11: 23.14 | T11: 24.96 | U11: 24.96 | V11: 23.01 | X11: -0.0546 | Z11: =+VLOOKUP(S10,Tablas!$C$5:$C$11,1,1) -> 20 | AA11: =+M11-N11 -> 275 | AB11: =+C11/E11-1 -> -0.0010666717 | AC11: =+K11/N11-1 -> 0.019409534 | AD11: =+M11-L11 -> 201 | AE11: =+L11-N11 -> 74 | AF11: =+IF(AD11>=AE11,M11-K11,K11-N11) -> 14
B12: 44784 | C12: 13694.51 | D12: 13747.07 | E12: 13763.26 | F12: 13661.17 | G12: 54.58M | H12: -0.0005 | J12: 44784 | K12: 13684 | L12: 13730 | M12: 13797 | N12: 13626 | O12: 47.85K | P12: -0.0018 | R12: 44784 | S12: 23.04 | T12: 22.85 | U12: 23.26 | V12: 22.52 | X12: -0.0044 | Z12: =+VLOOKUP(S11,Tablas!$C$5:$C$11,1,1) -> 20 | AA12: =+M12-N12 -> 171 | AB12: =+C12/E12-1 -> -0.0049951828 | AC12: =+K12/N12-1 -> 0.0042565683 | AD12: =+M12-L12 -> 67 | AE12: =+L12-N12 -> 104 | AF12: =+IF(AD12>=AE12,M12-K12,K12-N12) -> 58
B13: 44785 | C13: 13795.85 | D13: 13709.83 | E13: 13813.05 | F13: 13705.02 | G13: 58.50M | H13: 0.0074 | J13: 44785 | K13: 13804 | L13: 13655 | M13: 13882 | N13: 13650 | O13: 45.89K | P13: 0.0088 | R13: 44785 | S13: 22.2 | T13: 22.73 | U13: 22.74 | V13: 22.05 | X13: -0.0361 | Z13: =+VLOOKUP(S12,Tablas!$C$5:$C$11,1,1) -> 20 | AA13: =+M13-N13 -> 232 | AB13: =+C13/E13-1 -> -0.0012451993 | AC13: =+K13/N13-1 -> 0.011282051 | AD13: =+M13-L13 -> 227 | AE13: =+L13-N13 -> 5 | AF13: =+IF(AD13>=AE13,M13-K13,K13-N13) -> 78
B14: 44788 | C14: 13816.61 | D14: 13847.88 | E14: 13857.98 | F14: 13736 | G14: 37.84M | H14: 0.0015 | J14: 44788 | K14: 13805 | L14: 13862 | M14: 13870 | N14: 13729 | O14: 43.35K | P14: 0.0001 | R14: 44788 | S14: 22.58 | T14: 22.98 | U14: 23.25 | V14: 22.58 | X14: 0.0168 | Z14: =+VLOOKUP(S13,Tablas!$C$5:$C$11,1,1) -> 20 | AA14: =+M14-N14 -> 141 | AB14: =+C14/E14-1 -> -0.0029852836 | AC14: =+K14/N14-1 -> 0.0055357273 | AD14: =+M14-L14 -> 8 | AE14: =+L14-N14 -> 133 | AF14: =+IF(AD14>=AE14,M14-K14,K14-N14) -> 76
B15: 44789 | C15: 13910.12 | D15: 13849.62 | E15: 13947.85 | F15: 13824.97 | G15: 50.95M | H15: 0.0068 | J15: 44789 | K15: 13910 | L15: 13826 | M15: 13970 | N15: 13812 | O15: 51.25K | P15: 0.0076 | R15: 44789 | S15: 22.03 | T15: 22.3 | U15: 22.36 | V15: 21.84 | X15: -0.0241 | Z15: =+VLOOKUP(S14,Tablas!$C$5:$C$11,1,1) -> 20 | AA15: =+M15-N15 -> 158 | AB15: =+C15/E15-1 -> -0.0027050764 | AC15: =+K15/N15-1 -> 0.0070952795 | AD15: =+M15-L15 -> 144 | AE15: =+L15-N15 -> 14 | AF15: =+IF(AD15>=AE15,M15-K15,K15-N15) -> 60
B16: 44790 | C16: 13626.71 | D16: 13928.12 | E16: 13930.57 | F16: 13610.44 | G16: 57.25M | H16: -0.0204 | J16: 44790 | K16: 13615 | L16: 13943 | M16: 13961 | N16: 13600 | O16: 66.15K | P16: -0.0212 | R16: 44790 | S16: 24.38 | T16: 21.95 | U16: 24.42 | V16: 21.85 | X16: 0.1064 | Z16: =+VLOOKUP(S15,Tablas!$C$5:$C$11,1,1) -> 20 | AA16: =+M16-N16 -> 361 | AB16: =+C16/E16-1 -> -0.02181246 | AC16: =+K16/N16-1 -> 0.0011029412 | AD16: =+M16-L16 -> 18 | AE16: =+L16-N16 -> 343 | AF16: =+IF(AD16>=AE16,M16-K16,K16-N16) -> 15
... B31: 44811 | C31: 12915.97 | D31: 12770.72 | E31: 12953.99 | F31: 12736.09 | G31: 67.13M | H31: 0.0035 | J31: 44811 | K31: 12942 | L31: 12790 | M31: 12993 | N31: 12700 | O31: 68.56K | P31: 0.0065 | R31: 44811 | S31: 27.92 | T31: 28.6 | U31: 28.86 | V31: 27.88 | X31: -0.0068 | Z31: =+VLOOKUP(S30,Tablas!$C$5:$C$11,1,1) -> 25 | AA31: =+M31-N31 -> 293 | AB31: =+C31/E31-1 -> -0.002935003 | AC31: =+K31/N31-1 -> 0.019055118 | AD31: =+M31-L31 -> 203 | AE31: =+L31-N31 -> 90 | AF31: =+IF(AD31>=AE31,M31-K31,K31-N31) -> 51
B32: 44812 | C32: 12904.32 | D32: 12985.61 | E32: 13008.82 | F32: 12688.87 | G32: 71.24M | H32: -0.0009 | J32: 44812 | K32: 12867 | L32: 12974.5 | M32: 13038.5 | N32: 12685.5 | P32: -0.0058 | R32: 44812 | S32: 26.86 | T32: 27.53 | U32: 28.15 | V32: 26.73 | X32: -0.0377 | Z32: =+VLOOKUP(S31,Tablas!$C$5:$C$11,1,1) -> 25 | AA32: =+M32-N32 -> 353 | AB32: =+C32/E32-1 -> -0.0080330114 | AC32: =+K32/N32-1 -> 0.014307674 | AD32: =+M32-L32 -> 64 | AE32: =+L32-N32 -> 289 | AF32: =+IF(AD32>=AE32,M32-K32,K32-N32) -> 181.5
B33: 44813 | C33: 13088.21 | D33: 12926.15 | E33: 13121.13 | F33: 12925.57 | G33: 67.72M | H33: 0.0143 | J33: 44813 | K33: 13084 | L33: 12884 | M33: 13137 | N33: 12873 | O33: 88.97K | P33: 0.0169 | R33: 44813 | S33: 26.06 | T33: 26.21 | U33: 26.3 | V33: 25.58 | X33: -0.0298 | Z33: =+VLOOKUP(S32,Tablas!$C$5:$C$11,1,1) -> 25 | AA33: =+M33-N33 -> 264 | AB33: =+C33/E33-1 -> -0.0025089303 | AC33: =+K33/N33-1 -> 0.016390896 | AD33: =+M33-L33 -> 253 | AE33: =+L33-N33 -> 11 | AF33: =+IF(AD33>=AE33,M33-K33,K33-N33) -> 53
B34: 44816 | C34: 13402.27 | D34: 13171.92 | E34: 13441.54 | F34: 13165.78 | G34: 67.05M | H34: 0.024 | J34: 44816 | K34: 13405 | L34: 13146 | M34: 13446 | N34: 13141 | O34: 97.13K | P34: 0.0245 | R34: 44816 | S34: 25.71 | T34: 26.59 | U34: 26.6 | V34: 25.43 | X34: -0.0134 | Z34: =+VLOOKUP(S33,Tablas!$C$5:$C$11,1,1) -> 25 | AA34: =+M34-N34 -> 305 | AB34: =+C34/E34-1 -> -0.0029215402 | AC34: =+K34/N34-1 -> 0.020089795 | AD34: =+M34-L34 -> 300 | AE34: =+L34-N34 -> 5 | AF34: =+IF(AD34>=AE34,M34-K34,K34-N34) -> 41
B35: 44817 | C35: 13188.95 | D35: 13450.39 | E35: 13564.83 | F35: 13183.19 | G35: 68.43M | H35: -0.0159 | J35: 44817 | K35: 13186 | L35: 13410 | M35: 13572 | N35: 13067 | O35: 123.58K | P35: -0.0163 | R35: 44817 | S35: 27.02 | T35: 25.93 | U35: 27.1 | V35: 25.38 | X35: 0.0509 | Z35: =+VLOOKUP(S34,Tablas!$C$5:$C$11,1,1) -> 25 | AA35: =+M35-N35 -> 505 | AB35: =+C35/E35-1 -> -0.027709894 | AC35: =+K35/N35-1 -> 0.0091069105 | AD35: =+M35-L35 -> 162 | AE35: =+L35-N35 -> 343 | AF35: =+IF(AD35>=AE35,M35-K35,K35-N35) -> 119
B36: 44818 | C36: 13028 | D36: 13131.34 | E36: 13192.82 | F36: 12952.09 | G36: 62.45M | H36: -0.0122 | J36: 44818 | K36: 13031 | L36: 13074 | M36: 13196 | N36: 12951 | O36: 96.80K | P36: -0.0118 | R36: 44818 | S36: 27.24 | T36: 27.13 | U36: 28.05 | V36: 26.96 | X36: 0.0082 | Z36: =+VLOOKUP(S35,Tablas!$C$5:$C$11,1,1) -> 25 | AA36: =+M36-N36 -> 245 | AB36: =+C36/E36-1 -> -0.012493159 | AC36: =+K36/N36-1 -> 0.0061771292 | AD36: =+M36-L36 -> 122 | AE36: =+L36-N36 -> 123 | AF36: =+IF(AD36>=AE36,M36-K36,K36-N36) -> 80
B37: 44819 | C37: 12956.66 | D37: 13040.36 | E37: 13111.38 | F37: 12927.2 | G37: 67.76M | H37: -0.0055 | J37: 44819 | K37: 12969 | L37: 13067 | M37: 13112 | N37: 12907 | O37: 58.17K | P37: -0.0048 | R37: 44819 | S37: 26.46 | T37: 26.66 | U37: 26.98 | V37: 26.04 | X37: -0.0287 | Z37: =+VLOOKUP(S36,Tablas!$C$5:$C$11,1,1) -> 25 | AA37: =+M37-N37 -> 205 | AB37: =+C37/E37-1 -> -0.011800436 | AC37: =+K37/N37-1 -> 0.0048035949 | AD37: =+M37-L37 -> 45 | AE37: =+L37-N37 -> 160 | AF37: =+IF(AD37>=AE37,M37-K37,K37-N37) -> 62
B38: 44820 | C38: 12741.26 | D38: 12814.92 | E38: 12815.33 | F38: 12699.22 | G38: 148.56M | H38: -0.0166 | J38: 44820 | K38: 12751 | L38: 12886 | M38: 12904 | N38: 12700 | O38: 4.84K | P38: -0.0168 | R38: 44820 | S38: 27.62 | T38: 27.37 | U38: 28 | V38: 27.13 | X38: 0.0438 | Z38: =+VLOOKUP(S37,Tablas!$C$5:$C$11,1,1) -> 25 | AA38: =+M38-N38 -> 204 | AB38: =+C38/E38-1 -> -0.0057797965 | AC38: =+K38/N38-1 -> 0.004015748 | AD38: =+M38-L38 -> 18 | AE38: =+L38-N38 -> 186 | AF38: =+IF(AD38>=AE38,M38-K38,K38-N38) -> 51
B39: 44823 | C39: 12803.24 | D39: 12685.29 | E39: 12866.7 | F39: 12606.64 | G39: 49.58M | H39: 0.0049 | J39: 44823 | K39: 12846 | L39: 12785 | M39: 12904 | N39: 12624 | O39: 55.07K | P39: 0.0075 | R39: 44823 | S39: 26.94 | T39: 28.48 | U39: 28.55 | V39: 26.74 | X39: -0.0246 | Z39: =+VLOOKUP(S38,Tablas!$C$5:$C$11,1,1) -> 25 | AA39: =+M39-N39 -> 280 | AB39: =+C39/E39-1 -> -0.0049321116 | AC39: =+K39/N39-1 -> 0.017585551 | AD39: =+M39-L39 -> 119 | AE39: =+L39-N39 -> 161 | AF39: =+IF(AD39>=AE39,M39-K39,K39-N39) -> 222
B40: 44824 | C40: 12670.83 | D40: 12849.78 | E40: 12936.57 | F40: 12638.22 | G40: 62.74M | H40: -0.0103 | J40: 44824 | K40: 12684 | L40: 12918 | M40: 12962 | N40: 12555 | O40: 75.25K | P40: -0.0126 | R40: 44824 | S40: 27.88 | T40: 26.29 | U40: 28 | V40: 26.18 | X40: 0.0348 | Z40: =+VLOOKUP(S39,Tablas!$C$5:$C$11,1,1) -> 25 | AA40: =+M40-N40 -> 407 | AB40: =+C40/E40-1 -> -0.020541766 | AC40: =+K40/N40-1 -> 0.010274791 | AD40: =+M40-L40 -> 44 | AE40: =+L40-N40 -> 363 | AF40: =+IF(AD40>=AE40,M40-K40,K40-N40) -> 129
B41: 44825 | C41: 12767.15 | D41: 12555.31 | E41: 12771.78 | F41: 12520.81 | G41: 55.27M | H41: 0.0076 | J41: 44825 | K41: 12783 | L41: 12671 | M41: 12882 | N41: 12536 | O41: 70.62K | P41: 0.0078 | R41: 44825 | S41: 28.06 | T41: 28.87 | U41: 28.94 | V41: 27.94 | X41: 0.0064 | Z41: =+VLOOKUP(S40,Tablas!$C$5:$C$11,1,1) -> 25 | AA41: =+M41-N41 -> 346 | AB41: =+C41/E41-1 -> -0.00036251799 | AC41: =+K41/N41-1 -> 0.019703255 | AD41: =+M41-L41 -> 211 | AE41: =+L41-N41 -> 135 | AF41: =+IF(AD41>=AE41,M41-K41,K41-N41) -> 99
B42: 44826 | C42: 12531.63 | D42: 12531.66 | E42: 12781.56 | F42: 12526.61 | G42: 66.53M | H42: -0.0184 | J42: 44826 | K42: 12559 | L42: 12560 | M42: 12804 | N42: 12465 | O42: 78.09K | P42: -0.0175 | R42: 44826 | S42: 28.65 | T42: 28.78 | U42: 28.78 | V42: 27.47 | X42: 0.021 | Z42: =+VLOOKUP(S41,Tablas!$C$5:$C$11,1,1) -> 25 | AA42: =+M42-N42 -> 339 | AB42: =+C42/E42-1 -> -0.019553951 | AC42: =+K42/N42-1 -> 0.0075411151 | AD42: =+M42-L42 -> 244 | AE42: =+L42-N42 -> 95 | AF42: =+IF(AD42>=AE42,M42-K42,K42-N42) -> 245
B43: 44827 | C43: 12284.19 | D43: 12506.64 | E43: 12521.25 | F43: 12180.76 | G43: 86.71M | H43: -0.0197 | J43: 44827 | K43: 12299 | L43: 12625 | M43: 12641 | N43: 12198 | O43: 95.39K | P43: -0.0207 | R43: 44827 | S43: 30.82 | T43: 28.68 | U43: 31.11 | V43: 28.45 | X43: 0.0758 | Z43: =+VLOOKUP(S42,Tablas!$C$5:$C$11,1,1) -> 25 | AA43: =+M43-N43 -> 443 | AB43: =+C43/E43-1 -> -0.018932615 | AC43: =+K43/N43-1 -> 0.0082800459 | AD43: =+M43-L43 -> 16 | AE43: =+L43-N43 -> 427 | AF43: =+IF(AD43>=AE43,M43-K43,K43-N43) -> 101
B44: 44830 | C44: 12227.92 | D44: 12231.84 | E44: 12368.49 | F44: 12184 | G44: 67.27M | H44: -0.0046 | J44: 44830 | K44: 12260 | L44: 12308 | M44: 12390 | N44: 12184 | O44: 74.31K | P44: -0.0032 | R44: 44830 | S44: 31 | T44: 32.05 | U44: 32.35 | V44: 30.71 | X44: 0.0059 | Z44: =+VLOOKUP(S43,Tablas!$C$5:$C$11,1,1) -> 30 | AA44: =+M44-N44 -> 206 | AB44: =+C44/E44-1 -> -0.011365171 | AC44: =+K44/N44-1 -> 0.0062376888 | AD44: =+M44-L44 -> 82 | AE44: =+L44-N44 -> 124 | AF44: =+IF(AD44>=AE44,M44-K44,K44-N44) -> 76
... B83: 44883 | C83: 14431.86 | D83: 14320.61 | E83: 14457.76 | F83: 14300.21 | G83: 93.25M | H83: 0.0116 | J83: 44883 | K83: 14447 | L83: 14329 | M83: 14474 | N83: 14314 | O83: 66.44K | P83: 0.0122 | R83: 44883 | S83: 22.03 | T83: 22.78 | U83: 22.84 | V83: 21.87 | X83: -0.0383 | Z83: =+VLOOKUP(S82,Tablas!$C$5:$C$11,1,1) -> 20 | AA83: =+M83-N83 -> 160 | AB83: =+C83/E83-1 -> -0.0017914255 | AC83: =+K83/N83-1 -> 0.0092916026 | AD83: =+M83-L83 -> 145 | AE83: =+L83-N83 -> 15 | AF83: =+IF(AD83>=AE83,M83-K83,K83-N83) -> 27
B84: 44886 | C84: 14379.93 | D84: 14395.53 | E84: 14425.95 | F84: 14321.84 | H84: -0,36% | J84: 44886 | K84: 14402 | L84: 14431 | M84: 14454 | N84: 14335 | O84: 44.71K | P84: -0,37% | R84: 44886 | S84: 21.96 | T84: 22.82 | U84: 22.84 | V84: 21.89 | X84: -0,31% | Z84: =+VLOOKUP(S83,Tablas!$C$5:$C$11,1,1) -> 20 | AA84: =+M84-N84 -> 119 | AB84: =+C84/E84-1 -> -0.0031900845 | AC84: =+K84/N84-1 -> 0.0046738751 | AD84: =+M84-L84 -> 23 | AE84: =+L84-N84 -> 96 | AF84: =+IF(AD84>=AE84,M84-K84,K84-N84) -> 67
B85: 44887 | C85: 14422.35 | D85: 14352.54 | E85: 14485.49 | F85: 14343.8 | G85: 50.37 | H85: 0,29% | J85: 44887 | K85: 14451 | L85: 14426 | M85: 14509 | N85: 14356 | O85: 52.30K | P85: 0,34% | R85: 44887 | S85: 21.14 | T85: 21.79 | U85: 21.95 | V85: 21.1 | X85: -3,74% | Z85: =+VLOOKUP(S84,Tablas!$C$5:$C$11,1,1) -> 20 | AA85: =+M85-N85 -> 153 | AB85: =+C85/E85-1 -> -0.0043588446 | AC85: =+K85/N85-1 -> 0.0066174422 | AD85: =+M85-L85 -> 83 | AE85: =+L85-N85 -> 70 | AF85: =+IF(AD85>=AE85,M85-K85,K85-N85) -> 58
B86: 44888 | C86: 14427.59 | D86: 14438.2 | E86: 14446.33 | F86: 14363.51 | G86: 51.12 | H86: 0,04% | J86: 44888 | K86: 14455 | L86: 14499 | M86: 14503 | N86: 14374 | O86: 44.88K | P86: 0,03% | R86: 44888 | S86: 20.41 | T86: 20.95 | U86: 21.12 | V86: 20.36 | X86: -3,44% | Z86: =+VLOOKUP(S85,Tablas!$C$5:$C$11,1,1) -> 20 | AA86: =+M86-N86 -> 129 | AB86: =+C86/E86-1 -> -0.0012972153 | AC86: =+K86/N86-1 -> 0.0056351746 | AD86: =+M86-L86 -> 4 | AE86: =+L86-N86 -> 125 | AF86: =+IF(AD86>=AE86,M86-K86,K86-N86) -> 81
B87: 44889 | C87: 14539.56 | D87: 14456.15 | E87: 14570.71 | F87: 14447.55 | G87: 50.5 | H87: 0,78% | J87: 44889 | K87: 14553 | L87: 14457 | M87: 14589 | N87: 14454 | O87: 36.06K | P87: 0,68% | R87: 44889 | S87: 20.5 | T87: 20.65 | U87: 20.67 | V87: 20.21 | X87: 0,43% | Z87: =+VLOOKUP(S86,Tablas!$C$5:$C$11,1,1) -> 20 | AA87: =+M87-N87 -> 135 | AB87: =+C87/E87-1 -> -0.0021378505 | AC87: =+K87/N87-1 -> 0.0068493151 | AD87: =+M87-L87 -> 132 | AE87: =+L87-N87 -> 3 | AF87: =+IF(AD87>=AE87,M87-K87,K87-N87) -> 36
B88: 44890 | C88: 14541.38 | D88: 14547.58 | E88: 14571.66 | F88: 14498.05 | G88: 46.22 | H88: 0,01% | J88: 44890 | K88: 14557 | L88: 14559.1 | M88: 14596 | N88: 14510 | O88: 34.59K | P88: 0,03% | R88: 44890 | S88: 20.38 | T88: 20.35 | U88: 20.58 | V88: 20.09 | X88: -0,59% | Z88: =+VLOOKUP(S87,Tablas!$C$5:$C$11,1,1) -> 20 | AA88: =+M88-N88 -> 86 | AB88: =+C88/E88-1 -> -0.0020780062 | AC88: =+K88/N88-1 -> 0.0032391454 | AD88: =+M88-L88 -> 36.9 | AE88: =+L88-N88 -> 49.1 | AF88: =+IF(AD88>=AE88,M88-K88,K88-N88) -> 47
B89: 44893 | C89: 14383.36 | D89: 14471.1 | E89: 14514.73 | F89: 14374.15 | G89: 53.34M | H89: -1,09% | J89: 44893 | K89: 14409 | L89: 14505 | M89: 14527 | N89: 14350 | O89: 49.17K | P89: -0.01 | R89: 44893 | S89: 21.8 | T89: 21.48 | U89: 22.05 | V89: 21.42 | X89: 7,01%
B90: 44894 | C90: 14355.45 | D90: 14404.67 | E90: 14429.87 | F90: 14327.04 | G90: 51.09M | H90: -0,19% | J90: 44894 | K90: 14357 | L90: 14371 | M90: 14482 | N90: 14337 | O90: 53.85K | P90: -0,36% | R90: 44894 | S90: 21.97 | T90: 21.95 | U90: 22.09 | V90: 21.58 | X90: 0,76%
B91: 44895 | C91: 14397.04 | D91: 14429.22 | E91: 14487.7 | F91: 14363.32 | G91: 97.64M | H91: 0,29% | J91: 44895 | K91: 14418 | L91: 14415 | M91: 14575 | N91: 14365 | O91: 65.75K | P91: 0,42% | R91: 44895 | S91: 21.75 | T91: 21.65 | U91: 22 | V91: 21.44 | X91: -0.01
B92: 44896 | C92: 14490.3 | D92: 14543.8 | E92: 14563.7 | F92: 14423.79 | H92: 0,65% | J92: 44896 | K92: 14471 | L92: 14585 | M92: 14618 | N92: 14426 | O92: 61.29K | P92: 0,37% | R92: 44896 | S92: 21.06 | T92: 21.24 | U92: 21.44 | V92: 20.81 | X92: -3,15%

Sheet Stats
B2: Sample Days | C2: =+COUNT(Data!$B$4:$B$1048576) -> 89
B4: Volatility Analysis
B6: Volatility Graph | I6: Number of trading days by volatility range
J8: Vola. Range | K8: Nº Days
I9: 0 | J9: 0 - 15 | K9: =+COUNTIF(Data!$Z$4:$Z$1048576,I9) -> 0
I10: 15 | J10: 15 -20 | K10: =+COUNTIF(Data!$Z$4:$Z$1048576,I10) -> 0
I11: 20 | J11: 20 - 25 | K11: =+COUNTIF(Data!$Z$4:$Z$1048576,I11) -> 32
I12: 25 | J12: 25 - 30 | K12: =+COUNTIF(Data!$Z$4:$Z$1048576,I12) -> 43
I13: 30 | J13: 30 - 35 | K13: =+COUNTIF(Data!$Z$4:$Z$1048576,I13) -> 10
I14: 35 | J14: 35 - 40 | K14: =+COUNTIF(Data!$Z$4:$Z$1048576,I14) -> 0
I15: 40 | J15: 40 - 100 | K15: =+COUNTIF(Data!$Z$4:$Z$1048576,I15) -> 0
J23: Check | K23: =+IF(SUM(K9:K15)<>$C$2,"error","ok") -> error
B25: Range Analysis
C27: Range FDAX Analysis (per day) | L27: Covered Distance UP Cases (per day) | S27: Covered Distance DOWN Cases (per day) | Z27: Closing Covered Distance (per day)
I28: 0.682 | J28: =+I28+13.6%*2 -> 0.954
C29: Vola. Range | D29: Nº Days | E29: Max. Range | F29: Min. Range | G29: Average | H29: ST. Deviat. | I29: Expect. (1 SD) | J29: Expect. (2 SD) | L29: Vola. Range | M29: MAX UP Dist | N29: Min UP Dist | O29: Average | P29: ST. Deviat. | Q29: Expect. (1 SD) | S29: Vola. Range | T29: MAX UP Dist | U29: Min UP Dist | V29: Average | W29: ST. Deviat. | X29: Expect. (1 SD) | Z29: Vola. Range | AA29: MAX UP Dist | AB29: Min UP Dist | AC29: Average | AD29: ST. Deviat. | AE29: Expect. (1 SD)
B30: 0 | C30: 0 - 15 | D30: =+K9 -> 0 | E30: =+_xlfn.MAXIFS(Data!$AA$4:$AA$10000,Data!$Z$4:$Z$10000,$B30) -> 0 | F30: =_xlfn.MINIFS(Data!$AA$4:$AA$10000,Data!$Z$4:$Z$10000,$B30) -> 0 | G30: =IFERROR(AVERAGEIF(Data!$Z$4:$Z$10000,$B30,Data!$AA$4:$AA$10000),0) -> 0 | H30: {=+IFERROR(_xlfn.STDEV.P(IF(Data!$Z$4:$Z$10000=$B30,Data!$AA$4:$AA$10000)),)} -> 0 | I30: =+G30+H30 -> 0 | J30: =+G30+H30*2 -> 0 | L30: 0 - 15 | M30: =+_xlfn.MAXIFS(Data!$AD$4:$AD$10000,Data!$Z$4:$Z$10000,$B30) -> 0 | N30: =_xlfn.MINIFS(Data!$AD$4:$AD$10000,Data!$Z$4:$Z$10000,$B30) -> 0 | O30: =IFERROR(AVERAGEIF(Data!$Z$4:$Z$10000,$B30,Data!$AD$4:$AD$10000),0) -> 0 | P30: {=+IFERROR(_xlfn.STDEV.P(IF(Data!$Z$4:$Z$10000=$B30,Data!$AD$4:$AD$10000)),)} -> 0 | Q30: =+O30+P30 -> 0 | S30: 0 - 15 | T30: =+_xlfn.MAXIFS(Data!$AE$4:$AE$10000,Data!$Z$4:$Z$10000,$B30) -> 0 | U30: =_xlfn.MINIFS(Data!$AE$4:$AE$10000,Data!$Z$4:$Z$10000,$B30) -> 0 | V30: =IFERROR(AVERAGEIF(Data!$Z$4:$Z$10000,$B30,Data!$AE$4:$AE$10000),0) -> 0 | W30: {=+IFERROR(_xlfn.STDEV.P(IF(Data!$Z$4:$Z$10000=$B30,Data!$AE$4:$AE$10000)),)} -> 0 | X30: =+V30+W30 -> 0 | Z30: 0 - 15 | AA30: =+_xlfn.MAXIFS(Data!$AF$4:$AF$10000,Data!$Z$4:$Z$10000,$B30) -> 0 | AB30: =_xlfn.MINIFS(Data!$AF$4:$AF$10000,Data!$Z$4:$Z$10000,$B30) -> 0 | AC30: =IFERROR(AVERAGEIF(Data!$Z$4:$Z$10000,$B30,Data!$AF$4:$AF$10000),0) -> 0 | AD30: {=+IFERROR(_xlfn.STDEV.P(IF(Data!$Z$4:$Z$10000=$B30,Data!$AF$4:$AF$10000)),)} -> 0 | AE30: =+AC30+AD30 -> 0
B31: 15 | C31: 15 -20 | D31: =+K10 -> 0 | E31: =+_xlfn.MAXIFS(Data!$AA$4:$AA$10000,Data!$Z$4:$Z$10000,$B31) -> 0 | F31: =_xlfn.MINIFS(Data!$AA$4:$AA$10000,Data!$Z$4:$Z$10000,$B31) -> 0 | G31: =IFERROR(AVERAGEIF(Data!$Z$4:$Z$10000,$B31,Data!$AA$4:$AA$10000),0) -> 0 | H31: {=+IFERROR(_xlfn.STDEV.P(IF(Data!$Z$4:$Z$10000=$B31,Data!$AA$4:$AA$10000)),)} -> 0 | I31: =+G31+H31 -> 0 | J31: =+G31+H31*2 -> 0 | L31: 15 -20 | M31: =+_xlfn.MAXIFS(Data!$AD$4:$AD$10000,Data!$Z$4:$Z$10000,$B31) -> 0 | N31: =_xlfn.MINIFS(Data!$AD$4:$AD$10000,Data!$Z$4:$Z$10000,$B31) -> 0 | O31: =IFERROR(AVERAGEIF(Data!$Z$4:$Z$10000,$B31,Data!$AD$4:$AD$10000),0) -> 0 | P31: {=+IFERROR(_xlfn.STDEV.P(IF(Data!$Z$4:$Z$10000=$B31,Data!$AD$4:$AD$10000)),)} -> 0 | Q31: =+O31+P31 -> 0 | S31: 15 -20 | T31: =+_xlfn.MAXIFS(Data!$AE$4:$AE$10000,Data!$Z$4:$Z$10000,$B31) -> 0 | U31: =_xlfn.MINIFS(Data!$AE$4:$AE$10000,Data!$Z$4:$Z$10000,$B31) -> 0 | V31: =IFERROR(AVERAGEIF(Data!$Z$4:$Z$10000,$B31,Data!$AE$4:$AE$10000),0) -> 0 | W31: {=+IFERROR(_xlfn.STDEV.P(IF(Data!$Z$4:$Z$10000=$B31,Data!$AE$4:$AE$10000)),)} -> 0 | X31: =+V31+W31 -> 0 | Z31: 15 -20 | AA31: =+_xlfn.MAXIFS(Data!$AF$4:$AF$10000,Data!$Z$4:$Z$10000,$B31) -> 0 | AB31: =_xlfn.MINIFS(Data!$AF$4:$AF$10000,Data!$Z$4:$Z$10000,$B31) -> 0 | AC31: =IFERROR(AVERAGEIF(Data!$Z$4:$Z$10000,$B31,Data!$AF$4:$AF$10000),0) -> 0 | AD31: {=+IFERROR(_xlfn.STDEV.P(IF(Data!$Z$4:$Z$10000=$B31,Data!$AF$4:$AF$10000)),)} -> 0 | AE31: =+AC31+AD31 -> 0
B32: 20 | C32: 20 - 25 | D32: =+K11 -> 32 | E32: =+_xlfn.MAXIFS(Data!$AA$4:$AA$10000,Data!$Z$4:$Z$10000,$B32) -> 615 | F32: =_xlfn.MINIFS(Data!$AA$4:$AA$10000,Data!$Z$4:$Z$10000,$B32) -> 86 | G32: =IFERROR(AVERAGEIF(Data!$Z$4:$Z$10000,$B32,Data!$AA$4:$AA$10000),0) -> 207.0625 | H32: {=+IFERROR(_xlfn.STDEV.P(IF(Data!$Z$4:$Z$10000=$B32,Data!$AA$4:$AA$10000)),)} -> 104.69388 | I32: =+G32+H32 -> 311.75638 | J32: =+G32+H32*2 -> 416.45026 | L32: 20 - 25 | M32: =+_xlfn.MAXIFS(Data!$AD$4:$AD$10000,Data!$Z$4:$Z$10000,$B32) -> 604 | N32: =_xlfn.MINIFS(Data!$AD$4:$AD$10000,Data!$Z$4:$Z$10000,$B32) -> 2 | O32: =IFERROR(AVERAGEIF(Data!$Z$4:$Z$10000,$B32,Data!$AD$4:$AD$10000),0) -> 125.02812 | P32: {=+IFERROR(_xlfn.STDEV.P(IF(Data!$Z$4:$Z$10000=$B32,Data!$AD$4:$AD$10000)),)} -> 122.37578 | Q32: =+O32+P32 -> 247.4039 | S32: 20 - 25 | T32: =+_xlfn.MAXIFS(Data!$AE$4:$AE$10000,Data!$Z$4:$Z$10000,$B32) -> 343 | U32: =_xlfn.MINIFS(Data!$AE$4:$AE$10000,Data!$Z$4:$Z$10000,$B32) -> 3 | V32: =IFERROR(AVERAGEIF(Data!$Z$4:$Z$10000,$B32,Data!$AE$4:$AE$10000),0) -> 82.034375 | W32: {=+IFERROR(_xlfn.STDEV.P(IF(Data!$Z$4:$Z$10000=$B32,Data!$AE$4:$AE$10000)),)} -> 72.033059 | X32: =+V32+W32 -> 154.06743 | Z32: 20 - 25 | AA32: =+_xlfn.MAXIFS(Data!$AF$4:$AF$10000,Data!$Z$4:$Z$10000,$B32) -> 150 | AB32: =_xlfn.MINIFS(Data!$AF$4:$AF$10000,Data!$Z$4:$Z$10000,$B32) -> 6 | AC32: =IFERROR(AVERAGEIF(Data!$Z$4:$Z$10000,$B32,Data!$AF$4:$AF$10000),0) -> 70.78125 | AD32: {=+IFERROR(_xlfn.STDEV.P(IF(Data!$Z$4:$Z$10000=$B32,Data!$AF$4:$AF$10000)),)} -> 39.960711 | AE32: =+AC32+AD32 -> 110.74196
B33: 25 | C33: 25 - 30 | D33: =+K12 -> 43 | E33: =+_xlfn.MAXIFS(Data!$AA$4:$AA$10000,Data!$Z$4:$Z$10000,$B33) -> 528 | F33: =_xlfn.MINIFS(Data!$AA$4:$AA$10000,Data!$Z$4:$Z$10000,$B33) -> 163 | G33: =IFERROR(AVERAGEIF(Data!$Z$4:$Z$10000,$B33,Data!$AA$4:$AA$10000),0) -> 282.72093 | H33: {=+IFERROR(_xlfn.STDEV.P(IF(Data!$Z$4:$Z$10000=$B33,Data!$AA$4:$AA$10000)),)} -> 85.914053 | I33: =+G33+H33 -> 368.63498 | J33: =+G33+H33*2 -> 454.54904 | L33: 25 - 30 | M33: =+_xlfn.MAXIFS(Data!$AD$4:$AD$10000,Data!$Z$4:$Z$10000,$B33) -> 317 | N33: =_xlfn.MINIFS(Data!$AD$4:$AD$10000,Data!$Z$4:$Z$10000,$B33) -> 16 | O33: =IFERROR(AVERAGEIF(Data!$Z$4:$Z$10000,$B33,Data!$AD$4:$AD$10000),0) -> 142.44186 | P33: {=+IFERROR(_xlfn.STDEV.P(IF(Data!$Z$4:$Z$10000=$B33,Data!$AD$4:$AD$10000)),)} -> 85.114233 | Q33: =+O33+P33 -> 227.55609 | S33: 25 - 30 | T33: =+_xlfn.MAXIFS(Data!$AE$4:$AE$10000,Data!$Z$4:$Z$10000,$B33) -> 472 | U33: =_xlfn.MINIFS(Data!$AE$4:$AE$10000,Data!$Z$4:$Z$10000,$B33) -> 2 | V33: =IFERROR(AVERAGEIF(Data!$Z$4:$Z$10000,$B33,Data!$AE$4:$AE$10000),0) -> 140.27907 | W33: {=+IFERROR(_xlfn.STDEV.P(IF(Data!$Z$4:$Z$10000=$B33,Data!$AE$4:$AE$10000)),)} -> 111.4495 | X33: =+V33+W33 -> 251.72857 | Z33: 25 - 30 | AA33: =+_xlfn.MAXIFS(Data!$AF$4:$AF$10000,Data!$Z$4:$Z$10000,$B33) -> 265 | AB33: =_xlfn.MINIFS(Data!$AF$4:$AF$10000,Data!$Z$4:$Z$10000,$B33) -> 13 | AC33: =IFERROR(AVERAGEIF(Data!$Z$4:$Z$10000,$B33,Data!$AF$4:$AF$10000),0) -> 101.75581 | AD33: {=+IFERROR(_xlfn.STDEV.P(IF(Data!$Z$4:$Z$10000=$B33,Data!$AF$4:$AF$10000)),)} -> 62.619502 | AE33: =+AC33+AD33 -> 164.37532
B34: 30 | C34: 30 - 35 | D34: =+K13 -> 10 | E34: =+_xlfn.MAXIFS(Data!$AA$4:$AA$10000,Data!$Z$4:$Z$10000,$B34) -> 502 | F34: =_xlfn.MINIFS(Data!$AA$4:$AA$10000,Data!$Z$4:$Z$10000,$B34) -> 201 | G34: =IFERROR(AVERAGEIF(Data!$Z$4:$Z$10000,$B34,Data!$AA$4:$AA$10000),0) -> 355.6 | H34: {=+IFERROR(_xlfn.STDEV.P(IF(Data!$Z$4:$Z$10000=$B34,Data!$AA$4:$AA$10000)),)} -> 119.94099 | I34: =+G34+H34 -> 475.54099 | J34: =+G34+H34*2 -> 595.48197 | L34: 30 - 35 | M34: =+_xlfn.MAXIFS(Data!$AD$4:$AD$10000,Data!$Z$4:$Z$10000,$B34) -> 417 | N34: =_xlfn.MINIFS(Data!$AD$4:$AD$10000,Data!$Z$4:$Z$10000,$B34) -> 11 | O34: =IFERROR(AVERAGEIF(Data!$Z$4:$Z$10000,$B34,Data!$AD$4:$AD$10000),0) -> 184.5 | P34: {=+IFERROR(_xlfn.STDEV.P(IF(Data!$Z$4:$Z$10000=$B34,Data!$AD$4:$AD$10000)),)} -> 135.76763 | Q34: =+O34+P34 -> 320.26763 | S34: 30 - 35 | T34: =+_xlfn.MAXIFS(Data!$AE$4:$AE$10000,Data!$Z$4:$Z$10000,$B34) -> 423 | U34: =_xlfn.MINIFS(Data!$AE$4:$AE$10000,Data!$Z$4:$Z$10000,$B34) -> 0 | V34: =IFERROR(AVERAGEIF(Data!$Z$4:$Z$10000,$B34,Data!$AE$4:$AE$10000),0) -> 171.1 | W34: {=+IFERROR(_xlfn.STDEV.P(IF(Data!$Z$4:$Z$10000=$B34,Data!$AE$4:$AE$10000)),)} -> 120.93507 | X34: =+V34+W34 -> 292.03507 | Z34: 30 - 35 | AA34: =+_xlfn.MAXIFS(Data!$AF$4:$AF$10000,Data!$Z$4:$Z$10000,$B34) -> 326 | AB34: =_xlfn.MINIFS(Data!$AF$4:$AF$10000,Data!$Z$4:$Z$10000,$B34) -> 11 | AC34: =IFERROR(AVERAGEIF(Data!$Z$4:$Z$10000,$B34,Data!$AF$4:$AF$10000),0) -> 111.8 | AD34: {=+IFERROR(_xlfn.STDEV.P(IF(Data!$Z$4:$Z$10000=$B34,Data!$AF$4:$AF$10000)),)} -> 83.830543 | AE34: =+AC34+AD34 -> 195.63054
B35: 35 | C35: 35 - 40 | D35: =+K14 -> 0 | E35: =+_xlfn.MAXIFS(Data!$AA$4:$AA$10000,Data!$Z$4:$Z$10000,$B35) -> 0 | F35: =_xlfn.MINIFS(Data!$AA$4:$AA$10000,Data!$Z$4:$Z$10000,$B35) -> 0 | G35: =IFERROR(AVERAGEIF(Data!$Z$4:$Z$10000,$B35,Data!$AA$4:$AA$10000),0) -> 0 | H35: {=+IFERROR(_xlfn.STDEV.P(IF(Data!$Z$4:$Z$10000=$B35,Data!$AA$4:$AA$10000)),)} -> 0 | I35: =+G35+H35 -> 0 | J35: =+G35+H35*2 -> 0 | L35: 35 - 40 | M35: =+_xlfn.MAXIFS(Data!$AD$4:$AD$10000,Data!$Z$4:$Z$10000,$B35) -> 0 | N35: =_xlfn.MINIFS(Data!$AD$4:$AD$10000,Data!$Z$4:$Z$10000,$B35) -> 0 | O35: =IFERROR(AVERAGEIF(Data!$Z$4:$Z$10000,$B35,Data!$AD$4:$AD$10000),0) -> 0 | P35: {=+IFERROR(_xlfn.STDEV.P(IF(Data!$Z$4:$Z$10000=$B35,Data!$AD$4:$AD$10000)),)} -> 0 | Q35: =+O35+P35 -> 0 | S35: 35 - 40 | T35: =+_xlfn.MAXIFS(Data!$AE$4:$AE$10000,Data!$Z$4:$Z$10000,$B35) -> 0 | U35: =_xlfn.MINIFS(Data!$AE$4:$AE$10000,Data!$Z$4:$Z$10000,$B35) -> 0 | V35: =IFERROR(AVERAGEIF(Data!$Z$4:$Z$10000,$B35,Data!$AE$4:$AE$10000),0) -> 0 | W35: {=+IFERROR(_xlfn.STDEV.P(IF(Data!$Z$4:$Z$10000=$B35,Data!$AE$4:$AE$10000)),)} -> 0 | X35: =+V35+W35 -> 0 | Z35: 35 - 40 | AA35: =+_xlfn.MAXIFS(Data!$AF$4:$AF$10000,Data!$Z$4:$Z$10000,$B35) -> 0 | AB35: =_xlfn.MINIFS(Data!$AF$4:$AF$10000,Data!$Z$4:$Z$10000,$B35) -> 0 | AC35: =IFERROR(AVERAGEIF(Data!$Z$4:$Z$10000,$B35,Data!$AF$4:$AF$10000),0) -> 0 | AD35: {=+IFERROR(_xlfn.STDEV.P(IF(Data!$Z$4:$Z$10000=$B35,Data!$AF$4:$AF$10000)),)} -> 0 | AE35: =+AC35+AD35 -> 0
B36: 40 | C36: 40 - 100 | D36: =+K15 -> 0 | E36: =+_xlfn.MAXIFS(Data!$AA$4:$AA$10000,Data!$Z$4:$Z$10000,$B36) -> 0 | F36: =_xlfn.MINIFS(Data!$AA$4:$AA$10000,Data!$Z$4:$Z$10000,$B36) -> 0 | G36: =IFERROR(AVERAGEIF(Data!$Z$4:$Z$10000,$B36,Data!$AA$4:$AA$10000),0) -> 0 | H36: {=+IFERROR(_xlfn.STDEV.P(IF(Data!$Z$4:$Z$10000=$B36,Data!$AA$4:$AA$10000)),)} -> 0 | I36: =+G36+H36 -> 0 | J36: =+G36+H36*2 -> 0 | L36: 40 - 100 | M36: =+_xlfn.MAXIFS(Data!$AD$4:$AD$10000,Data!$Z$4:$Z$10000,$B36) -> 0 | N36: =_xlfn.MINIFS(Data!$AD$4:$AD$10000,Data!$Z$4:$Z$10000,$B36) -> 0 | O36: =IFERROR(AVERAGEIF(Data!$Z$4:$Z$10000,$B36,Data!$AD$4:$AD$10000),0) -> 0 | P36: {=+IFERROR(_xlfn.STDEV.P(IF(Data!$Z$4:$Z$10000=$B36,Data!$AD$4:$AD$10000)),)} -> 0 | Q36: =+O36+P36 -> 0 | S36: 40 - 100 | T36: =+_xlfn.MAXIFS(Data!$AE$4:$AE$10000,Data!$Z$4:$Z$10000,$B36) -> 0 | U36: =_xlfn.MINIFS(Data!$AE$4:$AE$10000,Data!$Z$4:$Z$10000,$B36) -> 0 | V36: =IFERROR(AVERAGEIF(Data!$Z$4:$Z$10000,$B36,Data!$AE$4:$AE$10000),0) -> 0 | W36: {=+IFERROR(_xlfn.STDEV.P(IF(Data!$Z$4:$Z$10000=$B36,Data!$AE$4:$AE$10000)),)} -> 0 | X36: =+V36+W36 -> 0 | Z36: 40 - 100 | AA36: =+_xlfn.MAXIFS(Data!$AF$4:$AF$10000,Data!$Z$4:$Z$10000,$B36) -> 0 | AB36: =_xlfn.MINIFS(Data!$AF$4:$AF$10000,Data!$Z$4:$Z$10000,$B36) -> 0 | AC36: =IFERROR(AVERAGEIF(Data!$Z$4:$Z$10000,$B36,Data!$AF$4:$AF$10000),0) -> 0 | AD36: {=+IFERROR(_xlfn.STDEV.P(IF(Data!$Z$4:$Z$10000=$B36,Data!$AF$4:$AF$10000)),)} -> 0 | AE36: =+AC36+AD36 -> 0
B42: Weekly Georg Stats
B44: Morning Session | J44: Setup 1 | R44: Setup 2, 3 and 4
B46: Trade | C46: Num. of cases | D46: Profits | E46: Breakevens | F46: Losses | G46: Exceptions | H46: Win ratio | J46: Trade | K46: Num. of cases | L46: Profits | M46: Breakevens | N46: Losses | O46: Exceptions | P46: Win ratio | R46: Trade | S46: Num. of cases | T46: Profits | U46: Breakevens | V46: Losses | W46: Exceptions | X46: Win ratio
B47: =+vtad!AH3 -> S2 | C47: =+vtad!AI3 -> 12 | D47: =+vtad!AJ3 -> 10 | E47: =+vtad!AK3 -> 0 | F47: =+vtad!AL3 -> 1 | G47: =+vtad!AM3 -> 1 | H47: =+vtad!AN3 -> 0.90909091 | J47: =+vtad!AP3 -> S2 | K47: =+vtad!AQ3 -> 6 | L47: =+vtad!AR3 -> 4 | M47: =+vtad!AS3 -> 0 | N47: =+vtad!AT3 -> 2 | O47: =+vtad!AU3 -> 0 | P47: =+vtad!AV3 -> 0.66666667 | R47: =+vtad!AX3 -> Setup 2 | S47: =+vtad!AY3 -> 5 | T47: =+vtad!AZ3 -> 5 | U47: =+vtad!BA3 -> 0 | V47: =+vtad!BB3 -> 0 | W47: =+vtad!BC3 -> 0 | X47: =+vtad!BD3 -> 1
B48: =+vtad!AH4 -> S1 | C48: =+vtad!AI4 -> 33 | D48: =+vtad!AJ4 -> 23 | E48: =+vtad!AK4 -> 3 | F48: =+vtad!AL4 -> 5 | G48: =+vtad!AM4 -> 2 | H48: =+vtad!AN4 -> 0.74193548 | J48: =+vtad!AP4 -> S1 | K48: =+vtad!AQ4 -> 5 | L48: =+vtad!AR4 -> 4 | M48: =+vtad!AS4 -> 0 | N48: =+vtad!AT4 -> 1 | O48: =+vtad!AU4 -> 0 | P48: =+vtad!AV4 -> 0.8 | R48: =+vtad!AX4 -> Setup 3 | S48: =+vtad!AY4 -> 18 | T48: =+vtad!AZ4 -> 15 | U48: =+vtad!BA4 -> 1 | V48: =+vtad!BB4 -> 2 | W48: =+vtad!BC4 -> 0 | X48: =+vtad!BD4 -> 0.83333333
B49: =+vtad!AH5 -> L1 | C49: =+vtad!AI5 -> 37 | D49: =+vtad!AJ5 -> 26 | E49: =+vtad!AK5 -> 3 | F49: =+vtad!AL5 -> 8 | G49: =+vtad!AM5 -> 0 | H49: =+vtad!AN5 -> 0.7027027 | J49: =+vtad!AP5 -> L1 | K49: =+vtad!AQ5 -> 1 | L49: =+vtad!AR5 -> 1 | M49: =+vtad!AS5 -> 0 | N49: =+vtad!AT5 -> 0 | O49: =+vtad!AU5 -> 0 | P49: =+vtad!AV5 -> 1 | R49: =+vtad!AX5 -> Setup 4 | S49: =+vtad!AY5 -> 46 | T49: =+vtad!AZ5 -> 38 | U49: =+vtad!BA5 -> 0 | V49: =+vtad!BB5 -> 2 | W49: =+vtad!BC5 -> 5 | X49: =+vtad!BD5 -> 0.92682927
B50: =+vtad!AH6 -> L2 | C50: =+vtad!AI6 -> 16 | D50: =+vtad!AJ6 -> 12 | E50: =+vtad!AK6 -> 2 | F50: =+vtad!AL6 -> 2 | G50: =+vtad!AM6 -> 0 | H50: =+vtad!AN6 -> 0.75 | J50: =+vtad!AP6 -> L2 | K50: =+vtad!AQ6 -> 7 | L50: =+vtad!AR6 -> 5 | M50: =+vtad!AS6 -> 0 | N50: =+vtad!AT6 -> 1 | O50: =+vtad!AU6 -> 1 | P50: =+vtad!AV6 -> 0.83333333
B51: =+vtad!AH7 -> Double GAP | C51: =+vtad!AI7 -> 15 | D51: =+vtad!AJ7 -> 15 | E51: =+vtad!AK7 -> 0 | F51: =+vtad!AL7 -> 0 | G51: =+vtad!AM7 -> 0 | H51: =+vtad!AN7 -> 1 | J51: =+vtad!AP7 -> Setup1 | K51: =+vtad!AQ7 -> 19 | L51: =+vtad!AR7 -> 14 | M51: =+vtad!AS7 -> 0 | N51: =+vtad!AT7 -> 4 | O51: =+vtad!AU7 -> 1 | P51: =+vtad!AV7 -> 0.77777778
B52: =+vtad!AH8 -> Wide GAP | C52: =+vtad!AI8 -> 13 | D52: =+vtad!AJ8 -> 3 | E52: =+vtad!AK8 -> 1 | F52: =+vtad!AL8 -> 1 | G52: =+vtad!AM8 -> 8 | H52: =+vtad!AN8 -> 0.6

Sheet Tablas
B3: 1.1 Volatility Range
B4: Volatility Range | C4: value
B5: 0 - 15 | C5: .
B6: 15 -20 | C6: 15
B7: 20 - 25 | C7: 20
B8: 25 - 30 | C8: 25
B9: 30 - 35 | C9: 30
B10: 35 - 40 | C10: 35
B11: 40 - 100 | C11: 40
