Workbook

Sheet Stats
B2: Sample Days | C2: =+COUNT(Data!$B$4:$B$1048576) -> 170
B4: Volatility Analysis
B6: Volatility Graph | I6: Number of trading days by volatility range
J8: Vola. Range | K8: Nº Days
I9: 0 | J9: 0 - 15 | K9: =+COUNTIF(Data!$AC$4:$AC$1048576,I9) -> 0
I10: 15 | J10: 15 -20 | K10: =+COUNTIF(Data!$AC$4:$AC$1048576,I10) -> 47
I11: 20 | J11: 20 - 25 | K11: =+COUNTIF(Data!$AC$4:$AC$1048576,I11) -> 67
I12: 25 | J12: 25 - 30 | K12: =+COUNTIF(Data!$AC$4:$AC$1048576,I12) -> 46
I13: 30 | J13: 30 - 35 | K13: =+COUNTIF(Data!$AC$4:$AC$1048576,I13) -> 10
I14: 35 | J14: 35 - 40 | K14: =+COUNTIF(Data!$AC$4:$AC$1048576,I14) -> 0
I15: 40 | J15: 40 - 100 | K15: =+COUNTIF(Data!$AC$4:$AC$1048576,I15) -> 0
J23: Check | K23: =+IF(SUM(K9:K15)<>$C$2,"error","ok") -> ok
B25: Range Analysis
C27: Range FDAX Analysis (per day) | L27: Covered Distance UP Cases (per day) | S27: Covered Distance DOWN Cases (per day) | Z27: Closing Covered Distance (per day)
I28: 0.682 | J28: =+I28+13.6%*2 -> 0.954
C29: Vola. Range | D29: Nº Days | E29: Max. Range | F29: Min. Range | G29: Average | H29: ST. Deviat. | I29: Expect. (1 SD) | J29: Expect. (2 SD) | L29: Vola. Range | M29: MAX UP Dist | N29: Min UP Dist | O29: Average | P29: ST. Deviat. | Q29: Expect. (1 SD) | S29: Vola. Range | T29: MAX DOWN Dist | U29: Min DOWN Dist | V29: Average | W29: ST. Deviat. | X29: Expect. (1 SD) | Z29: Vola. Range | AA29: MAX Dist | AB29: Min Dist | AC29: Average | AD29: ST. Deviat. | AE29: Expect. (1 SD)
B30: 0 | C30: 0 - 15 | D30: =+K9 -> 0 | E30: =+_xlfn.MAXIFS(Data!$AD$4:$AD$10000,Data!$AC$4:$AC$10000,$B30) -> 0 | F30: =_xlfn.MINIFS(Data!$AD$4:$AD$10000,Data!$AC$4:$AC$10000,$B30) -> 0 | G30: =IFERROR(AVERAGEIF(Data!$AC$4:$AC$10000,$B30,Data!$AD$4:$AD$10000),0) -> 0 | H30: {=+IFERROR(_xlfn.STDEV.P(IF(Data!$AC$4:$AC$10000=$B30,Data!$AD$4:$AD$10000)),)} -> 0 | I30: =+G30+H30 -> 0 | J30: =+G30+H30*2 -> 0 | L30: 0 - 15 | M30: =+_xlfn.MAXIFS(Data!$AG$4:$AG$10000,Data!$AC$4:$AC$10000,$B30) -> 0 | N30: =_xlfn.MINIFS(Data!$AG$4:$AG$10000,Data!$AC$4:$AC$10000,$B30) -> 0 | O30: =IFERROR(AVERAGEIF(Data!$AC$4:$AC$10000,$B30,Data!$AG$4:$AG$10000),0) -> 0 | P30: {=+IFERROR(_xlfn.STDEV.P(IF(Data!$AC$4:$AC$10000=$B30,Data!$AG$4:$AG$10000)),)} -> 0 | Q30: =+O30+P30 -> 0 | S30: 0 - 15 | T30: =+_xlfn.MAXIFS(Data!$AH$4:$AH$10000,Data!$AC$4:$AC$10000,$B30) -> 0 | U30: =_xlfn.MINIFS(Data!$AH$4:$AH$10000,Data!$AC$4:$AC$10000,$B30) -> 0 | V30: =IFERROR(AVERAGEIF(Data!$AC$4:$AC$10000,$B30,Data!$AH$4:$AH$10000),0) -> 0 | W30: {=+IFERROR(_xlfn.STDEV.P(IF(Data!$AC$4:$AC$10000=$B30,Data!$AH$4:$AH$10000)),)} -> 0 | X30: =+V30+W30 -> 0 | Z30: 0 - 15 | AA30: =+_xlfn.MAXIFS(Data!$AI$4:$AI$10000,Data!$AC$4:$AC$10000,$B30) -> 0 | AB30: =_xlfn.MINIFS(Data!$AI$4:$AI$10000,Data!$AC$4:$AC$10000,$B30) -> 0 | AC30: =IFERROR(AVERAGEIF(Data!$AC$4:$AC$10000,$B30,Data!$AI$4:$AI$10000),0) -> 0 | AD30: {=+IFERROR(_xlfn.STDEV.P(IF(Data!$AC$4:$AC$10000=$B30,Data!$AI$4:$AI$10000)),)} -> 0 | AE30: =+AC30+AD30 -> 0
B31: 15 | C31: 15 -20 | D31: =+K10 -> 47 | E31: =+_xlfn.MAXIFS(Data!$AD$4:$AD$10000,Data!$AC$4:$AC$10000,$B31) -> 604 | F31: =_xlfn.MINIFS(Data!$AD$4:$AD$10000,Data!$AC$4:$AC$10000,$B31) -> 96 | G31: =IFERROR(AVERAGEIF(Data!$AC$4:$AC$10000,$B31,Data!$AD$4:$AD$10000),0) -> 198.89362 | H31: {=+IFERROR(_xlfn.STDEV.P(IF(Data!$AC$4:$AC$10000=$B31,Data!$AD$4:$AD$10000)),)} -> 82.299203 | I31: =+G31+H31 -> 281.19282 | J31: =+G31+H31*2 -> 363.49202 | L31: 15 -20 | M31: =+_xlfn.MAXIFS(Data!$AG$4:$AG$10000,Data!$AC$4:$AC$10000,$B31) -> 289 | N31: =_xlfn.MINIFS(Data!$AG$4:$AG$10000,Data!$AC$4:$AC$10000,$B31) -> 5 | O31: =IFERROR(AVERAGEIF(Data!$AC$4:$AC$10000,$B31,Data!$AG$4:$AG$10000),0) -> 88.12766 | P31: {=+IFERROR(_xlfn.STDEV.P(IF(Data!$AC$4:$AC$10000=$B31,Data!$AG$4:$AG$10000)),)} -> 66.172443 | Q31: =+O31+P31 -> 154.3001 | S31: 15 -20 | T31: =+_xlfn.MAXIFS(Data!$AH$4:$AH$10000,Data!$AC$4:$AC$10000,$B31) -> 522 | U31: =_xlfn.MINIFS(Data!$AH$4:$AH$10000,Data!$AC$4:$AC$10000,$B31) -> 0 | V31: =IFERROR(AVERAGEIF(Data!$AC$4:$AC$10000,$B31,Data!$AH$4:$AH$10000),0) -> 110.76596 | W31: {=+IFERROR(_xlfn.STDEV.P(IF(Data!$AC$4:$AC$10000=$B31,Data!$AH$4:$AH$10000)),)} -> 93.83535 | X31: =+V31+W31 -> 204.60131 | Z31: 15 -20 | AA31: =+_xlfn.MAXIFS(Data!$AI$4:$AI$10000,Data!$AC$4:$AC$10000,$B31) -> 199 | AB31: =_xlfn.MINIFS(Data!$AI$4:$AI$10000,Data!$AC$4:$AC$10000,$B31) -> 9 | AC31: =IFERROR(AVERAGEIF(Data!$AC$4:$AC$10000,$B31,Data!$AI$4:$AI$10000),0) -> 83.234043 | AD31: {=+IFERROR(_xlfn.STDEV.P(IF(Data!$AC$4:$AC$10000=$B31,Data!$AI$4:$AI$10000)),)} -> 47.008018 | AE31: =+AC31+AD31 -> 130.24206
B32: 20 | C32: 20 - 25 | D32: =+K11 -> 67 | E32: =+_xlfn.MAXIFS(Data!$AD$4:$AD$10000,Data!$AC$4:$AC$10000,$B32) -> 615 | F32: =_xlfn.MINIFS(Data!$AD$4:$AD$10000,Data!$AC$4:$AC$10000,$B32) -> 0 | G32: =IFERROR(AVERAGEIF(Data!$AC$4:$AC$10000,$B32,Data!$AD$4:$AD$10000),0) -> 215.79104 | H32: {=+IFERROR(_xlfn.STDEV.P(IF(Data!$AC$4:$AC$10000=$B32,Data!$AD$4:$AD$10000)),)} -> 109.78725 | I32: =+G32+H32 -> 325.57829 | J32: =+G32+H32*2 -> 435.36554 | L32: 20 - 25 | M32: =+_xlfn.MAXIFS(Data!$AG$4:$AG$10000,Data!$AC$4:$AC$10000,$B32) -> 604 | N32: =_xlfn.MINIFS(Data!$AG$4:$AG$10000,Data!$AC$4:$AC$10000,$B32) -> 0 | O32: =IFERROR(AVERAGEIF(Data!$AC$4:$AC$10000,$B32,Data!$AG$4:$AG$10000),0) -> 111.8791 | P32: {=+IFERROR(_xlfn.STDEV.P(IF(Data!$AC$4:$AC$10000=$B32,Data!$AG$4:$AG$10000)),)} -> 102.77072 | Q32: =+O32+P32 -> 214.64983 | S32: 20 - 25 | T32: =+_xlfn.MAXIFS(Data!$AH$4:$AH$10000,Data!$AC$4:$AC$10000,$B32) -> 516 | U32: =_xlfn.MINIFS(Data!$AH$4:$AH$10000,Data!$AC$4:$AC$10000,$B32) -> 0 | V32: =IFERROR(AVERAGEIF(Data!$AC$4:$AC$10000,$B32,Data!$AH$4:$AH$10000),0) -> 103.91194 | W32: {=+IFERROR(_xlfn.STDEV.P(IF(Data!$AC$4:$AC$10000=$B32,Data!$AH$4:$AH$10000)),)} -> 102.58455 | X32: =+V32+W32 -> 206.49649 | Z32: 20 - 25 | AA32: =+_xlfn.MAXIFS(Data!$AI$4:$AI$10000,Data!$AC$4:$AC$10000,$B32) -> 194 | AB32: =_xlfn.MINIFS(Data!$AI$4:$AI$10000,Data!$AC$4:$AC$10000,$B32) -> 0 | AC32: =IFERROR(AVERAGEIF(Data!$AC$4:$AC$10000,$B32,Data!$AI$4:$AI$10000),0) -> 72.597015 | AD32: {=+IFERROR(_xlfn.STDEV.P(IF(Data!$AC$4:$AC$10000=$B32,Data!$AI$4:$AI$10000)),)} -> 44.172004 | AE32: =+AC32+AD32 -> 116.76902
B33: 25 | C33: 25 - 30 | D33: =+K12 -> 46 | E33: =+_xlfn.MAXIFS(Data!$AD$4:$AD$10000,Data!$AC$4:$AC$10000,$B33) -> 539 | F33: =_xlfn.MINIFS(Data!$AD$4:$AD$10000,Data!$AC$4:$AC$10000,$B33) -> 163 | G33: =IFERROR(AVERAGEIF(Data!$AC$4:$AC$10000,$B33,Data!$AD$4:$AD$10000),0) -> 291.02174 | H33: {=+IFERROR(_xlfn.STDEV.P(IF(Data!$AC$4:$AC$10000=$B33,Data!$AD$4:$AD$10000)),)} -> 92.735831 | I33: =+G33+H33 -> 383.75757 | J33: =+G33+H33*2 -> 476.4934 | L33: 25 - 30 | M33: =+_xlfn.MAXIFS(Data!$AG$4:$AG$10000,Data!$AC$4:$AC$10000,$B33) -> 317 | N33: =_xlfn.MINIFS(Data!$AG$4:$AG$10000,Data!$AC$4:$AC$10000,$B33) -> 16 | O33: =IFERROR(AVERAGEIF(Data!$AC$4:$AC$10000,$B33,Data!$AG$4:$AG$10000),0) -> 146.47826 | P33: {=+IFERROR(_xlfn.STDEV.P(IF(Data!$AC$4:$AC$10000=$B33,Data!$AG$4:$AG$10000)),)} -> 84.910116 | Q33: =+O33+P33 -> 231.38838 | S33: 25 - 30 | T33: =+_xlfn.MAXIFS(Data!$AH$4:$AH$10000,Data!$AC$4:$AC$10000,$B33) -> 472 | U33: =_xlfn.MINIFS(Data!$AH$4:$AH$10000,Data!$AC$4:$AC$10000,$B33) -> 2 | V33: =IFERROR(AVERAGEIF(Data!$AC$4:$AC$10000,$B33,Data!$AH$4:$AH$10000),0) -> 144.54348 | W33: {=+IFERROR(_xlfn.STDEV.P(IF(Data!$AC$4:$AC$10000=$B33,Data!$AH$4:$AH$10000)),)} -> 116.27604 | X33: =+V33+W33 -> 260.81952 | Z33: 25 - 30 | AA33: =+_xlfn.MAXIFS(Data!$AI$4:$AI$10000,Data!$AC$4:$AC$10000,$B33) -> 470 | AB33: =_xlfn.MINIFS(Data!$AI$4:$AI$10000,Data!$AC$4:$AC$10000,$B33) -> 13 | AC33: =IFERROR(AVERAGEIF(Data!$AC$4:$AC$10000,$B33,Data!$AI$4:$AI$10000),0) -> 114.18478 | AD33: {=+IFERROR(_xlfn.STDEV.P(IF(Data!$AC$4:$AC$10000=$B33,Data!$AI$4:$AI$10000)),)} -> 87.724083 | AE33: =+AC33+AD33 -> 201.90887
B34: 30 | C34: 30 - 35 | D34: =+K13 -> 10 | E34: =+_xlfn.MAXIFS(Data!$AD$4:$AD$10000,Data!$AC$4:$AC$10000,$B34) -> 502 | F34: =_xlfn.MINIFS(Data!$AD$4:$AD$10000,Data!$AC$4:$AC$10000,$B34) -> 201 | G34: =IFERROR(AVERAGEIF(Data!$AC$4:$AC$10000,$B34,Data!$AD$4:$AD$10000),0) -> 355.6 | H34: {=+IFERROR(_xlfn.STDEV.P(IF(Data!$AC$4:$AC$10000=$B34,Data!$AD$4:$AD$10000)),)} -> 119.94099 | I34: =+G34+H34 -> 475.54099 | J34: =+G34+H34*2 -> 595.48197 | L34: 30 - 35 | M34: =+_xlfn.MAXIFS(Data!$AG$4:$AG$10000,Data!$AC$4:$AC$10000,$B34) -> 417 | N34: =_xlfn.MINIFS(Data!$AG$4:$AG$10000,Data!$AC$4:$AC$10000,$B34) -> 11 | O34: =IFERROR(AVERAGEIF(Data!$AC$4:$AC$10000,$B34,Data!$AG$4:$AG$10000),0) -> 184.5 | P34: {=+IFERROR(_xlfn.STDEV.P(IF(Data!$AC$4:$AC$10000=$B34,Data!$AG$4:$AG$10000)),)} -> 135.76763 | Q34: =+O34+P34 -> 320.26763 | S34: 30 - 35 | T34: =+_xlfn.MAXIFS(Data!$AH$4:$AH$10000,Data!$AC$4:$AC$10000,$B34) -> 423 | U34: =_xlfn.MINIFS(Data!$AH$4:$AH$10000,Data!$AC$4:$AC$10000,$B34) -> 0 | V34: =IFERROR(AVERAGEIF(Data!$AC$4:$AC$10000,$B34,Data!$AH$4:$AH$10000),0) -> 171.1 | W34: {=+IFERROR(_xlfn.STDEV.P(IF(Data!$AC$4:$AC$10000=$B34,Data!$AH$4:$AH$10000)),)} -> 120.93507 | X34: =+V34+W34 -> 292.03507 | Z34: 30 - 35 | AA34: =+_xlfn.MAXIFS(Data!$AI$4:$AI$10000,Data!$AC$4:$AC$10000,$B34) -> 326 | AB34: =_xlfn.MINIFS(Data!$AI$4:$AI$10000,Data!$AC$4:$AC$10000,$B34) -> 11 | AC34: =IFERROR(AVERAGEIF(Data!$AC$4:$AC$10000,$B34,Data!$AI$4:$AI$10000),0) -> 111.8 | AD34: {=+IFERROR(_xlfn.STDEV.P(IF(Data!$AC$4:$AC$10000=$B34,Data!$AI$4:$AI$10000)),)} -> 83.830543 | AE34: =+AC34+AD34 -> 195.63054
B35: 35 | C35: 35 - 40 | D35: =+K14 -> 0 | E35: =+_xlfn.MAXIFS(Data!$AD$4:$AD$10000,Data!$AC$4:$AC$10000,$B35) -> 0 | F35: =_xlfn.MINIFS(Data!$AD$4:$AD$10000,Data!$AC$4:$AC$10000,$B35) -> 0 | G35: =IFERROR(AVERAGEIF(Data!$AC$4:$AC$10000,$B35,Data!$AD$4:$AD$10000),0) -> 0 | H35: {=+IFERROR(_xlfn.STDEV.P(IF(Data!$AC$4:$AC$10000=$B35,Data!$AD$4:$AD$10000)),)} -> 0 | I35: =+G35+H35 -> 0 | J35: =+G35+H35*2 -> 0 | L35: 35 - 40 | M35: =+_xlfn.MAXIFS(Data!$AG$4:$AG$10000,Data!$AC$4:$AC$10000,$B35) -> 0 | N35: =_xlfn.MINIFS(Data!$AG$4:$AG$10000,Data!$AC$4:$AC$10000,$B35) -> 0 | O35: =IFERROR(AVERAGEIF(Data!$AC$4:$AC$10000,$B35,Data!$AG$4:$AG$10000),0) -> 0 | P35: {=+IFERROR(_xlfn.STDEV.P(IF(Data!$AC$4:$AC$10000=$B35,Data!$AG$4:$AG$10000)),)} -> 0 | Q35: =+O35+P35 -> 0 | S35: 35 - 40 | T35: =+_xlfn.MAXIFS(Data!$AH$4:$AH$10000,Data!$AC$4:$AC$10000,$B35) -> 0 | U35: =_xlfn.MINIFS(Data!$AH$4:$AH$10000,Data!$AC$4:$AC$10000,$B35) -> 0 | V35: =IFERROR(AVERAGEIF(Data!$AC$4:$AC$10000,$B35,Data!$AH$4:$AH$10000),0) -> 0 | W35: {=+IFERROR(_xlfn.STDEV.P(IF(Data!$AC$4:$AC$10000=$B35,Data!$AH$4:$AH$10000)),)} -> 0 | X35: =+V35+W35 -> 0 | Z35: 35 - 40 | AA35: =+_xlfn.MAXIFS(Data!$AI$4:$AI$10000,Data!$AC$4:$AC$10000,$B35) -> 0 | AB35: =_xlfn.MINIFS(Data!$AI$4:$AI$10000,Data!$AC$4:$AC$10000,$B35) -> 0 | AC35: =IFERROR(AVERAGEIF(Data!$AC$4:$AC$10000,$B35,Data!$AI$4:$AI$10000),0) -> 0 | AD35: {=+IFERROR(_xlfn.STDEV.P(IF(Data!$AC$4:$AC$10000=$B35,Data!$AI$4:$AI$10000)),)} -> 0 | AE35: =+AC35+AD35 -> 0
B36: 40 | C36: 40 - 100 | D36: =+K15 -> 0 | E36: =+_xlfn.MAXIFS(Data!$AD$4:$AD$10000,Data!$AC$4:$AC$10000,$B36) -> 0 | F36: =_xlfn.MINIFS(Data!$AD$4:$AD$10000,Data!$AC$4:$AC$10000,$B36) -> 0 | G36: =IFERROR(AVERAGEIF(Data!$AC$4:$AC$10000,$B36,Data!$AD$4:$AD$10000),0) -> 0 | H36: {=+IFERROR(_xlfn.STDEV.P(IF(Data!$AC$4:$AC$10000=$B36,Data!$AD$4:$AD$10000)),)} -> 0 | I36: =+G36+H36 -> 0 | J36: =+G36+H36*2 -> 0 | L36: 40 - 100 | M36: =+_xlfn.MAXIFS(Data!$AG$4:$AG$10000,Data!$AC$4:$AC$10000,$B36) -> 0 | N36: =_xlfn.MINIFS(Data!$AG$4:$AG$10000,Data!$AC$4:$AC$10000,$B36) -> 0 | O36: =IFERROR(AVERAGEIF(Data!$AC$4:$AC$10000,$B36,Data!$AG$4:$AG$10000),0) -> 0 | P36: {=+IFERROR(_xlfn.STDEV.P(IF(Data!$AC$4:$AC$10000=$B36,Data!$AG$4:$AG$10000)),)} -> 0 | Q36: =+O36+P36 -> 0 | S36: 40 - 100 | T36: =+_xlfn.MAXIFS(Data!$AH$4:$AH$10000,Data!$AC$4:$AC$10000,$B36) -> 0 | U36: =_xlfn.MINIFS(Data!$AH$4:$AH$10000,Data!$AC$4:$AC$10000,$B36) -> 0 | V36: =IFERROR(AVERAGEIF(Data!$AC$4:$AC$10000,$B36,Data!$AH$4:$AH$10000),0) -> 0 | W36: {=+IFERROR(_xlfn.STDEV.P(IF(Data!$AC$4:$AC$10000=$B36,Data!$AH$4:$AH$10000)),)} -> 0 | X36: =+V36+W36 -> 0 | Z36: 40 - 100 | AA36: =+_xlfn.MAXIFS(Data!$AI$4:$AI$10000,Data!$AC$4:$AC$10000,$B36) -> 0 | AB36: =_xlfn.MINIFS(Data!$AI$4:$AI$10000,Data!$AC$4:$AC$10000,$B36) -> 0 | AC36: =IFERROR(AVERAGEIF(Data!$AC$4:$AC$10000,$B36,Data!$AI$4:$AI$10000),0) -> 0 | AD36: {=+IFERROR(_xlfn.STDEV.P(IF(Data!$AC$4:$AC$10000=$B36,Data!$AI$4:$AI$10000)),)} -> 0 | AE36: =+AC36+AD36 -> 0
C38: Range FDAX Analysis (per day - week - 2) | G38: W-2 | L38: Covered Distance UP Cases (per day - week - 2) | S38: Covered Distance DOWN Cases (per day - week - 2) | Z38: Closing Covered Distance (per day - week - 2)
I39: 0.682 | J39: =+I39+13.6%*2 -> 0.954
C40: Vola. Range | D40: Nº Days | E40: Max. Range | F40: Min. Range | G40: Average | H40: ST. Deviat. | I40: Expect. (1 SD) | J40: Expect. (2 SD) | L40: Vola. Range | M40: MAX UP Dist | N40: Min UP Dist | O40: Average | P40: ST. Deviat. | Q40: Expect. (1 SD) | S40: Vola. Range | T40: MAX DOWN Dist | U40: Min DOWN Dist | V40: Average | W40: ST. Deviat. | X40: Expect. (1 SD) | Z40: Vola. Range | AA40: MAX Dist | AB40: Min Dist | AC40: Average | AD40: ST. Deviat. | AE40: Expect. (1 SD)
B41: =0&$G$38 -> 0W-2 | C41: 0 - 15 | D41: =K9 -> 0 | E41: =+_xlfn.MAXIFS(Data!$AD$4:$AD$10000,Data!$AA$4:$AA$10000,$B41) -> 0 | F41: =_xlfn.MINIFS(Data!$AD$4:$AD$10000,Data!$AA$4:$AA$10000,$B41) -> 0 | G41: =IFERROR(AVERAGEIF(Data!$AA$4:$AA$10000,$B41,Data!$AD$4:$AD$10000),0) -> 0 | H41: {=+IFERROR(_xlfn.STDEV.P(IF(Data!$AA$4:$AA$10000=$B41,Data!$AD$4:$AD$10000)),)} -> 0 | I41: =+G41+H41 -> 0 | J41: =+G41+H41*2 -> 0 | L41: 0 - 15 | M41: =+_xlfn.MAXIFS(Data!$AG$4:$AG$10000,Data!$AA$4:$AA$10000,$B41) -> 0 | N41: =_xlfn.MINIFS(Data!$AG$4:$AG$10000,Data!$AA$4:$AA$10000,$B41) -> 0 | O41: =IFERROR(AVERAGEIF(Data!$AA$4:$AA$10000,$B41,Data!$AG$4:$AG$10000),0) -> 0 | P41: {=+IFERROR(_xlfn.STDEV.P(IF(Data!$AA$4:$AA$10000=$B41,Data!$AG$4:$AG$10000)),)} -> 0 | Q41: =+O41+P41 -> 0 | S41: 0 - 15 | T41: =+_xlfn.MAXIFS(Data!$AH$4:$AH$10000,Data!$AA$4:$AA$10000,$B41) -> 0 | U41: =_xlfn.MINIFS(Data!$AH$4:$AH$10000,Data!$AA$4:$AA$10000,$B41) -> 0 | V41: =IFERROR(AVERAGEIF(Data!$AA$4:$AA$10000,$B41,Data!$AH$4:$AH$10000),0) -> 0 | W41: {=+IFERROR(_xlfn.STDEV.P(IF(Data!$AA$4:$AA$10000=$B41,Data!$AH$4:$AH$10000)),)} -> 0 | X41: =+V41+W41 -> 0 | Z41: 0 - 15 | AA41: =+_xlfn.MAXIFS(Data!$AI$4:$AI$10000,Data!$AA$4:$AA$10000,$B41) -> 0 | AB41: =_xlfn.MINIFS(Data!$AI$4:$AI$10000,Data!$AA$4:$AA$10000,$B41) -> 0 | AC41: =IFERROR(AVERAGEIF(Data!$AA$4:$AA$10000,$B41,Data!$AI$4:$AI$10000),0) -> 0 | AD41: {=+IFERROR(_xlfn.STDEV.P(IF(Data!$AA$4:$AA$10000=$B41,Data!$AI$4:$AI$10000)),)} -> 0 | AE41: =+AC41+AD41 -> 0
B42: =15&$G$38 -> 15W-2 | C42: 15 -20 | D42: =K10 -> 47 | E42: =+_xlfn.MAXIFS(Data!$AD$4:$AD$10000,Data!$AA$4:$AA$10000,$B42) -> 0 | F42: =_xlfn.MINIFS(Data!$AD$4:$AD$10000,Data!$AA$4:$AA$10000,$B42) -> 0 | G42: =IFERROR(AVERAGEIF(Data!$AA$4:$AA$10000,$B42,Data!$AD$4:$AD$10000),0) -> 0 | H42: {=+IFERROR(_xlfn.STDEV.P(IF(Data!$AA$4:$AA$10000=$B42,Data!$AD$4:$AD$10000)),)} -> 0 | I42: =+G42+H42 -> 0 | J42: =+G42+H42*2 -> 0 | L42: 15 -20 | M42: =+_xlfn.MAXIFS(Data!$AG$4:$AG$10000,Data!$AA$4:$AA$10000,$B42) -> 0 | N42: =_xlfn.MINIFS(Data!$AG$4:$AG$10000,Data!$AA$4:$AA$10000,$B42) -> 0 | O42: =IFERROR(AVERAGEIF(Data!$AA$4:$AA$10000,$B42,Data!$AG$4:$AG$10000),0) -> 0 | P42: {=+IFERROR(_xlfn.STDEV.P(IF(Data!$AA$4:$AA$10000=$B42,Data!$AG$4:$AG$10000)),)} -> 0 | Q42: =+O42+P42 -> 0 | S42: 15 -20 | T42: =+_xlfn.MAXIFS(Data!$AH$4:$AH$10000,Data!$AA$4:$AA$10000,$B42) -> 0 | U42: =_xlfn.MINIFS(Data!$AH$4:$AH$10000,Data!$AA$4:$AA$10000,$B42) -> 0 | V42: =IFERROR(AVERAGEIF(Data!$AA$4:$AA$10000,$B42,Data!$AH$4:$AH$10000),0) -> 0 | W42: {=+IFERROR(_xlfn.STDEV.P(IF(Data!$AA$4:$AA$10000=$B42,Data!$AH$4:$AH$10000)),)} -> 0 | X42: =+V42+W42 -> 0 | Z42: 15 -20 | AA42: =+_xlfn.MAXIFS(Data!$AI$4:$AI$10000,Data!$AA$4:$AA$10000,$B42) -> 0 | AB42: =_xlfn.MINIFS(Data!$AI$4:$AI$10000,Data!$AA$4:$AA$10000,$B42) -> 0 | AC42: =IFERROR(AVERAGEIF(Data!$AA$4:$AA$10000,$B42,Data!$AI$4:$AI$10000),0) -> 0 | AD42: {=+IFERROR(_xlfn.STDEV.P(IF(Data!$AA$4:$AA$10000=$B42,Data!$AI$4:$AI$10000)),)} -> 0 | AE42: =+AC42+AD42 -> 0
B43: =20&$G$38 -> 20W-2 | C43: 20 - 25 | D43: =K11 -> 67 | E43: =+_xlfn.MAXIFS(Data!$AD$4:$AD$10000,Data!$AA$4:$AA$10000,$B43) -> 465 | F43: =_xlfn.MINIFS(Data!$AD$4:$AD$10000,Data!$AA$4:$AA$10000,$B43) -> 237 | G43: =IFERROR(AVERAGEIF(Data!$AA$4:$AA$10000,$B43,Data!$AD$4:$AD$10000),0) -> 313 | H43: {=+IFERROR(_xlfn.STDEV.P(IF(Data!$AA$4:$AA$10000=$B43,Data!$AD$4:$AD$10000)),)} -> 107.48023 | I43: =+G43+H43 -> 420.48023 | J43: =+G43+H43*2 -> 527.96046 | L43: 20 - 25 | M43: =+_xlfn.MAXIFS(Data!$AG$4:$AG$10000,Data!$AA$4:$AA$10000,$B43) -> 132 | N43: =_xlfn.MINIFS(Data!$AG$4:$AG$10000,Data!$AA$4:$AA$10000,$B43) -> 58 | O43: =IFERROR(AVERAGEIF(Data!$AA$4:$AA$10000,$B43,Data!$AG$4:$AG$10000),0) -> 105.33333 | P43: {=+IFERROR(_xlfn.STDEV.P(IF(Data!$AA$4:$AA$10000=$B43,Data!$AG$4:$AG$10000)),)} -> 33.559235 | Q43: =+O43+P43 -> 138.89257 | S43: 20 - 25 | T43: =+_xlfn.MAXIFS(Data!$AH$4:$AH$10000,Data!$AA$4:$AA$10000,$B43) -> 339 | U43: =_xlfn.MINIFS(Data!$AH$4:$AH$10000,Data!$AA$4:$AA$10000,$B43) -> 105 | V43: =IFERROR(AVERAGEIF(Data!$AA$4:$AA$10000,$B43,Data!$AH$4:$AH$10000),0) -> 207.66667 | W43: {=+IFERROR(_xlfn.STDEV.P(IF(Data!$AA$4:$AA$10000=$B43,Data!$AH$4:$AH$10000)),)} -> 97.656996 | X43: =+V43+W43 -> 305.32366 | Z43: 20 - 25 | AA43: =+_xlfn.MAXIFS(Data!$AI$4:$AI$10000,Data!$AA$4:$AA$10000,$B43) -> 158 | AB43: =_xlfn.MINIFS(Data!$AI$4:$AI$10000,Data!$AA$4:$AA$10000,$B43) -> 37 | AC43: =IFERROR(AVERAGEIF(Data!$AA$4:$AA$10000,$B43,Data!$AI$4:$AI$10000),0) -> 89 | AD43: {=+IFERROR(_xlfn.STDEV.P(IF(Data!$AA$4:$AA$10000=$B43,Data!$AI$4:$AI$10000)),)} -> 50.839617 | AE43: =+AC43+AD43 -> 139.83962
B44: =25&$G$38 -> 25W-2 | C44: 25 - 30 | D44: =K12 -> 46 | E44: =+_xlfn.MAXIFS(Data!$AD$4:$AD$10000,Data!$AA$4:$AA$10000,$B44) -> 539 | F44: =_xlfn.MINIFS(Data!$AD$4:$AD$10000,Data!$AA$4:$AA$10000,$B44) -> 283 | G44: =IFERROR(AVERAGEIF(Data!$AA$4:$AA$10000,$B44,Data!$AD$4:$AD$10000),0) -> 411 | H44: {=+IFERROR(_xlfn.STDEV.P(IF(Data!$AA$4:$AA$10000=$B44,Data!$AD$4:$AD$10000)),)} -> 128 | I44: =+G44+H44 -> 539 | J44: =+G44+H44*2 -> 667 | L44: 25 - 30 | M44: =+_xlfn.MAXIFS(Data!$AG$4:$AG$10000,Data!$AA$4:$AA$10000,$B44) -> 281 | N44: =_xlfn.MINIFS(Data!$AG$4:$AG$10000,Data!$AA$4:$AA$10000,$B44) -> 149 | O44: =IFERROR(AVERAGEIF(Data!$AA$4:$AA$10000,$B44,Data!$AG$4:$AG$10000),0) -> 215 | P44: {=+IFERROR(_xlfn.STDEV.P(IF(Data!$AA$4:$AA$10000=$B44,Data!$AG$4:$AG$10000)),)} -> 66 | Q44: =+O44+P44 -> 281 | S44: 25 - 30 | T44: =+_xlfn.MAXIFS(Data!$AH$4:$AH$10000,Data!$AA$4:$AA$10000,$B44) -> 390 | U44: =_xlfn.MINIFS(Data!$AH$4:$AH$10000,Data!$AA$4:$AA$10000,$B44) -> 2 | V44: =IFERROR(AVERAGEIF(Data!$AA$4:$AA$10000,$B44,Data!$AH$4:$AH$10000),0) -> 196 | W44: {=+IFERROR(_xlfn.STDEV.P(IF(Data!$AA$4:$AA$10000=$B44,Data!$AH$4:$AH$10000)),)} -> 194 | X44: =+V44+W44 -> 390 | Z44: 25 - 30 | AA44: =+_xlfn.MAXIFS(Data!$AI$4:$AI$10000,Data!$AA$4:$AA$10000,$B44) -> 470 | AB44: =_xlfn.MINIFS(Data!$AI$4:$AI$10000,Data!$AA$4:$AA$10000,$B44) -> 69 | AC44: =IFERROR(AVERAGEIF(Data!$AA$4:$AA$10000,$B44,Data!$AI$4:$AI$10000),0) -> 269.5 | AD44: {=+IFERROR(_xlfn.STDEV.P(IF(Data!$AA$4:$AA$10000=$B44,Data!$AI$4:$AI$10000)),)} -> 200.5 | AE44: =+AC44+AD44 -> 470
B45: =30&$G$38 -> 30W-2 | C45: 30 - 35 | D45: =K13 -> 10 | E45: =+_xlfn.MAXIFS(Data!$AD$4:$AD$10000,Data!$AA$4:$AA$10000,$B45) -> 0 | F45: =_xlfn.MINIFS(Data!$AD$4:$AD$10000,Data!$AA$4:$AA$10000,$B45) -> 0 | G45: =IFERROR(AVERAGEIF(Data!$AA$4:$AA$10000,$B45,Data!$AD$4:$AD$10000),0) -> 0 | H45: {=+IFERROR(_xlfn.STDEV.P(IF(Data!$AA$4:$AA$10000=$B45,Data!$AD$4:$AD$10000)),)} -> 0 | I45: =+G45+H45 -> 0 | J45: =+G45+H45*2 -> 0 | L45: 30 - 35 | M45: =+_xlfn.MAXIFS(Data!$AG$4:$AG$10000,Data!$AA$4:$AA$10000,$B45) -> 0 | N45: =_xlfn.MINIFS(Data!$AG$4:$AG$10000,Data!$AA$4:$AA$10000,$B45) -> 0 | O45: =IFERROR(AVERAGEIF(Data!$AA$4:$AA$10000,$B45,Data!$AG$4:$AG$10000),0) -> 0 | P45: {=+IFERROR(_xlfn.STDEV.P(IF(Data!$AA$4:$AA$10000=$B45,Data!$AG$4:$AG$10000)),)} -> 0 | Q45: =+O45+P45 -> 0 | S45: 30 - 35 | T45: =+_xlfn.MAXIFS(Data!$AH$4:$AH$10000,Data!$AA$4:$AA$10000,$B45) -> 0 | U45: =_xlfn.MINIFS(Data!$AH$4:$AH$10000,Data!$AA$4:$AA$10000,$B45) -> 0 | V45: =IFERROR(AVERAGEIF(Data!$AA$4:$AA$10000,$B45,Data!$AH$4:$AH$10000),0) -> 0 | W45: {=+IFERROR(_xlfn.STDEV.P(IF(Data!$AA$4:$AA$10000=$B45,Data!$AH$4:$AH$10000)),)} -> 0 | X45: =+V45+W45 -> 0 | Z45: 30 - 35 | AA45: =+_xlfn.MAXIFS(Data!$AI$4:$AI$10000,Data!$AA$4:$AA$10000,$B45) -> 0 | AB45: =_xlfn.MINIFS(Data!$AI$4:$AI$10000,Data!$AA$4:$AA$10000,$B45) -> 0 | AC45: =IFERROR(AVERAGEIF(Data!$AA$4:$AA$10000,$B45,Data!$AI$4:$AI$10000),0) -> 0 | AD45: {=+IFERROR(_xlfn.STDEV.P(IF(Data!$AA$4:$AA$10000=$B45,Data!$AI$4:$AI$10000)),)} -> 0 | AE45: =+AC45+AD45 -> 0
B46: =35&$G$38 -> 35W-2 | C46: 35 - 40 | D46: =K14 -> 0 | E46: =+_xlfn.MAXIFS(Data!$AD$4:$AD$10000,Data!$AA$4:$AA$10000,$B46) -> 0 | F46: =_xlfn.MINIFS(Data!$AD$4:$AD$10000,Data!$AA$4:$AA$10000,$B46) -> 0 | G46: =IFERROR(AVERAGEIF(Data!$AA$4:$AA$10000,$B46,Data!$AD$4:$AD$10000),0) -> 0 | H46: {=+IFERROR(_xlfn.STDEV.P(IF(Data!$AA$4:$AA$10000=$B46,Data!$AD$4:$AD$10000)),)} -> 0 | I46: =+G46+H46 -> 0 | J46: =+G46+H46*2 -> 0 | L46: 35 - 40 | M46: =+_xlfn.MAXIFS(Data!$AG$4:$AG$10000,Data!$AA$4:$AA$10000,$B46) -> 0 | N46: =_xlfn.MINIFS(Data!$AG$4:$AG$10000,Data!$AA$4:$AA$10000,$B46) -> 0 | O46: =IFERROR(AVERAGEIF(Data!$AA$4:$AA$10000,$B46,Data!$AG$4:$AG$10000),0) -> 0 | P46: {=+IFERROR(_xlfn.STDEV.P(IF(Data!$AA$4:$AA$10000=$B46,Data!$AG$4:$AG$10000)),)} -> 0 | Q46: =+O46+P46 -> 0 | S46: 35 - 40 | T46: =+_xlfn.MAXIFS(Data!$AH$4:$AH$10000,Data!$AA$4:$AA$10000,$B46) -> 0 | U46: =_xlfn.MINIFS(Data!$AH$4:$AH$10000,Data!$AA$4:$AA$10000,$B46) -> 0 | V46: =IFERROR(AVERAGEIF(Data!$AA$4:$AA$10000,$B46,Data!$AH$4:$AH$10000),0) -> 0 | W46: {=+IFERROR(_xlfn.STDEV.P(IF(Data!$AA$4:$AA$10000=$B46,Data!$AH$4:$AH$10000)),)} -> 0 | X46: =+V46+W46 -> 0 | Z46: 35 - 40 | AA46: =+_xlfn.MAXIFS(Data!$AI$4:$AI$10000,Data!$AA$4:$AA$10000,$B46) -> 0 | AB46: =_xlfn.MINIFS(Data!$AI$4:$AI$10000,Data!$AA$4:$AA$10000,$B46) -> 0 | AC46: =IFERROR(AVERAGEIF(Data!$AA$4:$AA$10000,$B46,Data!$AI$4:$AI$10000),0) -> 0 | AD46: {=+IFERROR(_xlfn.STDEV.P(IF(Data!$AA$4:$AA$10000=$B46,Data!$AI$4:$AI$10000)),)} -> 0 | AE46: =+AC46+AD46 -> 0
B47: =40&$G$38 -> 40W-2 | C47: 40 - 100 | D47: =K15 -> 0 | E47: =+_xlfn.MAXIFS(Data!$AD$4:$AD$10000,Data!$AA$4:$AA$10000,$B47) -> 0 | F47: =_xlfn.MINIFS(Data!$AD$4:$AD$10000,Data!$AA$4:$AA$10000,$B47) -> 0 | G47: =IFERROR(AVERAGEIF(Data!$AA$4:$AA$10000,$B47,Data!$AD$4:$AD$10000),0) -> 0 | H47: {=+IFERROR(_xlfn.STDEV.P(IF(Data!$AA$4:$AA$10000=$B47,Data!$AD$4:$AD$10000)),)} -> 0 | I47: =+G47+H47 -> 0 | J47: =+G47+H47*2 -> 0 | L47: 40 - 100 | M47: =+_xlfn.MAXIFS(Data!$AG$4:$AG$10000,Data!$AA$4:$AA$10000,$B47) -> 0 | N47: =_xlfn.MINIFS(Data!$AG$4:$AG$10000,Data!$AA$4:$AA$10000,$B47) -> 0 | O47: =IFERROR(AVERAGEIF(Data!$AA$4:$AA$10000,$B47,Data!$AG$4:$AG$10000),0) -> 0 | P47: {=+IFERROR(_xlfn.STDEV.P(IF(Data!$AA$4:$AA$10000=$B47,Data!$AG$4:$AG$10000)),)} -> 0 | Q47: =+O47+P47 -> 0 | S47: 40 - 100 | T47: =+_xlfn.MAXIFS(Data!$AH$4:$AH$10000,Data!$AA$4:$AA$10000,$B47) -> 0 | U47: =_xlfn.MINIFS(Data!$AH$4:$AH$10000,Data!$AA$4:$AA$10000,$B47) -> 0 | V47: =IFERROR(AVERAGEIF(Data!$AA$4:$AA$10000,$B47,Data!$AH$4:$AH$10000),0) -> 0 | W47: {=+IFERROR(_xlfn.STDEV.P(IF(Data!$AA$4:$AA$10000=$B47,Data!$AH$4:$AH$10000)),)} -> 0 | X47: =+V47+W47 -> 0 | Z47: 40 - 100 | AA47: =+_xlfn.MAXIFS(Data!$AI$4:$AI$10000,Data!$AA$4:$AA$10000,$B47) -> 0 | AB47: =_xlfn.MINIFS(Data!$AI$4:$AI$10000,Data!$AA$4:$AA$10000,$B47) -> 0 | AC47: =IFERROR(AVERAGEIF(Data!$AA$4:$AA$10000,$B47,Data!$AI$4:$AI$10000),0) -> 0 | AD47: {=+IFERROR(_xlfn.STDEV.P(IF(Data!$AA$4:$AA$10000=$B47,Data!$AI$4:$AI$10000)),)} -> 0 | AE47: =+AC47+AD47 -> 0
C49: Range FDAX Analysis (per day - PREVIOUS week) | G49: W-1 | L49: Covered Distance UP Cases (per day - PREVIOUS week) | S49: Covered Distance DOWN Cases (per day - PREVIOUS week) | Z49: Closing Covered Distance (per day - PREVIOUS week)
I50: 0.682 | J50: =+I50+13.6%*2 -> 0.954
C51: Vola. Range | D51: Nº Days | E51: Max. Range | F51: Min. Range | G51: Average | H51: ST. Deviat. | I51: Expect. (1 SD) | J51: Expect. (2 SD) | L51: Vola. Range | M51: MAX UP Dist | N51: Min UP Dist | O51: Average | P51: ST. Deviat. | Q51: Expect. (1 SD) | S51: Vola. Range | T51: MAX DOWN Dist | U51: Min DOWN Dist | V51: Average | W51: ST. Deviat. | X51: Expect. (1 SD) | Z51: Vola. Range | AA51: MAX Dist | AB51: Min Dist | AC51: Average | AD51: ST. Deviat. | AE51: Expect. (1 SD)
B52: =0&$G$49 -> 0W-1 | C52: 0 - 15 | D52: =K9 -> 0 | E52: =+_xlfn.MAXIFS(Data!$AD$4:$AD$10000,Data!$AA$4:$AA$10000,$B52) -> 0 | F52: =_xlfn.MINIFS(Data!$AD$4:$AD$10000,Data!$AA$4:$AA$10000,$B52) -> 0 | G52: =IFERROR(AVERAGEIF(Data!$AA$4:$AA$10000,$B52,Data!$AD$4:$AD$10000),0) -> 0 | H52: {=+IFERROR(_xlfn.STDEV.P(IF(Data!$AA$4:$AA$10000=$B52,Data!$AD$4:$AD$10000)),)} -> 0 | I52: =+G52+H52 -> 0 | J52: =+G52+H52*2 -> 0 | L52: 0 - 15 | M52: =+_xlfn.MAXIFS(Data!$AG$4:$AG$10000,Data!$AA$4:$AA$10000,$B52) -> 0 | N52: =_xlfn.MINIFS(Data!$AG$4:$AG$10000,Data!$AA$4:$AA$10000,$B52) -> 0 | O52: =IFERROR(AVERAGEIF(Data!$AA$4:$AA$10000,$B52,Data!$AG$4:$AG$10000),0) -> 0 | P52: {=+IFERROR(_xlfn.STDEV.P(IF(Data!$AA$4:$AA$10000=$B52,Data!$AG$4:$AG$10000)),)} -> 0 | Q52: =+O52+P52 -> 0 | S52: 0 - 15 | T52: =+_xlfn.MAXIFS(Data!$AH$4:$AH$10000,Data!$AA$4:$AA$10000,$B52) -> 0 | U52: =_xlfn.MINIFS(Data!$AH$4:$AH$10000,Data!$AA$4:$AA$10000,$B52) -> 0 | V52: =IFERROR(AVERAGEIF(Data!$AA$4:$AA$10000,$B52,Data!$AH$4:$AH$10000),0) -> 0 | W52: {=+IFERROR(_xlfn.STDEV.P(IF(Data!$AA$4:$AA$10000=$B52,Data!$AH$4:$AH$10000)),)} -> 0 | X52: =+V52+W52 -> 0 | Z52: 0 - 15 | AA52: =+_xlfn.MAXIFS(Data!$AI$4:$AI$10000,Data!$AA$4:$AA$10000,$B52) -> 0 | AB52: =_xlfn.MINIFS(Data!$AI$4:$AI$10000,Data!$AA$4:$AA$10000,$B52) -> 0 | AC52: =IFERROR(AVERAGEIF(Data!$AA$4:$AA$10000,$B52,Data!$AI$4:$AI$10000),0) -> 0 | AD52: {=+IFERROR(_xlfn.STDEV.P(IF(Data!$AA$4:$AA$10000=$B52,Data!$AI$4:$AI$10000)),)} -> 0 | AE52: =+AC52+AD52 -> 0
B53: =15&$G$49 -> 15W-1 | C53: 15 -20 | D53: =K10 -> 47 | E53: =+_xlfn.MAXIFS(Data!$AD$4:$AD$10000,Data!$AA$4:$AA$10000,$B53) -> 210 | F53: =_xlfn.MINIFS(Data!$AD$4:$AD$10000,Data!$AA$4:$AA$10000,$B53) -> 210 | G53: =IFERROR(AVERAGEIF(Data!$AA$4:$AA$10000,$B53,Data!$AD$4:$AD$10000),0) -> 210 | H53: {=+IFERROR(_xlfn.STDEV.P(IF(Data!$AA$4:$AA$10000=$B53,Data!$AD$4:$AD$10000)),)} -> 0 | I53: =+G53+H53 -> 210 | J53: =+G53+H53*2 -> 210 | L53: 15 -20 | M53: =+_xlfn.MAXIFS(Data!$AG$4:$AG$10000,Data!$AA$4:$AA$10000,$B53) -> 210 | N53: =_xlfn.MINIFS(Data!$AG$4:$AG$10000,Data!$AA$4:$AA$10000,$B53) -> 210 | O53: =IFERROR(AVERAGEIF(Data!$AA$4:$AA$10000,$B53,Data!$AG$4:$AG$10000),0) -> 210 | P53: {=+IFERROR(_xlfn.STDEV.P(IF(Data!$AA$4:$AA$10000=$B53,Data!$AG$4:$AG$10000)),)} -> 0 | Q53: =+O53+P53 -> 210 | S53: 15 -20 | T53: =+_xlfn.MAXIFS(Data!$AH$4:$AH$10000,Data!$AA$4:$AA$10000,$B53) -> 0 | U53: =_xlfn.MINIFS(Data!$AH$4:$AH$10000,Data!$AA$4:$AA$10000,$B53) -> 0 | V53: =IFERROR(AVERAGEIF(Data!$AA$4:$AA$10000,$B53,Data!$AH$4:$AH$10000),0) -> 0 | W53: {=+IFERROR(_xlfn.STDEV.P(IF(Data!$AA$4:$AA$10000=$B53,Data!$AH$4:$AH$10000)),)} -> 0 | X53: =+V53+W53 -> 0 | Z53: 15 -20 | AA53: =+_xlfn.MAXIFS(Data!$AI$4:$AI$10000,Data!$AA$4:$AA$10000,$B53) -> 9 | AB53: =_xlfn.MINIFS(Data!$AI$4:$AI$10000,Data!$AA$4:$AA$10000,$B53) -> 9 | AC53: =IFERROR(AVERAGEIF(Data!$AA$4:$AA$10000,$B53,Data!$AI$4:$AI$10000),0) -> 9 | AD53: {=+IFERROR(_xlfn.STDEV.P(IF(Data!$AA$4:$AA$10000=$B53,Data!$AI$4:$AI$10000)),)} -> 0 | AE53: =+AC53+AD53 -> 9
B54: =20&$G$49 -> 20W-1 | C54: 20 - 25 | D54: =K11 -> 67 | E54: =+_xlfn.MAXIFS(Data!$AD$4:$AD$10000,Data!$AA$4:$AA$10000,$B54) -> 383 | F54: =_xlfn.MINIFS(Data!$AD$4:$AD$10000,Data!$AA$4:$AA$10000,$B54) -> 174 | G54: =IFERROR(AVERAGEIF(Data!$AA$4:$AA$10000,$B54,Data!$AD$4:$AD$10000),0) -> 242.75 | H54: {=+IFERROR(_xlfn.STDEV.P(IF(Data!$AA$4:$AA$10000=$B54,Data!$AD$4:$AD$10000)),)} -> 83.547516 | I54: =+G54+H54 -> 326.29752 | J54: =+G54+H54*2 -> 409.84503 | L54: 20 - 25 | M54: =+_xlfn.MAXIFS(Data!$AG$4:$AG$10000,Data!$AA$4:$AA$10000,$B54) -> 221 | N54: =_xlfn.MINIFS(Data!$AG$4:$AG$10000,Data!$AA$4:$AA$10000,$B54) -> 62 | O54: =IFERROR(AVERAGEIF(Data!$AA$4:$AA$10000,$B54,Data!$AG$4:$AG$10000),0) -> 127.25 | P54: {=+IFERROR(_xlfn.STDEV.P(IF(Data!$AA$4:$AA$10000=$B54,Data!$AG$4:$AG$10000)),)} -> 61.751012 | Q54: =+O54+P54 -> 189.00101 | S54: 20 - 25 | T54: =+_xlfn.MAXIFS(Data!$AH$4:$AH$10000,Data!$AA$4:$AA$10000,$B54) -> 321 | U54: =_xlfn.MINIFS(Data!$AH$4:$AH$10000,Data!$AA$4:$AA$10000,$B54) -> 8 | V54: =IFERROR(AVERAGEIF(Data!$AA$4:$AA$10000,$B54,Data!$AH$4:$AH$10000),0) -> 115.5 | W54: {=+IFERROR(_xlfn.STDEV.P(IF(Data!$AA$4:$AA$10000=$B54,Data!$AH$4:$AH$10000)),)} -> 123.60117 | X54: =+V54+W54 -> 239.10117 | Z54: 20 - 25 | AA54: =+_xlfn.MAXIFS(Data!$AI$4:$AI$10000,Data!$AA$4:$AA$10000,$B54) -> 131 | AB54: =_xlfn.MINIFS(Data!$AI$4:$AI$10000,Data!$AA$4:$AA$10000,$B54) -> 52 | AC54: =IFERROR(AVERAGEIF(Data!$AA$4:$AA$10000,$B54,Data!$AI$4:$AI$10000),0) -> 78 | AD54: {=+IFERROR(_xlfn.STDEV.P(IF(Data!$AA$4:$AA$10000=$B54,Data!$AI$4:$AI$10000)),)} -> 31.040296 | AE54: =+AC54+AD54 -> 109.0403
B55: =25&$G$49 -> 25W-1 | C55: 25 - 30 | D55: =K12 -> 46 | E55: =+_xlfn.MAXIFS(Data!$AD$4:$AD$10000,Data!$AA$4:$AA$10000,$B55) -> 0 | F55: =_xlfn.MINIFS(Data!$AD$4:$AD$10000,Data!$AA$4:$AA$10000,$B55) -> 0 | G55: =IFERROR(AVERAGEIF(Data!$AA$4:$AA$10000,$B55,Data!$AD$4:$AD$10000),0) -> 0 | H55: {=+IFERROR(_xlfn.STDEV.P(IF(Data!$AA$4:$AA$10000=$B55,Data!$AD$4:$AD$10000)),)} -> 0 | I55: =+G55+H55 -> 0 | J55: =+G55+H55*2 -> 0 | L55: 25 - 30 | M55: =+_xlfn.MAXIFS(Data!$AG$4:$AG$10000,Data!$AA$4:$AA$10000,$B55) -> 0 | N55: =_xlfn.MINIFS(Data!$AG$4:$AG$10000,Data!$AA$4:$AA$10000,$B55) -> 0 | O55: =IFERROR(AVERAGEIF(Data!$AA$4:$AA$10000,$B55,Data!$AG$4:$AG$10000),0) -> 0 | P55: {=+IFERROR(_xlfn.STDEV.P(IF(Data!$AA$4:$AA$10000=$B55,Data!$AG$4:$AG$10000)),)} -> 0 | Q55: =+O55+P55 -> 0 | S55: 25 - 30 | T55: =+_xlfn.MAXIFS(Data!$AH$4:$AH$10000,Data!$AA$4:$AA$10000,$B55) -> 0 | U55: =_xlfn.MINIFS(Data!$AH$4:$AH$10000,Data!$AA$4:$AA$10000,$B55) -> 0 | V55: =IFERROR(AVERAGEIF(Data!$AA$4:$AA$10000,$B55,Data!$AH$4:$AH$10000),0) -> 0 | W55: {=+IFERROR(_xlfn.STDEV.P(IF(Data!$AA$4:$AA$10000=$B55,Data!$AH$4:$AH$10000)),)} -> 0 | X55: =+V55+W55 -> 0 | Z55: 25 - 30 | AA55: =+_xlfn.MAXIFS(Data!$AI$4:$AI$10000,Data!$AA$4:$AA$10000,$B55) -> 0 | AB55: =_xlfn.MINIFS(Data!$AI$4:$AI$10000,Data!$AA$4:$AA$10000,$B55) -> 0 | AC55: =IFERROR(AVERAGEIF(Data!$AA$4:$AA$10000,$B55,Data!$AI$4:$AI$10000),0) -> 0 | AD55: {=+IFERROR(_xlfn.STDEV.P(IF(Data!$AA$4:$AA$10000=$B55,Data!$AI$4:$AI$10000)),)} -> 0 | AE55: =+AC55+AD55 -> 0
...

Sheet Reglas
B2: Inputs | I2: Morning Session Levels (08:00 - 14:30) | S2: GAP`s type (08:00 - 14:30)
B4: DAX (Closing 17:35) | E4: VDAX-new (Volatilidad) | I4: VDAX-new | J4: L1 | K4: L2 | L4: Long STOP | M4: S1 | N4: S2 | O4: Short STOP | S4: Double GAP Condiciones
B5: 13986.23 | E5: 20.94 | I5: 0 | J5: -40 | K5: -40 | L5: -35 | M5: 40 | N5: 40 | O5: 35 | S5: 1) VDAX-new > 30?
I6: 20 | J6: -50 | K6: -50 | L6: -35 | M6: 50 | N6: 50 | O6: 35 | S6: 2) DAX Closing < FDAX Closing < FDAX Opening o bien DAX Closing > FDAX Closing > FDAX Opening
B7: FDAX (Closing 22:00 previous day) | E7: FDAX (Opening 08:00) | I7: 25 | J7: -55 | K7: -55 | L7: -35 | M7: 55 | N7: 55 | O7: 35 | S7: 3) Valor absoluto ( FDAX Closing - DAX Closing) >= 10 y además Valor Absoluto (FDAX Opening - DAX Closing) >= 70
B8: 13989.6 | E8: 14029.05 | I8: 30 | J8: -100 | K8: -65 | L8: -35 | M8: 65 | N8: 65 | O8: 35 | S8: 2) + 3) En total debe haber una distancia de 70 puntos
S9: Nota 1: Obtener ganancias parciales con profit de 30 puntos
S10: Nota 2: Esperar al cierre de las velas 15m de las 9:00
S11: Nota 3: Recordar que puede ser GAP de reversión o continuación, una pista la ofrece overnight
S12: Nota 4: El punto de entrada se convierte en el primer nivel, el segundo nivel y STOP se establecen a partir del punto de entrada
S14: Wide GAP Condiciones
S15: 1) VDAX-new > 30?
S16: 2) No se cumple las condiciones 1) y 2) del Doble GAP
S17: 3) Valor absoluto ( FDAX Closing - FDAX Opening )>= 40 puntos si VDAX-new <20, 70 puntos si el VDAX-new>20
S19: *Excepciones:
S20: a) Si el Cierre del día anterior se encuentra en máximos o mínimos absolutos y overnight
S21: mantiene la tendencia en la misma dirección prodría haber continuación y no reversión.
S22: b) Si Valor absoluto ( FDAX Closing - FDAX Opening )>= 300 puntos, entonces se trata de un Monster GAP y no debe operarse
B40: Cálculos de las ZONAS
B42: L1 | C42: =IF(B66=B42,B64,MIN($E$8,$B$8)+F44) -> 13939.6
B43: L2 | C43: =C42+G44 -> 13889.6 | E43: VDAX-new | F43: L1 | G43: L2 | H43: Long STOP | I43: S1 | J43: S2 | K43: Short STOP
B44: LS | C44: =C43+H44 -> 13854.6 | E44: =+VLOOKUP(E5,$I$5:$I$8,1,1) -> 20 | F44: =+VLOOKUP($E44,$I$5:$O$8,MATCH(F43,$I$4:$O$4,),) -> -50 | G44: =+VLOOKUP($E44,$I$5:$O$8,MATCH(G43,$I$4:$O$4,),) -> -50 | H44: =+VLOOKUP($E44,$I$5:$O$8,MATCH(H43,$I$4:$O$4,),) -> -35 | I44: =+VLOOKUP($E44,$I$5:$O$8,MATCH(I43,$I$4:$O$4,),) -> 50 | J44: =+VLOOKUP($E44,$I$5:$O$8,MATCH(J43,$I$4:$O$4,),) -> 50 | K44: =+VLOOKUP($E44,$I$5:$O$8,MATCH(K43,$I$4:$O$4,),) -> 35
B46: S1 | C46: =IF(B66=B46,B64,MAX($E$8,$B$8)+I44) -> 14079.05
B47: S2 | C47: =C46+J44 -> 14129.05
B48: SS | C48: =C47+K44 -> 14164.05
B50: Cálculos GAPs
B52: Double? | C52: =+IF(AND(C53=1,C54=1,C55=1),1,0) -> 0 | D52: =+IF(C52=1,IF(E8>B8,"S1","L1"),"") | E52: =+IF(D52="","",E8)
B53: 1) ? | C53: =+IF(E5<=30,1,0) -> 1
B54: 2) ? | C54: =+IF(OR(AND(B5<B8,B8<E8),AND(B5>B8,B8>E8)),1,0) -> 1
B55: 3) ? | C55: =+IF(AND(ABS(B8-B5)>=10,ABS(E8-B5)>=70,ABS(E8-B8)<300),1,0) -> 0
B56: Wide? | C56: =+IF(AND(C57=1,C58=1,C59=1),1,0) -> 0 | D56: =+IF(C56=1,IF(E8<B8,"S1","L1"),"") | E56: =+IF(D56="","",B8)
B57: 1) ? | C57: =+C53 -> 1
B58: 2) ? | C58: =+IF(OR(C54=0,C55=0),1,0) -> 1
B59: 3) ? | C59: =+IF(OR(AND(E5<20,ABS(E8-B8)>=40,ABS(E8-B8)<300),AND(E5>=20,ABS(E8-B8)>=70,ABS(E8-B8)<300)),1,0) -> 0
B61: Existe GAP? | D61: Cuantos puntos?
B62: =+IF(C52=1,"Double GAP:",IF(C56=1,"Wide GAP:",IF(ABS(E8-B8)>=300,"Monster GAP:","No GAP:"))) -> No GAP: | D62: =IF(B62="No GAP",I44,ABS(E8-B8)) -> 39.45 | F62: =+B62&IF(B62="No GAP:",""," - Punto de Entrada: ")&B66&" "&B64&" Objetivo: "&INT(D62)&" puntos" -> No GAP: Objetivo: 39 puntos
B63: Si se produce el GAP, la primera zona la marcará el GAP
B64: =IF(N(E52)+N(E56)=0,"",N(E52)+N(E56))
B65: En qué posición se situa la primera zona del GAP, L o S?
B66: =+D52&D56
...

Sheet vtad
A1: Legend | E1: ="Sample Size = "&COUNT(C11:C1048576)&" days - Morning Session" -> Sample Size = 170 days - Morning Session | P1: ="Sample Size = "&COUNT(C11:C1048576)&" days - Setup1" -> Sample Size = 170 days - Setup1 | X1: ="Sample Size = "&COUNT(C11:C1048576)&" days - Setup 2, Setup 3 and Setup 4" -> Sample Size = 170 days - Setup 2, Setup 3 and Setup 4 | AH1: =+E1 -> Sample Size = 170 days - Morning Session | AP1: =+P1 -> Sample Size = 170 days - Setup1 | AX1: =+X1 -> Sample Size = 170 days - Setup 2, Setup 3 and Setup 4 | BP1: Doble GAP | BQ1: Wide GAP | BR1: L1 | BS1: S1 | BT1: L2 | BU1: S2 | BV1: SETUP 1 | BW1: SETUP 2 | BX1: SETUP 3 | BY1: SETUP 4 | CA1: overall
A2: 0 | B2: Level reached without reversion | C2: L1 = Long Level 1 | F2: L1 | G2: L2 | H2: S1 | I2: S2 | J2: Double GAP | K2: Wide GAP | Q2: L1 | R2: L2 | S2: S1 | T2: S2 | U2: Setup1 | Y2: Setup 2 | Z2: Setup 3 | AA2: Setup 4 | AE2: profit | AF2: losses | AH2: Trade | AI2: Num. of cases | AJ2: Profits | AK2: Breakevens | AL2: Losses | AM2: Exceptions | AN2: Win ratio | AP2: Trade | AQ2: Num. of cases | AR2: Profits | AS2: Breakevens | AT2: Losses | AU2: Exceptions | AV2: Win ratio | AX2: Trade | AY2: Num. of cases | AZ2: Profits | BA2: Breakevens | BB2: Losses | BC2: Exceptions | BD2: Win ratio | BO2: Beneficio Medio | BP2: =+BB8/BB6 -> 56.346154 | BQ2: =+BC8/BC6 -> 45 | BR2: =+BD8/BD6 -> 34.791667 | BS2: =+BE8/BE6 -> 28.658537 | BT2: =+BF8/BF6 -> 32.173913 | BU2: =+BG8/BG6 -> 29.285714 | BV2: =+BH8/BH6 -> 41.923077 | BW2: =+BI8/BI6 -> 42.666667 | ... BY2: =+BK8/BK6 -> 49.794521 | CA2: =+BM8/BM6 -> 40.704225
A3: 1 | B3: Profit | C3: L2 = Long Level 2 | E3: Num. of cases | F3: =+COUNT(H$11:H$1048576) -> 70 | G3: =+COUNT(I$11:I$1048576) -> 32 | H3: =+COUNT(K$11:K$1048576) -> 57 | I3: =+COUNT(L$11:L$1048576) -> 22 | J3: =+COUNT(E$11:E$1048576) -> 26 | K3: =+COUNT(F$11:F$1048576) -> 11 | P3: Num. of cases | Q3: =+COUNT(O$11:O$1048576) -> 5 | R3: =+COUNT(P$11:P$1048576) -> 8 | S3: =+COUNT(R$11:R$1048576) -> 11 | T3: =+COUNT(S$11:S$1048576) -> 8 | U3: =+SUM(Tabla22[[#This Row],[L1]:[S2]]) -> 32 | X3: Num. of cases | Y3: =+COUNT(U$11:U$1048576) -> 13 | Z3: =+COUNT(V$11:V$1048576) -> 25 | AA3: =+COUNT(W$11:W$1048576) -> 74 | AD3: desempleo | AE3: =+COUNTIF($AA$11:$AA$1048576,1) -> 4 | AF3: =+COUNTIF($AA$11:$AA$1048576,3) -> 2 | AH3: S2 | AI3: {=+SUMPRODUCT(($E$3:$E$8 = AI$2)*($F$2:$K$2=$AH3)*($F$3:$K$8))} -> 22 | AJ3: {=+SUMPRODUCT(($E$3:$E$8 = AJ$2)*($F$2:$K$2=$AH3)*($F$3:$K$8))} -> 17 | AK3: {=+SUMPRODUCT(($E$3:$E$8 = AK$2)*($F$2:$K$2=$AH3)*($F$3:$K$8))} -> 0 | AL3: {=+SUMPRODUCT(($E$3:$E$8 = AL$2)*($F$2:$K$2=$AH3)*($F$3:$K$8))} -> 5 | AM3: {=+SUMPRODUCT(($E$3:$E$8 = AM$2)*($F$2:$K$2=$AH3)*($F$3:$K$8))} -> 0 | AN3: {=+SUMPRODUCT(($E$3:$E$8 = AN$2)*($F$2:$K$2=$AH3)*($F$3:$K$8))} -> 0.77272727 | AP3: S2 | AQ3: {=+SUMPRODUCT(($P$3:$P$8 = AQ$2)*($Q$2:$V$2=$AP3)*($Q$3:$V$8))} -> 8 | AR3: {=+SUMPRODUCT(($P$3:$P$8 = AR$2)*($Q$2:$V$2=$AP3)*($Q$3:$V$8))} -> 5 | AS3: {=+SUMPRODUCT(($P$3:$P$8 = AS$2)*($Q$2:$V$2=$AP3)*($Q$3:$V$8))} -> 1 | AT3: {=+SUMPRODUCT(($P$3:$P$8 = AT$2)*($Q$2:$V$2=$AP3)*($Q$3:$V$8))} -> 2 | AU3: {=+SUMPRODUCT(($P$3:$P$8 = AU$2)*($Q$2:$V$2=$AP3)*($Q$3:$V$8))} -> 0 | AV3: {=+SUMPRODUCT(($P$3:$P$8 = AV$2)*($Q$2:$V$2=$AP3)*($Q$3:$V$8))} -> 0.625 | AX3: Setup 2 | AY3: {=+SUMPRODUCT(($X$3:$X$8 = AY$2)*($Y$2:$AB$2=$AX3)*($Y$3:$AB$8))} -> 13 | AZ3: {=+SUMPRODUCT(($X$3:$X$8 = AZ$2)*($Y$2:$AB$2=$AX3)*($Y$3:$AB$8))} -> 13 | BA3: {=+SUMPRODUCT(($X$3:$X$8 = BA$2)*($Y$2:$AB$2=$AX3)*($Y$3:$AB$8))} -> 0 | BB3: {=+SUMPRODUCT(($X$3:$X$8 = BB$2)*($Y$2:$AB$2=$AX3)*($Y$3:$AB$8))} -> 0 | BC3: {=+SUMPRODUCT(($X$3:$X$8 = BC$2)*($Y$2:$AB$2=$AX3)*($Y$3:$AB$8))} -> 0 | BD3: {=+SUMPRODUCT(($X$3:$X$8 = BD$2)*($Y$2:$AB$2=$AX3)*($Y$3:$AB$8))} -> 1 | BO3: Perdida Media | BP3: =IFERROR(BB9/BB7,0) -> 0 | BQ3: =IFERROR(BC9/BC7,0) -> -85 | BR3: =IFERROR(BD9/BD7,0) -> -45.952381 | BS3: =IFERROR(BE9/BE7,0) -> -39.642857 | BT3: =IFERROR(BF9/BF7,0) -> -34.285714 | BU3: =IFERROR(BG9/BG7,0) -> -37.857143 | BV3: =IFERROR(BH9/BH7,0) -> -72.5 | BW3: =IFERROR(BI9/BI7,0) -> 0 | ... BY3: =IFERROR(BK9/BK7,0) -> -75 | CA3: =IFERROR(BM9/BM7,0) -> -46.694915
A4: 2 | B4: Breakeven | C4: S1 = Short Level 1 | E4: Profits | F4: =COUNTIF(H$11:H$1048576,1) -> 47 | G4: =COUNTIF(I$11:I$1048576,1) -> 22 | H4: =COUNTIF(K$11:K$1048576,1) -> 42 | I4: =COUNTIF(L$11:L$1048576,1) -> 17 | J4: =COUNTIF(E$11:E$1048576,1) -> 26 | K4: =COUNTIF(F$11:F$1048576,1) -> 9 | P4: Profits | Q4: =COUNTIF(O$11:O$1048576,1) -> 5 | R4: =COUNTIF(P$11:P$1048576,1) -> 6 | S4: =COUNTIF(R$11:R$1048576,1) -> 8 | T4: =COUNTIF(S$11:S$1048576,1) -> 5 | U4: =+SUM(Tabla22[[#This Row],[L1]:[S2]]) -> 24 | X4: Profits | Y4: =COUNTIF(U$11:U$1048576,1) -> 13 | Z4: =COUNTIF(V$11:V$1048576,1) -> 22 | AA4: =COUNTIF(W$11:W$1048576,1) -> 67 | AD4: fed | AE4: =+COUNTIF($AB$11:$AB$1048576,1) -> 4 | AF4: =+COUNTIF($AB$11:$AB$1048576,3) -> 1 | AH4: S1 | AI4: {=+SUMPRODUCT(($E$3:$E$8 = AI$2)*($F$2:$K$2=$AH4)*($F$3:$K$8))} -> 57 | AJ4: {=+SUMPRODUCT(($E$3:$E$8 = AJ$2)*($F$2:$K$2=$AH4)*($F$3:$K$8))} -> 42 | AK4: {=+SUMPRODUCT(($E$3:$E$8 = AK$2)*($F$2:$K$2=$AH4)*($F$3:$K$8))} -> 4 | AL4: {=+SUMPRODUCT(($E$3:$E$8 = AL$2)*($F$2:$K$2=$AH4)*($F$3:$K$8))} -> 11 | AM4: {=+SUMPRODUCT(($E$3:$E$8 = AM$2)*($F$2:$K$2=$AH4)*($F$3:$K$8))} -> 0 | AN4: {=+SUMPRODUCT(($E$3:$E$8 = AN$2)*($F$2:$K$2=$AH4)*($F$3:$K$8))} -> 0.73684211 | AP4: S1 | AQ4: {=+SUMPRODUCT(($P$3:$P$8 = AQ$2)*($Q$2:$V$2=$AP4)*($Q$3:$V$8))} -> 11 | AR4: {=+SUMPRODUCT(($P$3:$P$8 = AR$2)*($Q$2:$V$2=$AP4)*($Q$3:$V$8))} -> 8 | AS4: {=+SUMPRODUCT(($P$3:$P$8 = AS$2)*($Q$2:$V$2=$AP4)*($Q$3:$V$8))} -> 0 | AT4: {=+SUMPRODUCT(($P$3:$P$8 = AT$2)*($Q$2:$V$2=$AP4)*($Q$3:$V$8))} -> 3 | AU4: {=+SUMPRODUCT(($P$3:$P$8 = AU$2)*($Q$2:$V$2=$AP4)*($Q$3:$V$8))} -> 0 | AV4: {=+SUMPRODUCT(($P$3:$P$8 = AV$2)*($Q$2:$V$2=$AP4)*($Q$3:$V$8))} -> 0.72727273 | AX4: Setup 3 | AY4: {=+SUMPRODUCT(($X$3:$X$8 = AY$2)*($Y$2:$AB$2=$AX4)*($Y$3:$AB$8))} -> 25 | AZ4: {=+SUMPRODUCT(($X$3:$X$8 = AZ$2)*($Y$2:$AB$2=$AX4)*($Y$3:$AB$8))} -> 22 | BA4: {=+SUMPRODUCT(($X$3:$X$8 = BA$2)*($Y$2:$AB$2=$AX4)*($Y$3:$AB$8))} -> 1 | BB4: {=+SUMPRODUCT(($X$3:$X$8 = BB$2)*($Y$2:$AB$2=$AX4)*($Y$3:$AB$8))} -> 2 | BC4: {=+SUMPRODUCT(($X$3:$X$8 = BC$2)*($Y$2:$AB$2=$AX4)*($Y$3:$AB$8))} -> 0 | BD4: {=+SUMPRODUCT(($X$3:$X$8 = BD$2)*($Y$2:$AB$2=$AX4)*($Y$3:$AB$8))} -> 0.88 | BO4: % aciertos | BP4: =BB6/(BB6+BB7) -> 1 | BQ4: =BC6/(BC6+BC7) -> 0.92307692 | BR4: =BD6/(BD6+BD7) -> 0.69565217 | BS4: =BE6/(BE6+BE7) -> 0.74545455 | BT4: =BF6/(BF6+BF7) -> 0.76666667 | BU4: =BG6/(BG6+BG7) -> 0.66666667 | BV4: =BH6/(BH6+BH7) -> 0.86666667 | BW4: =BI6/(BI6+BI7) -> 1 | ... BY4: =BK6/(BK6+BK7) -> 0.92405063 | CA4: =BM6/(BM6+BM7) -> 0.82798834
A5: 3 | B5: loss | C5: S2 = Short Level 2 | E5: Breakevens | F5: =COUNTIF(H$11:H$1048576,2) -> 6 | G5: =COUNTIF(I$11:I$1048576,2) -> 3 | H5: =COUNTIF(K$11:K$1048576,2) -> 4 | I5: =COUNTIF(L$11:L$1048576,2) -> 0 | J5: =COUNTIF(E$11:E$1048576,2) -> 0 | K5: =COUNTIF(F$11:F$1048576,2) -> 1 | P5: Breakevens | Q5: =COUNTIF(O$11:O$1048576,2) -> 0 | R5: =COUNTIF(P$11:P$1048576,2) -> 0 | S5: =COUNTIF(R$11:R$1048576,2) -> 0 | T5: =COUNTIF(S$11:S$1048576,2) -> 1 | U5: =+SUM(Tabla22[[#This Row],[L1]:[S2]]) -> 1 | X5: Breakevens | Y5: =COUNTIF(U$11:U$1048576,2) -> 0 | Z5: =COUNTIF(V$11:V$1048576,2) -> 1 | AA5: =COUNTIF(W$11:W$1048576,2) -> 1 | AD5: bce | AE5: =+COUNTIF($AC$11:$AC$1048576,1) -> 1 | AF5: =+COUNTIF($AC$11:$AC$1048576,3) -> 4 | AH5: L1 | AI5: {=+SUMPRODUCT(($E$3:$E$8 = AI$2)*($F$2:$K$2=$AH5)*($F$3:$K$8))} -> 70 | AJ5: {=+SUMPRODUCT(($E$3:$E$8 = AJ$2)*($F$2:$K$2=$AH5)*($F$3:$K$8))} -> 47 | AK5: {=+SUMPRODUCT(($E$3:$E$8 = AK$2)*($F$2:$K$2=$AH5)*($F$3:$K$8))} -> 6 | AL5: {=+SUMPRODUCT(($E$3:$E$8 = AL$2)*($F$2:$K$2=$AH5)*($F$3:$K$8))} -> 17 | AM5: {=+SUMPRODUCT(($E$3:$E$8 = AM$2)*($F$2:$K$2=$AH5)*($F$3:$K$8))} -> 0 | AN5: {=+SUMPRODUCT(($E$3:$E$8 = AN$2)*($F$2:$K$2=$AH5)*($F$3:$K$8))} -> 0.67142857 | AP5: L1 | AQ5: {=+SUMPRODUCT(($P$3:$P$8 = AQ$2)*($Q$2:$V$2=$AP5)*($Q$3:$V$8))} -> 5 | AR5: {=+SUMPRODUCT(($P$3:$P$8 = AR$2)*($Q$2:$V$2=$AP5)*($Q$3:$V$8))} -> 5 | AS5: {=+SUMPRODUCT(($P$3:$P$8 = AS$2)*($Q$2:$V$2=$AP5)*($Q$3:$V$8))} -> 0 | AT5: {=+SUMPRODUCT(($P$3:$P$8 = AT$2)*($Q$2:$V$2=$AP5)*($Q$3:$V$8))} -> 0 | AU5: {=+SUMPRODUCT(($P$3:$P$8 = AU$2)*($Q$2:$V$2=$AP5)*($Q$3:$V$8))} -> 0 | AV5: {=+SUMPRODUCT(($P$3:$P$8 = AV$2)*($Q$2:$V$2=$AP5)*($Q$3:$V$8))} -> 1 | AX5: Setup 4 | AY5: {=+SUMPRODUCT(($X$3:$X$8 = AY$2)*($Y$2:$AB$2=$AX5)*($Y$3:$AB$8))} -> 74 | AZ5: {=+SUMPRODUCT(($X$3:$X$8 = AZ$2)*($Y$2:$AB$2=$AX5)*($Y$3:$AB$8))} -> 67 | BA5: {=+SUMPRODUCT(($X$3:$X$8 = BA$2)*($Y$2:$AB$2=$AX5)*($Y$3:$AB$8))} -> 1 | BB5: {=+SUMPRODUCT(($X$3:$X$8 = BB$2)*($Y$2:$AB$2=$AX5)*($Y$3:$AB$8))} -> 6 | BC5: {=+SUMPRODUCT(($X$3:$X$8 = BC$2)*($Y$2:$AB$2=$AX5)*($Y$3:$AB$8))} -> 0 | BD5: {=+SUMPRODUCT(($X$3:$X$8 = BD$2)*($Y$2:$AB$2=$AX5)*($Y$3:$AB$8))} -> 0.90540541 | BO5: % fallos | BP5: =BB7/(BB6+BB7) -> 0 | BQ5: =BC7/(BC6+BC7) -> 0.076923077 | BR5: =BD7/(BD6+BD7) -> 0.30434783 | BS5: =BE7/(BE6+BE7) -> 0.25454545 | BT5: =BF7/(BF6+BF7) -> 0.23333333 | BU5: =BG7/(BG6+BG7) -> 0.33333333 | BV5: =BH7/(BH6+BH7) -> 0.13333333 | BW5: =BI7/(BI6+BI7) -> 0 | ... BY5: =BK7/(BK6+BK7) -> 0.075949367 | CA5: =BM7/(BM6+BM7) -> 0.17201166
B6: ="Sample Size = "&COUNT(C11:C1048576) -> Sample Size = 170 | E6: Losses | F6: =COUNTIF(H$11:H$1048576,3) -> 17 | G6: =COUNTIF(I$11:I$1048576,3) -> 7 | H6: =COUNTIF(K$11:K$1048576,3) -> 11 | I6: =COUNTIF(L$11:L$1048576,3) -> 5 | J6: =COUNTIF(E$11:E$1048576,3) -> 0 | K6: =COUNTIF(F$11:F$1048576,3) -> 1 | P6: Losses | Q6: =COUNTIF(O$11:O$1048576,3) -> 0 | R6: =COUNTIF(P$11:P$1048576,3) -> 2 | S6: =COUNTIF(R$11:R$1048576,3) -> 3 | T6: =COUNTIF(S$11:S$1048576,3) -> 2 | U6: =+SUM(Tabla22[[#This Row],[L1]:[S2]]) -> 7 | X6: Losses | Y6: =COUNTIF(U$11:U$1048576,3) -> 0 | Z6: =COUNTIF(V$11:V$1048576,3) -> 2 | AA6: =COUNTIF(W$11:W$1048576,3) -> 6 | AD6: inflación | AE6: =+COUNTIF($AD$11:$AD$1048576,1) -> 7 | AF6: =+COUNTIF($AD$11:$AD$1048576,3) -> 1 | AH6: L2 | AI6: {=+SUMPRODUCT(($E$3:$E$8 = AI$2)*($F$2:$K$2=$AH6)*($F$3:$K$8))} -> 32 | AJ6: {=+SUMPRODUCT(($E$3:$E$8 = AJ$2)*($F$2:$K$2=$AH6)*($F$3:$K$8))} -> 22 | AK6: {=+SUMPRODUCT(($E$3:$E$8 = AK$2)*($F$2:$K$2=$AH6)*($F$3:$K$8))} -> 3 | AL6: {=+SUMPRODUCT(($E$3:$E$8 = AL$2)*($F$2:$K$2=$AH6)*($F$3:$K$8))} -> 7 | AM6: {=+SUMPRODUCT(($E$3:$E$8 = AM$2)*($F$2:$K$2=$AH6)*($F$3:$K$8))} -> 0 | AN6: {=+SUMPRODUCT(($E$3:$E$8 = AN$2)*($F$2:$K$2=$AH6)*($F$3:$K$8))} -> 0.6875 | AP6: L2 | AQ6: {=+SUMPRODUCT(($P$3:$P$8 = AQ$2)*($Q$2:$V$2=$AP6)*($Q$3:$V$8))} -> 8 | AR6: {=+SUMPRODUCT(($P$3:$P$8 = AR$2)*($Q$2:$V$2=$AP6)*($Q$3:$V$8))} -> 6 | AS6: {=+SUMPRODUCT(($P$3:$P$8 = AS$2)*($Q$2:$V$2=$AP6)*($Q$3:$V$8))} -> 0 | AT6: {=+SUMPRODUCT(($P$3:$P$8 = AT$2)*($Q$2:$V$2=$AP6)*($Q$3:$V$8))} -> 2 | AU6: {=+SUMPRODUCT(($P$3:$P$8 = AU$2)*($Q$2:$V$2=$AP6)*($Q$3:$V$8))} -> 0 | AV6: {=+SUMPRODUCT(($P$3:$P$8 = AV$2)*($Q$2:$V$2=$AP6)*($Q$3:$V$8))} -> 0.75 | BA6: Nº Operaciones Ganadoras | BB6: 26 | BC6: 12 | BD6: 48 | BE6: 41 | BF6: 23 | BG6: 14 | BH6: 13 | BI6: 15 | BJ6: 19 | BK6: 73 | BM6: =+SUM(BB6:BK6) -> 284 | BO6: Esperanza Matemática | BP6: =+BP2*BP4+BP3*BP5 -> 56.346154 | BQ6: =+BQ2*BQ4+BQ3*BQ5 -> 35 | BR6: =+BR2*BR4+BR3*BR5 -> 10.217391 | BS6: =+BS2*BS4+BS3*BS5 -> 11.272727 | BT6: =+BT2*BT4+BT3*BT5 -> 16.666667 | BU6: =+BU2*BU4+BU3*BU5 -> 6.9047619 | BV6: =+BV2*BV4+BV3*BV5 -> 26.666667 | BW6: =+BW2*BW4+BW3*BW5 -> 42.666667 | ... BY6: =+BY2*BY4+BY3*BY5 -> 40.316456 | CA6: =+CA2*CA4+CA3*CA5 -> 25.670554
E7: Exceptions | F7: =COUNTIF(H$11:H$1048576,0) -> 0 | G7: =COUNTIF(I$11:I$1048576,0) -> 0 | H7: =COUNTIF(K$11:K$1048576,0) -> 0 | I7: =COUNTIF(L$11:L$1048576,0) -> 0 | J7: =COUNTIF(E$11:E$1048576,0) -> 0 | K7: =COUNTIF(F$11:F$1048576,0) -> 0 | P7: Exceptions | Q7: =COUNTIF(O$11:O$1048576,0) -> 0 | R7: =COUNTIF(P$11:P$1048576,0) -> 0 | S7: =COUNTIF(R$11:R$1048576,0) -> 0 | T7: =COUNTIF(S$11:S$1048576,0) -> 0 | U7: =+SUM(Tabla22[[#This Row],[L1]:[S2]]) -> 0 | X7: Exceptions | Y7: =COUNTIF(U$11:U$1048576,0) -> 0 | Z7: =COUNTIF(V$11:V$1048576,0) -> 0 | AA7: =COUNTIF(W$11:W$1048576,0) -> 0 | AH7: Double GAP | AI7: {=+SUMPRODUCT(($E$3:$E$8 = AI$2)*($F$2:$K$2=$AH7)*($F$3:$K$8))} -> 26 | AJ7: {=+SUMPRODUCT(($E$3:$E$8 = AJ$2)*($F$2:$K$2=$AH7)*($F$3:$K$8))} -> 26 | AK7: {=+SUMPRODUCT(($E$3:$E$8 = AK$2)*($F$2:$K$2=$AH7)*($F$3:$K$8))} -> 0 | AL7: {=+SUMPRODUCT(($E$3:$E$8 = AL$2)*($F$2:$K$2=$AH7)*($F$3:$K$8))} -> 0 | AM7: {=+SUMPRODUCT(($E$3:$E$8 = AM$2)*($F$2:$K$2=$AH7)*($F$3:$K$8))} -> 0 | AN7: {=+SUMPRODUCT(($E$3:$E$8 = AN$2)*($F$2:$K$2=$AH7)*($F$3:$K$8))} -> 1 | AP7: Setup1 | AQ7: {=+SUMPRODUCT(($P$3:$P$8 = AQ$2)*($Q$2:$V$2=$AP7)*($Q$3:$V$8))} -> 32 | AR7: {=+SUMPRODUCT(($P$3:$P$8 = AR$2)*($Q$2:$V$2=$AP7)*($Q$3:$V$8))} -> 24 | AS7: {=+SUMPRODUCT(($P$3:$P$8 = AS$2)*($Q$2:$V$2=$AP7)*($Q$3:$V$8))} -> 1 | AT7: {=+SUMPRODUCT(($P$3:$P$8 = AT$2)*($Q$2:$V$2=$AP7)*($Q$3:$V$8))} -> 7 | AU7: {=+SUMPRODUCT(($P$3:$P$8 = AU$2)*($Q$2:$V$2=$AP7)*($Q$3:$V$8))} -> 0 | AV7: {=+SUMPRODUCT(($P$3:$P$8 = AV$2)*($Q$2:$V$2=$AP7)*($Q$3:$V$8))} -> 0.75 | BA7: Nº Operaciones Perdedoras | BB7: 0 | BC7: 1 | BD7: 21 | BE7: 14 | BF7: 7 | BG7: 7 | BH7: 2 | BI7: 0 | BJ7: 1 | BK7: 6 | BM7: =+SUM(BB7:BK7) -> 59
E8: Win ratio | F8: =+F4/(F3-F7) -> 0.67142857 | G8: =+G4/(G3-G7) -> 0.6875 | H8: =+H4/(H3-H7) -> 0.73684211 | I8: =+I4/(I3-I7) -> 0.77272727 | J8: =+J4/(J3-J7) -> 1 | K8: =+K4/(K3-K7) -> 0.81818182 | P8: Win ratio | Q8: =+Q4/(Q3-Q7) -> 1 | R8: =+R4/(R3-R7) -> 0.75 | S8: =+S4/(S3-S7) -> 0.72727273 | T8: =+T4/(T3-T7) -> 0.625 | U8: =+U4/(U3-U7) -> 0.75 | X8: Win ratio | Y8: =+Y4/(Y3-Y7) -> 1 | Z8: =+Z4/(Z3-Z7) -> 0.88 | AA8: =+AA4/(AA3-AA7) -> 0.90540541 | AH8: Wide GAP | AI8: {=+SUMPRODUCT(($E$3:$E$8 = AI$2)*($F$2:$K$2=$AH8)*($F$3:$K$8))} -> 11 | AJ8: {=+SUMPRODUCT(($E$3:$E$8 = AJ$2)*($F$2:$K$2=$AH8)*($F$3:$K$8))} -> 9 | AK8: {=+SUMPRODUCT(($E$3:$E$8 = AK$2)*($F$2:$K$2=$AH8)*($F$3:$K$8))} -> 1 | AL8: {=+SUMPRODUCT(($E$3:$E$8 = AL$2)*($F$2:$K$2=$AH8)*($F$3:$K$8))} -> 1 | AM8: {=+SUMPRODUCT(($E$3:$E$8 = AM$2)*($F$2:$K$2=$AH8)*($F$3:$K$8))} -> 0 | AN8: {=+SUMPRODUCT(($E$3:$E$8 = AN$2)*($F$2:$K$2=$AH8)*($F$3:$K$8))} -> 0.81818182 | BA8: Ganancia Acumulada | BB8: =SUMIF(BB11:BB10000,">0") -> 1465 | BC8: =SUMIF(BC11:BC10000,">0") -> 540 | BD8: =SUMIF(BD11:BD10000,">0") -> 1670 | BE8: =SUMIF(BE11:BE10000,">0") -> 1175 | BF8: =SUMIF(BF11:BF10000,">0") -> 740 | BG8: =SUMIF(BG11:BG10000,">0") -> 410 | BH8: =SUMIF(BH11:BH10000,">0") -> 545 | BI8: =SUMIF(BI11:BI10000,">0") -> 640 | ... BK8: =SUMIF(BK11:BK10000,">0") -> 3635 | BM8: =+SUM(BB8:BK8) -> 11560
O9: SETUP1 | BA9: Pérdida Acumulada | BB9: =SUMIF(BB11:BB10000,"<0") -> 0 | BC9: =SUMIF(BC11:BC10000,"<0") -> -85 | BD9: =SUMIF(BD11:BD10000,"<0") -> -965 | BE9: =SUMIF(BE11:BE10000,"<0") -> -555 | BF9: =SUMIF(BF11:BF10000,"<0") -> -240 | BG9: =SUMIF(BG11:BG10000,"<0") -> -265 | BH9: =SUMIF(BH11:BH10000,"<0") -> -145 | BI9: =SUMIF(BI11:BI10000,"<0") -> 0 | ... BK9: =SUMIF(BK11:BK10000,"<0") -> -450 | BM9: =+SUM(BB9:BK9) -> -2755
B10: Round VDAX-new | C10: date | D10: vdax-new (day before) | E10: Doble GAP | F10: Wide GAP | G10: Monster GAP | H10: L1 | I10: L2 | J10: LS | K10: S1 | L10: S2 | M10: SS | O10: L1 | P10: L2 | Q10: LS | R10: S1 | S10: S2 | T10: SS | U10: SETUP2 | V10: SETUP3 | W10: SETUP4 | X10: SETUP5 | Y10: Comments | AA10: Desempleo | AB10: FED | AC10: BCE | AD10: Inflación | BB10: Doble GAP | BC10: Wide GAP | BD10: L1 | BE10: S1 | BF10: L2 | BG10: S2 | BH10: SETUP 1 | BI10: SETUP 2 | BJ10: SETUP 3 | BK10: SETUP 4
A11: =+COUNTIF(E11:X11,3) -> 0 | B11: =VLOOKUP(INT(D11),$AE$14:$AE$30,1,1) -> 20 | C11: 44774 | D11: 23.81 | F11: 1 | W11: 1 | BC11: 40 | BK11: =40+30 -> 70
A12: =+COUNTIF(E12:X12,3) -> 0 | B12: =VLOOKUP(INT(D12),$AE$14:$AE$30,1,1) -> 20 | C12: 44775 | D12: 24.64 | H12: 1 | S12: 1 | W12: 1 | BD12: =25+25 -> 50 | BH12: 25 | BK12: =25+25 -> 50
A13: =+COUNTIF(E13:X13,3) -> 0 | B13: =VLOOKUP(INT(D13),$AE$14:$AE$30,1,1) -> 25 | C13: 44776 | D13: 25.35 | Y13: Setup 4 was not triggered because the dow was trading above 1% | AE13: Range VDAX-new | AF13: ="Sample Size = "&COUNT(C11:C1048576) -> Sample Size = 170 | BK13: -85
A14: =+COUNTIF(E14:X14,3) -> 1 | B14: =VLOOKUP(INT(D14),$AE$14:$AE$30,1,1) -> 20 | C14: 44777 | D14: 23.99 | K14: 3 | L14: 1 | M14: 1 | V14: 1 | AE14: 5 | AF14: =+COUNTIF($B$11:$B$1048576,AE14) -> 0 | BE14: -85 | BJ14: 25
A15: =+COUNTIF(E15:X15,3) -> 0 | B15: =VLOOKUP(INT(D15),$AE$14:$AE$30,1,1) -> 20 | C15: 44778 | D15: 23.85 | I15: 1 | W15: 1 | Y15: Unemployment EEUU Rate | AA15: 3 | AE15: 10 | AF15: =+COUNTIF($B$11:$B$1048576,AE15) -> 0 | BF15: =25+25 -> 50 | BK15: =25+25 -> 50 | BL15: =+SUM(BB11:BK15) -> 190
A16: =+COUNTIF(E16:X16,3) -> 0 | B16: =VLOOKUP(INT(D16),$AE$14:$AE$30,1,1) -> 20 | C16: 44781 | D16: 24.37 | K16: 1 | W16: 1 | AE16: 15 | AF16: =+COUNTIF($B$11:$B$1048576,AE16) -> 48 | BE16: 25 | BK16: 40
A17: =+COUNTIF(E17:X17,3) -> 1 | B17: =VLOOKUP(INT(D17),$AE$14:$AE$30,1,1) -> 20 | C17: 44782 | D17: 23.83 | H17: 3 | W17: 1 | AE17: 20 | AF17: =+COUNTIF($B$11:$B$1048576,AE17) -> 65 | BD17: -65 | BK17: 30
A18: =+COUNTIF(E18:X18,3) -> 0 | B18: =VLOOKUP(INT(D18),$AE$14:$AE$30,1,1) -> 20 | C18: 44783 | D18: 24.48 | H18: 1 | K18: 2 | Y18: Setup 4 was not triggered because the dow was trading above 1% | AD18: 1 | AE18: 25 | AF18: =+COUNTIF($B$11:$B$1048576,AE18) -> 46 | BD18: 25 | BE18: -10
A19: =+COUNTIF(E19:X19,3) -> 1 | B19: =VLOOKUP(INT(D19),$AE$14:$AE$30,1,1) -> 20 | C19: 44784 | D19: 23.14 | H19: 1 | V19: 3 | W19: 1 | AE19: 30 | AF19: =+COUNTIF($B$11:$B$1048576,AE19) -> 10 | BD19: 25 | BK19: 80
A20: =+COUNTIF(E20:X20,3) -> 1 | B20: =VLOOKUP(INT(D20),$AE$14:$AE$30,1,1) -> 20 | C20: 44785 | D20: 23.04 | K20: 3 | L20: 1 | AE20: 35 | AF20: =+COUNTIF($B$11:$B$1048576,AE20) -> 0 | BE20: -40 | BG20: 25 | BL20: =+SUM(BB16:BK20) -> 135 | BM20: =+BL20+BL15 -> 325
A21: =+COUNTIF(E21:X21,3) -> 1 | B21: =VLOOKUP(INT(D21),$AE$14:$AE$30,1,1) -> 20 | C21: 44788 | D21: 22.2 | H21: 3 | W21: 1 | AE21: 40 | AF21: =+COUNTIF($B$11:$B$1048576,AE21) -> 0 | BD21: -20 | BK21: 40
A22: =+COUNTIF(E22:X22,3) -> 0 | B22: =VLOOKUP(INT(D22),$AE$14:$AE$30,1,1) -> 20 | C22: 44789 | D22: 22.58 | K22: 1 | W22: 1 | AE22: 45 | AF22: =+COUNTIF($B$11:$B$1048576,AE22) -> 0 | BE22: 25 | BK22: 40
A23: =+COUNTIF(E23:X23,3) -> 2 | B23: =VLOOKUP(INT(D23),$AE$14:$AE$30,1,1) -> 20 | C23: 44790 | D23: 22.03 | H23: 3 | I23: 3 | J23: 1 | AE23: 50 | AF23: =+COUNTIF($B$11:$B$1048576,AE23) -> 0 | BD23: -85
A24: =+COUNTIF(E24:X24,3) -> 0 | B24: =VLOOKUP(INT(D24),$AE$14:$AE$30,1,1) -> 20 | C24: 44791 | D24: 24.38 | K24: 2 | L24: 1 | V24: 1 | AE24: 55 | AF24: =+COUNTIF($B$11:$B$1048576,AE24) -> 0 | BE24: -10 | BJ24: 25
A25: =+COUNTIF(E25:X25,3) -> 0 | B25: =VLOOKUP(INT(D25),$AE$14:$AE$30,1,1) -> 20 | C25: 44792 | D25: 24.56 | H25: 1 | AE25: 60 | AF25: =+COUNTIF($B$11:$B$1048576,AE25) -> 0 | BD25: 75 | BL25: =+SUM(BB21:BK25) -> 90 | BM25: =+BL25+BM20 -> 415
A26: =+COUNTIF(E26:X26,3) -> 0 | B26: =VLOOKUP(INT(D26),$AE$14:$AE$30,1,1) -> 25 | C26: 44795 | D26: 26.19 | H26: 1 | I26: 1 | J26: 1 | Y26: Setup 1 and 4 were not triggered because the dow was trading above 1% | AE26: 65 | AF26: =+COUNTIF($B$11:$B$1048576,AE26) -> 0 | BD26: 30
A27: =+COUNTIF(E27:X27,3) -> 0 | B27: =VLOOKUP(INT(D27),$AE$14:$AE$30,1,1) -> 25 | C27: 44796 | D27: 29.57 | H27: 1 | K27: 1 | V27: 1 | AE27: 70 | AF27: =+COUNTIF($B$11:$B$1048576,AE27) -> 0 | BD27: 30 | BE27: 30 | BJ27: 40
A28: =+COUNTIF(E28:X28,3) -> 0 | B28: =VLOOKUP(INT(D28),$AE$14:$AE$30,1,1) -> 25 | C28: 44797 | D28: 28.82 | H28: 1 | K28: 1 | W28: 1 | AE28: 75 | AF28: =+COUNTIF($B$11:$B$1048576,AE28) -> 0 | BD28: 30 | BE28: 30 | BK28: 40
A29: =+COUNTIF(E29:X29,3) -> 0 | B29: =VLOOKUP(INT(D29),$AE$14:$AE$30,1,1) -> 25 | C29: 44798 | D29: 27.32 | K29: 1 | L29: 1 | W29: 1 | AE29: 80 | AF29: =+COUNTIF($B$11:$B$1048576,AE29) -> 0 | BE29: 30 | BK29: 40
A30: =+COUNTIF(E30:X30,3) -> 1 | B30: =VLOOKUP(INT(D30),$AE$14:$AE$30,1,1) -> 25 | C30: 44799 | D30: 26.09 | H30: 3 | I30: 1 | AE30: 85 | AF30: =+COUNTIF($B$11:$B$1048576,AE30) -> 0 | BD30: -10 | BK30: -85 | BL30: =+SUM(BB26:BK30) -> 205 | BM30: =+BL30+BM25 -> 620
A31: =+COUNTIF(E31:X31,3) -> 0 | B31: =VLOOKUP(INT(D31),$AE$14:$AE$30,1,1) -> 25 | C31: 44802 | D31: 27.82 | E31: 1 | AH31: VDAX-new | AI31: L1 | AJ31: L2 | AK31: Long STOP | AL31: S1 | AM31: S2 | AN31: Short STOP | BB31: =40+40 -> 80
A32: =+COUNTIF(E32:X32,3) -> 1 | B32: =VLOOKUP(INT(D32),$AE$14:$AE$30,1,1) -> 25 | C32: 44803 | D32: 29.39 | E32: 1 | H32: 1 | L32: 3 | M32: 1 | U32: 1 | AH32: <20 | AI32: -40 | AJ32: -80 | AK32: -115 | AL32: 40 | AM32: 80 | AN32: 115 | BD32: -85 | BI32: 70
A33: =+COUNTIF(E33:X33,3) -> 3 | B33: =VLOOKUP(INT(D33),$AE$14:$AE$30,1,1) -> 25 | C33: 44804 | D33: 28.9 | F33: 3 | I33: 1 | J33: 1 | P33: 3 | Q33: 1 | V33: 3 | AE33: Inflacción | AH33: 20-25 | AI33: -50 | AJ33: -100 | AK33: -135 | AL33: 50 | AM33: 100 | AN33: 135 | BC33: -85 | BJ33: 40
A34: =+COUNTIF(E34:X34,3) -> 0 | B34: =VLOOKUP(INT(D34),$AE$14:$AE$30,1,1) -> 25 | C34: 44805 | D34: 28.65 | H34: 1 | W34: 1 | AE34: Desempleo | AH34: 25-30 | AI34: -55 | AJ34: -110 | AK34: -145 | AL34: 55 | AM34: 110 | AN34: 145 | BD34: 10
A35: =+COUNTIF(E35:X35,3) -> 0 | B35: =VLOOKUP(INT(D35),$AE$14:$AE$30,1,1) -> 25 | C35: 44806 | D35: 29.22 | AA35: 1 | AE35: FED | AH35: 30-35 | AI35: -100 | AJ35: -165 | AK35: -200 | AL35: 65 | AM35: 130 | AN35: 165 | BL35: =+SUM(BB31:BK35) -> 30 | BM35: =+BL35+BM30 -> 650
A36: =+COUNTIF(E36:X36,3) -> 0 | B36: =VLOOKUP(INT(D36),$AE$14:$AE$30,1,1) -> 25 | C36: 44809 | D36: 26.26 | G36: 1 | W36: 1 | AE36: BCE | BK36: 20
A37: =+COUNTIF(E37:X37,3) -> 0 | B37: =VLOOKUP(INT(D37),$AE$14:$AE$30,1,1) -> 25 | C37: 44810 | D37: 28.66 | K37: 1 | M37: 1 | U37: 1 | BG37: =30+30 -> 60 | BI37: =50+25 -> 75
A38: =+COUNTIF(E38:X38,3) -> 0 | B38: =VLOOKUP(INT(D38),$AE$14:$AE$30,1,1) -> 25 | C38: 44811 | D38: 28.11 | E38: 1 | V38: 1 | BB38: 70 | BJ38: 40
A39: =+COUNTIF(E39:X39,3) -> 0 | B39: =VLOOKUP(INT(D39),$AE$14:$AE$30,1,1) -> 25 | C39: 44812 | D39: 27.92 | E39: 1 | V39: 1 | Y39: Subida de tipos del BCE de 0.5 a 1.25 | AC39: 3 | BB39: 50 | BK39: 40
A40: =+COUNTIF(E40:X40,3) -> 1 | B40: =VLOOKUP(INT(D40),$AE$14:$AE$30,1,1) -> 25 | C40: 44813 | D40: 26.86 | K40: 3 | L40: 1 | M40: 1 | W40: 1 | BE40: -50 | BG40: 30 | BL40: =+SUM(BB36:BK40) -> 335 | BM40: =+BL40+BM35 -> 985
...

Sheet Data
B1: Origen: Investing | J1: Origen: Investing | R1: Origen: Investing | T1: 23.81 | AK1: 13484.05 | AL1: 13516
B2: DAX | C2: DE30 | D2: GDAXI | J2: FDAX | K2: DE30 - Futures | R2: VDAX-new | S2: V1XI | AC2: VDAX-new | AD2: FDAX | AE2: FDAX | AF2: FDAX | AG2: FDAX | AH2: FDAX | AI2: FDAX
B3: Date | C3: close | D3: open | E3: higher | F3: lower | G3: volume | H3: %var. | J3: Date | K3: close | L3: open | M3: higher | N3: lower | O3: volume | P3: %var. | R3: Date | S3: close | T3: open | U3: higher | V3: lower | W3: volume | X3: %var. | Z3: Contador | AC3: Volatility Range | AD3: Range | AE3: % Distancia al Maximo diario | AF3: % Distancia al Minimo diario | AG3: Maximo nº de puntos de subida diaria | AH3: Maximo número de puntos de bajada diaria | AI3: Número de puntos mínimos de reversión | AK3: DAX C vs FDAX C | AL3: FDAX C-1 vs FDAX O | AM3: Tendencia ?
B4: 44774 | C4: 13479.63 | D4: 13471.2 | E4: 13570.22 | F4: 13464.9 | G4: 57.23M | H4: -0.0003 | J4: 44774 | K4: 13495 | L4: 13478 | M4: 13566 | N4: 13414 | O4: 46.93K | P4: 0.0017 | R4: 44774 | S4: 24.64 | T4: 24.77 | U4: 24.97 | V4: 23.99 | X4: 0.0347 | Z4: 1 | AA4: =+IF(OR(AC4="",AB4=""),"",AC4&AB4) | AB4: =+IF(OR(N(Z4)=MAX($Z$4:$Z$365),N(Z4)>MAX($Z$4:$Z$365)-5),"last W",IF(OR(N(Z4)=MAX($Z$4:$Z$365)-5,N(Z4)>MAX($Z$4:$Z$365)-10),"W-1",IF(OR(N(Z4)=MAX($Z$4:$Z$365)-10,N(Z4)>MAX($Z$4:$Z$365)-15),"W-2",""))) | AC4: =+VLOOKUP(T1,Tablas!$C$5:$C$11,1,1) -> 20 | AD4: =+M4-N4 -> 152 | AE4: =+C4/E4-1 -> -0.0066756471 | AF4: =+K4/N4-1 -> 0.0060384673 | AG4: =+M4-L4 -> 88 | AH4: =+L4-N4 -> 64 | AI4: =+IF(AG4>=AH4,M4-K4,K4-N4) -> 71 | AK4: =+IF(AL1>=AK1,1,-1) -> 1 | AL4: =+IF(L4>=AL1,1,-1) -> -1 | AM4: =+IF(AND(AK4=1,AL4=1),1,IF(AND(AK4=-1,AL4=-1),-1,0)) -> 0
B5: 44775 | C5: 13449.2 | D5: 13419.19 | E5: 13484.55 | F5: 13335.39 | G5: 56.68M | H5: -0.0023 | J5: 44775 | K5: 13446 | L5: 13449 | M5: 13501 | N5: 13324 | O5: 52.14K | P5: -0.0036 | R5: 44775 | S5: 25.35 | T5: 25.85 | U5: 26.2 | V5: 25.07 | X5: 0.029 | Z5: =IF(AC5="","",Z4+1) -> 2 | AA5: =+IF(OR(AC5="",AB5=""),"",AC5&AB5) | AB5: =+IF(OR(N(Z5)=MAX($Z$4:$Z$365),N(Z5)>MAX($Z$4:$Z$365)-5),"last W",IF(OR(N(Z5)=MAX($Z$4:$Z$365)-5,N(Z5)>MAX($Z$4:$Z$365)-10),"W-1",IF(OR(N(Z5)=MAX($Z$4:$Z$365)-10,N(Z5)>MAX($Z$4:$Z$365)-15),"W-2",""))) | AC5: =IF(S5="","",VLOOKUP(S4,Tablas!$C$5:$C$11,1,1)) -> 20 | AD5: =IF(AC5="","",M5-N5) -> 177 | AE5: =IF(AC5="","",C5/E5-1) -> -0.0026215187 | AF5: =IF(AC5="","",K5/N5-1) -> 0.0091564095 | AG5: =IF(AC5="","",M5-L5) -> 52 | AH5: =IF(AC5="","",L5-N5) -> 125 | AI5: =IF(AC5="","",IF(AG5>=AH5,M5-K5,K5-N5)) -> 122 | AK5: =+IF(K4>=C4,1,-1) -> 1 | AL5: =+IF(L5>=K4,1,-1) -> -1 | AM5: =+IF(AND(AK5=1,AL5=1),1,IF(AND(AK5=-1,AL5=-1),-1,0)) -> 0
